BEGIN:VCALENDAR
VERSION:2.0
PRODID:-//Green-Wood - ECPv6.15.20//NONSGML v1.0//EN
CALSCALE:GREGORIAN
METHOD:PUBLISH
X-WR-CALNAME:Green-Wood
X-ORIGINAL-URL:https://www.green-wood.com
X-WR-CALDESC:Events for Green-Wood
REFRESH-INTERVAL;VALUE=DURATION:PT1H
X-Robots-Tag:noindex
X-PUBLISHED-TTL:PT1H
BEGIN:VTIMEZONE
TZID:America/New_York
BEGIN:DAYLIGHT
TZOFFSETFROM:-0500
TZOFFSETTO:-0400
TZNAME:EDT
DTSTART:20150308T070000
END:DAYLIGHT
BEGIN:STANDARD
TZOFFSETFROM:-0400
TZOFFSETTO:-0500
TZNAME:EST
DTSTART:20151101T060000
END:STANDARD
BEGIN:DAYLIGHT
TZOFFSETFROM:-0500
TZOFFSETTO:-0400
TZNAME:EDT
DTSTART:20160313T070000
END:DAYLIGHT
BEGIN:STANDARD
TZOFFSETFROM:-0400
TZOFFSETTO:-0500
TZNAME:EST
DTSTART:20161106T060000
END:STANDARD
BEGIN:DAYLIGHT
TZOFFSETFROM:-0500
TZOFFSETTO:-0400
TZNAME:EDT
DTSTART:20170312T070000
END:DAYLIGHT
BEGIN:STANDARD
TZOFFSETFROM:-0400
TZOFFSETTO:-0500
TZNAME:EST
DTSTART:20171105T060000
END:STANDARD
END:VTIMEZONE
BEGIN:VEVENT
DTSTART;TZID=America/New_York:20161112T130000
DTEND;TZID=America/New_York:20161112T150000
DTSTAMP:20260423T065822
CREATED:20160811T205402Z
LAST-MODIFIED:20160811T205402Z
UID:24347-1478955600-1478962800@www.green-wood.com
SUMMARY:The Gallant Samuel Sims Talk and Tour
DESCRIPTION: \nGreen-Wood’s historian\, Jeff Richman – author of the recently published The Gallant Samuel Sims – will discuss the life of Brooklyn native and Civil War hero Captain Samuel Sims\, and how the collections of papers and objects that tell his story miraculously were saved from a trash can in California and an old trunk in New York and wound up at Green-Wood.  Afterward\, Richman will lead a trolley tour exploring the cemetery’s rich Civil War history–including a visit to Captain Sims’s grave.  \nThis event has two parts\, with separate tickets for each part: \n\nThe free talk in the historic Green-Wood chapel. Reservations below strongly recommended.\nA guided trolley tour immediately following the talk\, $20 for members of Green-Wood and BHS/$25 for non-members. \n\nThe publication of this book is made possible through a generous grant from the Furthermore foundation. \nGreen-Wood trolley tours are fully accessible and ADA compliant. In order to accommodate a wheelchair or other mobility device on the trolley\, advance arrangements must be made. Please call (718) 210-3080\, ext. 1. Please note that portions of the tour take place outside the trolley and may require exiting the vehicle on multiple occasions. Historic Green-Wood structures\, like the Historic Chapel\, may not be fully accessible for some individuals. Please contact the Historic Fund for more information. \nClick here for our inclement weather policy. \nMobile users: Please tap here to buy tickets.\n \n\nNot a Member?\nClick here for all of our membership levels and information. \nAlready a Member?\nClick the “Enter promotional code here (members\, use your ID#)” link in the bottom right corner of the ticket box and enter your ID number to apply your ticket discount. Please note that the Senior\, Individual and Student membership levels are limited to only one Member Ticket per event (for additional tickets\, please purchase at the regular price). \nQuestions?\nDon’t know your Member ID number? Not sure which ticket or membership type to order? Call 718-210-3080 or email contactus@green-wood.com with any questions.
URL:https://www.green-wood.com/event/the-gallant-samuel-sims-talk-and-tour/
CATEGORIES:Special Event,Trolley Tour
ATTACH;FMTTYPE=:
END:VEVENT
END:VCALENDAR