BEGIN:VCALENDAR
VERSION:2.0
PRODID:-//Green-Wood - ECPv6.15.20//NONSGML v1.0//EN
CALSCALE:GREGORIAN
METHOD:PUBLISH
X-WR-CALNAME:Green-Wood
X-ORIGINAL-URL:https://www.green-wood.com
X-WR-CALDESC:Events for Green-Wood
REFRESH-INTERVAL;VALUE=DURATION:PT1H
X-Robots-Tag:noindex
X-PUBLISHED-TTL:PT1H
BEGIN:VTIMEZONE
TZID:America/New_York
BEGIN:DAYLIGHT
TZOFFSETFROM:-0500
TZOFFSETTO:-0400
TZNAME:EDT
DTSTART:20180311T070000
END:DAYLIGHT
BEGIN:STANDARD
TZOFFSETFROM:-0400
TZOFFSETTO:-0500
TZNAME:EST
DTSTART:20181104T060000
END:STANDARD
BEGIN:DAYLIGHT
TZOFFSETFROM:-0500
TZOFFSETTO:-0400
TZNAME:EDT
DTSTART:20190310T070000
END:DAYLIGHT
BEGIN:STANDARD
TZOFFSETFROM:-0400
TZOFFSETTO:-0500
TZNAME:EST
DTSTART:20191103T060000
END:STANDARD
BEGIN:DAYLIGHT
TZOFFSETFROM:-0500
TZOFFSETTO:-0400
TZNAME:EDT
DTSTART:20200308T070000
END:DAYLIGHT
BEGIN:STANDARD
TZOFFSETFROM:-0400
TZOFFSETTO:-0500
TZNAME:EST
DTSTART:20201101T060000
END:STANDARD
END:VTIMEZONE
BEGIN:VEVENT
DTSTART;TZID=America/New_York:20191008T180000
DTEND;TZID=America/New_York:20191008T210000
DTSTAMP:20260424T063313
CREATED:20190314T134012Z
LAST-MODIFIED:20190314T134012Z
UID:10033049-1570557600-1570568400@www.green-wood.com
SUMMARY:Pergolesi: Stabat Mater
DESCRIPTION:The Long Story\nThe Stabat Mater is a medieval poem that describes the suffering of Jesus’s mother Mary as she stands at the foot of the cross. Pergolesi’s setting of the text is among the most haunting and gut wrenching compositions ever put to paper. At one point\, the piece asks us if it’s possible to watch someone else suffer so deeply\, and not somehow share in their sorrow. It stands as one of the purest musical depictions of empathy\, and a powerful reminder that – no matter what pain we may feel in the moment – we’re never truly alone in our sadness. Performed by the String Orchestra of Brooklyn\, the program will also feature Barber’s wrenching Adagio for Strings\, and Arvo Pärt’s slow-burning Fratres\, and if that all wasn’t enough – the entire performance will feature wall-to-ceiling film projections up and down the catacombs. \n \nThe Short Story\nThis is profound\, cathartic music\, and we can think of no more powerful way to close Season 2 of The Angel’s Share than by offering an audio-visual experience unlike any other. \n \n$80 for members of Green-Wood and BHS / $85 for non-members \n \nThe Angel’s Share\, a new series of opera and chamber music concerts\, takes place in Green-Wood’s Catacombs. One of the oldest structures in the 478-acre National Historic Landmark Cemetery\, the Catacombs were built in the 1850s and are normally closed to the public. The series takes its name from the distiller’s term for whiskey that evaporates while maturing in the barrel\, thus going to the angels. \n \nEach performance includes a pre-concert reception at sunset overlooking New York harbor and the Manhattan skyline. \n \nPLEASE NOTE: Ticketholders must be 21 years or older. \n \nClick here for our inclement weather policy. \n \nMobile users: Please tap here to buy tickets.\n \n\nNot a Member?\nClick here for all of our membership levels and information. \nAlready a Member?\nClick the “Enter promotional code here (members\, use your ID#)” link in the bottom right corner of the ticket box and enter your ID number to apply your ticket discount. Please note that the Senior\, Individual and Student membership levels are limited to only one Member Ticket per event (for additional tickets\, please purchase at the regular price). \nQuestions?\nDon’t know your Member ID number? Not sure which ticket or membership type to order? Call 718-210-3080 or email contactus@green-wood.com with any questions.
URL:https://www.green-wood.com/event/pergolesi-stabat-mater/2019-10-08/
CATEGORIES:Special Event,The Angel's Share
ATTACH;FMTTYPE=:
END:VEVENT
END:VCALENDAR