BEGIN:VCALENDAR
VERSION:2.0
PRODID:-//Green-Wood - ECPv6.15.20//NONSGML v1.0//EN
CALSCALE:GREGORIAN
METHOD:PUBLISH
X-WR-CALNAME:Green-Wood
X-ORIGINAL-URL:https://www.green-wood.com
X-WR-CALDESC:Events for Green-Wood
REFRESH-INTERVAL;VALUE=DURATION:PT1H
X-Robots-Tag:noindex
X-PUBLISHED-TTL:PT1H
BEGIN:VTIMEZONE
TZID:America/New_York
BEGIN:DAYLIGHT
TZOFFSETFROM:-0500
TZOFFSETTO:-0400
TZNAME:EDT
DTSTART:20160313T070000
END:DAYLIGHT
BEGIN:STANDARD
TZOFFSETFROM:-0400
TZOFFSETTO:-0500
TZNAME:EST
DTSTART:20161106T060000
END:STANDARD
BEGIN:DAYLIGHT
TZOFFSETFROM:-0500
TZOFFSETTO:-0400
TZNAME:EDT
DTSTART:20170312T070000
END:DAYLIGHT
BEGIN:STANDARD
TZOFFSETFROM:-0400
TZOFFSETTO:-0500
TZNAME:EST
DTSTART:20171105T060000
END:STANDARD
BEGIN:DAYLIGHT
TZOFFSETFROM:-0500
TZOFFSETTO:-0400
TZNAME:EDT
DTSTART:20180311T070000
END:DAYLIGHT
BEGIN:STANDARD
TZOFFSETFROM:-0400
TZOFFSETTO:-0500
TZNAME:EST
DTSTART:20181104T060000
END:STANDARD
END:VTIMEZONE
BEGIN:VEVENT
DTSTART;TZID=America/New_York:20170926T183000
DTEND;TZID=America/New_York:20170926T203000
DTSTAMP:20260423T051226
CREATED:20170807T204113Z
LAST-MODIFIED:20170807T204113Z
UID:26590-1506450600-1506457800@www.green-wood.com
SUMMARY:Obit
DESCRIPTION: \n \n \n \nIt’s a shame no one wants to talk to them at parties\, because obituary writers are a surprisingly funny bunch. Ten hours before newspapers hit neighborhood doorsteps—and these days\, ten minutes before news hits the web—an obit writer is racing against deadline to sum up a long and newsworthy life in under 1000 words. The details of these lives are then deposited into the cultural memory amid the daily beat of war\, politics\, and football scores.  \n \nJoin Green-Wood for a special screening of Obit in the Historic Chapel and a Q&A with director Vanessa Gould and former The New York Times obituary writer Doug Martin.   \n \n$10 for members of Green-Wood and BHS / $15 for non-members \n \nClick here for our inclement weather policy. \n \nMobile users: Please tap here to buy tickets.\n \n \n \n \n \n \n \n \n \n \n \n \n\nNot a Member?\nClick here for all of our membership levels and information. \nAlready a Member?\nClick the “Enter promotional code here (members\, use your ID#)” link in the bottom right corner of the ticket box and enter your ID number to apply your ticket discount. Please note that the Senior\, Individual and Student membership levels are limited to only one Member Ticket per event (for additional tickets\, please purchase at the regular price). \nQuestions?\nDon’t know your Member ID number? Not sure which ticket or membership type to order? Call 718-210-3080 or email contactus@green-wood.com with any questions.
URL:https://www.green-wood.com/event/obit/
CATEGORIES:Special Event
ATTACH;FMTTYPE=:
END:VEVENT
END:VCALENDAR