BEGIN:VCALENDAR
VERSION:2.0
PRODID:-//Green-Wood - ECPv6.15.20//NONSGML v1.0//EN
CALSCALE:GREGORIAN
METHOD:PUBLISH
X-WR-CALNAME:Green-Wood
X-ORIGINAL-URL:https://www.green-wood.com
X-WR-CALDESC:Events for Green-Wood
REFRESH-INTERVAL;VALUE=DURATION:PT1H
X-Robots-Tag:noindex
X-PUBLISHED-TTL:PT1H
BEGIN:VTIMEZONE
TZID:America/New_York
BEGIN:DAYLIGHT
TZOFFSETFROM:-0500
TZOFFSETTO:-0400
TZNAME:EDT
DTSTART:20200308T070000
END:DAYLIGHT
BEGIN:STANDARD
TZOFFSETFROM:-0400
TZOFFSETTO:-0500
TZNAME:EST
DTSTART:20201101T060000
END:STANDARD
BEGIN:DAYLIGHT
TZOFFSETFROM:-0500
TZOFFSETTO:-0400
TZNAME:EDT
DTSTART:20210314T070000
END:DAYLIGHT
BEGIN:STANDARD
TZOFFSETFROM:-0400
TZOFFSETTO:-0500
TZNAME:EST
DTSTART:20211107T060000
END:STANDARD
BEGIN:DAYLIGHT
TZOFFSETFROM:-0500
TZOFFSETTO:-0400
TZNAME:EDT
DTSTART:20220313T070000
END:DAYLIGHT
BEGIN:STANDARD
TZOFFSETFROM:-0400
TZOFFSETTO:-0500
TZNAME:EST
DTSTART:20221106T060000
END:STANDARD
END:VTIMEZONE
BEGIN:VEVENT
DTSTART;TZID=America/New_York:20211113T100000
DTEND;TZID=America/New_York:20211113T120000
DTSTAMP:20260425T104738
CREATED:20210809T145032Z
LAST-MODIFIED:20210816T051451Z
UID:45600-1636797600-1636804800@www.green-wood.com
SUMMARY:Murder\, Mayhem\, and Disaster
DESCRIPTION:It may surprise you to hear that serene\, beautiful Green-Wood is the final resting place for many victims who met brutal\, violent ends. Join veteran tour guide Ruth Edebohls to hear some of their fascinating\, and mostly tragic\, tales\, including the sinking of the SS Morro Castle and possible murder of her captain; the Malbone Street Wreck\, the deadliest accident in New York City subway history; the murder of Evelina Bliss\, whose poisoning by arsenic-laden clam chowder sent shock waves through the Gilded Age; the devastating fire that befell the Brooklyn Theatre\, and many more. \n\n\n\n\n\n$30/ $25 for members. There are no paper or e-tickets! Attendees will be checked in by name. \n\n\n\n\n\n\n\nGet Tickets\nGet Tickets on Eventbrite\n\n\n\n\n\n\n\n\n\n\nLocation: Check-in takes place at the Historic Chapel at the Main Entrance at Fifth Avenue and 25th Street.Seating is limited. Trolley tours routinely sell out. We strongly suggest that you reserve tickets in advance to ensure a spot for your preferred day!\n\n\n\nGreen-Wood trolley tours are fully accessible and ADA compliant. In order to accommodate a wheelchair or other mobility aids on the trolley\, arrangements must be made in advance. Please call 718-210-3080\, ext. 1. Please note that portions of the tour take place outside the trolley\, however attendees may stay seated in the trolley if they wish. Please contact the Historic Fund for more information.  \n\n\n\nTrolley tours are run rain or shine\, with the exception of dangerous conditions as determined by Green-Wood. Click here for our inclement weather policy. \n\n\n\n\n\n\n\n\n\nNot a Member?\n\n\n\nClick here for all of our membership levels and information. \n\n\n\nAlready a Member?\n\n\n\nClick the gray tickets button to activate the Eventbrite pop-up\, then click Enter promo code. Type in your ID number and apply your discount. \n\n\n\nQuestions?\n\n\n\nDon’t know your Member ID number? Not sure which ticket or membership type to order? Call 718-210-3080 or email contactus@green-wood.com with any questions. \n\n\n\n\n\nMandatory Safety Protocols\n\n\n\n– Attendees MUST wear a face covering at all times on the trolley\, regardless of vaccine status. \n\n\n\n– Follow ALL instructions and guidance from Cemetery staff and ambassadors. \n\n\n\n– Travel Safely: Green-Wood recommends following all safety precautions while traveling to and from the Cemetery\, whether by foot\, mass transit\, or driving. If taking mass transit\, please check the MTA’s guidelines. \n\n\n\nFeeling Sick? Stay home if you are feeling sick or running a temperature. Please use good judgement if you have recently been exposed to someone with COVID-19. For more information about COVID-19\, please check the CDC website. \n\n\n\nGreen-Wood reserves the right to deny entry to any visitor who refuses to comply with the safety guidelines. \n\n\n\nIf you observe a situation or behavior that does not reflect these protocols\, please advise an ambassador or other staff member immediately. With everyone’s cooperation this will be a memorable and safe unique experience.
URL:https://www.green-wood.com/event/murder-mayhem-and-disaster/
ATTACH;FMTTYPE=image/jpeg:https://www.green-wood.com/wp-content/uploads/2021/08/MurderMayhem-featured.jpg
END:VEVENT
END:VCALENDAR