BEGIN:VCALENDAR
VERSION:2.0
PRODID:-//Green-Wood - ECPv6.15.20//NONSGML v1.0//EN
CALSCALE:GREGORIAN
METHOD:PUBLISH
X-WR-CALNAME:Green-Wood
X-ORIGINAL-URL:https://www.green-wood.com
X-WR-CALDESC:Events for Green-Wood
REFRESH-INTERVAL;VALUE=DURATION:PT1H
X-Robots-Tag:noindex
X-PUBLISHED-TTL:PT1H
BEGIN:VTIMEZONE
TZID:America/New_York
BEGIN:DAYLIGHT
TZOFFSETFROM:-0500
TZOFFSETTO:-0400
TZNAME:EDT
DTSTART:20150308T070000
END:DAYLIGHT
BEGIN:STANDARD
TZOFFSETFROM:-0400
TZOFFSETTO:-0500
TZNAME:EST
DTSTART:20151101T060000
END:STANDARD
BEGIN:DAYLIGHT
TZOFFSETFROM:-0500
TZOFFSETTO:-0400
TZNAME:EDT
DTSTART:20160313T070000
END:DAYLIGHT
BEGIN:STANDARD
TZOFFSETFROM:-0400
TZOFFSETTO:-0500
TZNAME:EST
DTSTART:20161106T060000
END:STANDARD
BEGIN:DAYLIGHT
TZOFFSETFROM:-0500
TZOFFSETTO:-0400
TZNAME:EDT
DTSTART:20170312T070000
END:DAYLIGHT
BEGIN:STANDARD
TZOFFSETFROM:-0400
TZOFFSETTO:-0500
TZNAME:EST
DTSTART:20171105T060000
END:STANDARD
END:VTIMEZONE
BEGIN:VEVENT
DTSTART;TZID=America/New_York:20160716T163000
DTEND;TZID=America/New_York:20160716T173000
DTSTAMP:20260422T181418
CREATED:20160711T193634Z
LAST-MODIFIED:20160711T193634Z
UID:24196-1468686600-1468690200@www.green-wood.com
SUMMARY:Honoring Basquait
DESCRIPTION:Join us for a walk to the monument of Jean-Michel Basquiat. The bucolic cemetery is an oasis in urban Brooklyn\, and Basquiat’s gravesite is a popular place for fans and artists to commemorate his life and give their thanks for his short but brilliant career. A tour to the site will be led by arts journalist and tour guide Allison Meier. \nFree. Reservations not required. 500 25th Street (at 5th Avenue)\, Brooklyn\, NY. \nClick here for our inclement weather policy.
URL:https://www.green-wood.com/event/honoring-basquait/
LOCATION:Green-Wood Cemetery\, 500 25th Street\, Brooklyn\, NY\, 11232\, United States
CATEGORIES:Special Event,Tour,Walking Tour
ATTACH;FMTTYPE=:
END:VEVENT
END:VCALENDAR