BEGIN:VCALENDAR
VERSION:2.0
PRODID:-//Green-Wood - ECPv6.15.20//NONSGML v1.0//EN
CALSCALE:GREGORIAN
METHOD:PUBLISH
X-WR-CALNAME:Green-Wood
X-ORIGINAL-URL:https://www.green-wood.com
X-WR-CALDESC:Events for Green-Wood
REFRESH-INTERVAL;VALUE=DURATION:PT1H
X-Robots-Tag:noindex
X-PUBLISHED-TTL:PT1H
BEGIN:VTIMEZONE
TZID:America/New_York
BEGIN:DAYLIGHT
TZOFFSETFROM:-0500
TZOFFSETTO:-0400
TZNAME:EDT
DTSTART:20110313T070000
END:DAYLIGHT
BEGIN:STANDARD
TZOFFSETFROM:-0400
TZOFFSETTO:-0500
TZNAME:EST
DTSTART:20111106T060000
END:STANDARD
BEGIN:DAYLIGHT
TZOFFSETFROM:-0500
TZOFFSETTO:-0400
TZNAME:EDT
DTSTART:20120311T070000
END:DAYLIGHT
BEGIN:STANDARD
TZOFFSETFROM:-0400
TZOFFSETTO:-0500
TZNAME:EST
DTSTART:20121104T060000
END:STANDARD
BEGIN:DAYLIGHT
TZOFFSETFROM:-0500
TZOFFSETTO:-0400
TZNAME:EDT
DTSTART:20130310T070000
END:DAYLIGHT
BEGIN:STANDARD
TZOFFSETFROM:-0400
TZOFFSETTO:-0500
TZNAME:EST
DTSTART:20131103T060000
END:STANDARD
END:VTIMEZONE
BEGIN:VEVENT
DTSTART;TZID=America/New_York:20121013T130000
DTEND;TZID=America/New_York:20121013T150059
DTSTAMP:20260423T191235
CREATED:20120828T194500Z
LAST-MODIFIED:20120828T194500Z
UID:6631-1350133200-1350140459@www.green-wood.com
SUMMARY:1 p.m. Green-Wood Unveils "Angel of Music"
DESCRIPTION: \n \n \nJoin us as we restore grandeur to the grave of Louis Moreau Gottschalk\, America’s first internationally recognized composer\nand virtuoso pianist. Green-Wood has dedicated many years to the restoration of this preeminent 19th-century musician’s final resting place and to the creation of a new Angel of Music to replace the one that once graced his monument. The new sculpture will be unveiled at Gottschalk’s gravesite\, with performances of his piano compositions and talks by Gottschalk scholars. A reception will follow in Green-Wood’s Historic Chapel. \nSpecial event: FREE. Reservations are encouraged but are not necessary. Please use the Eventbrite form below to place your reservation online.
URL:https://www.green-wood.com/event/green-wood-unveils-angel-of-music/
LOCATION:Green-Wood Cemetery\, 500 25th Street\, Brooklyn\, NY\, 11232\, United States
CATEGORIES:Special Event
END:VEVENT
END:VCALENDAR