BEGIN:VCALENDAR
VERSION:2.0
PRODID:-//Green-Wood - ECPv6.15.20//NONSGML v1.0//EN
CALSCALE:GREGORIAN
METHOD:PUBLISH
X-WR-CALNAME:Green-Wood
X-ORIGINAL-URL:https://www.green-wood.com
X-WR-CALDESC:Events for Green-Wood
REFRESH-INTERVAL;VALUE=DURATION:PT1H
X-Robots-Tag:noindex
X-PUBLISHED-TTL:PT1H
BEGIN:VTIMEZONE
TZID:America/New_York
BEGIN:DAYLIGHT
TZOFFSETFROM:-0500
TZOFFSETTO:-0400
TZNAME:EDT
DTSTART:20120311T070000
END:DAYLIGHT
BEGIN:STANDARD
TZOFFSETFROM:-0400
TZOFFSETTO:-0500
TZNAME:EST
DTSTART:20121104T060000
END:STANDARD
BEGIN:DAYLIGHT
TZOFFSETFROM:-0500
TZOFFSETTO:-0400
TZNAME:EDT
DTSTART:20130310T070000
END:DAYLIGHT
BEGIN:STANDARD
TZOFFSETFROM:-0400
TZOFFSETTO:-0500
TZNAME:EST
DTSTART:20131103T060000
END:STANDARD
BEGIN:DAYLIGHT
TZOFFSETFROM:-0500
TZOFFSETTO:-0400
TZNAME:EDT
DTSTART:20140309T070000
END:DAYLIGHT
BEGIN:STANDARD
TZOFFSETFROM:-0400
TZOFFSETTO:-0500
TZNAME:EST
DTSTART:20141102T060000
END:STANDARD
END:VTIMEZONE
BEGIN:VEVENT
DTSTART;TZID=America/New_York:20130713T080000
DTEND;TZID=America/New_York:20130713T100059
DTSTAMP:20260422T181830
CREATED:20130601T074603Z
LAST-MODIFIED:20130601T074603Z
UID:8862-1373702400-1373709659@www.green-wood.com
SUMMARY:8 a.m. Green-Wood Summer Yoga Series
DESCRIPTION:Photo by Robert Denbo\n \n \nSaturday\, June 29th\, Saturday\, July 13th and Saturday\, August 10th\n8:00 am to 10:00am \nJoin Barrie Raffel\, registered yoga teacher\, for an hour of active-but-gentle outdoor yoga that integrates the surroundings of Green-Wood in a subtle\, thoughtful way. Green-Wood’s rich history and quiet\, picturesque grounds allow a uniquely calming atmosphere to practice connecting our bodies to all our senses.  \nEnjoy a true respite from the hustle of the city. Bring a mat\, water\, washcloth or small towel and wear comfortable clothing. \nAfter the session\, stay for a short walk to one of Green-Wood’s stunning views for a relaxing breakfast picnic. Tea\, coffee and light snacks are generously provided by Baked In Brooklyn.  \n$20 for members of Green-Wood/$25 for nonmembers \nBarrie Raffel has a background in modern dancing and has been teaching yoga to all ages and experience levels since 1997. Barrie’s classes focus on breath and natural alignment for the individual. To learn more visit www.barrieraffelyoga.com. \nIn case of rain\, your yoga session will take place inside Green-Wood’s Historic Chapel. The meeting place – the main arches at 25th Street and 5th Avenue – will remain the same. \n(Inclement Weather Policy) \n \n \n \n \n\nNot a Member?\nGet a free ticket with a membership at left and purchase additional Member Discount Tickets if desired. Click here for all of our membership levels and information. \nAlready a Member?\nClick the “Enter promotional code here (members\, use your ID#)” link in the bottom right corner of the ticket box and enter your ID number to apply your ticket discount. Please note that the Senior\, Individual and Student membership levels are limited to only one Member Ticket per event (for additional tickets\, please purchase at the regular price). \nQuestions?\nDon’t know your Member ID number? Not sure which ticket or membership type to order? Call 718-210-3080 or email contactus@green-wood.com with any questions.
URL:https://www.green-wood.com/event/green-wood-summer-yoga-series-2/
LOCATION:Green-Wood Cemetery\, 500 25th Street\, Brooklyn\, NY\, 11232\, United States
CATEGORIES:Special Event
END:VEVENT
END:VCALENDAR