BEGIN:VCALENDAR
VERSION:2.0
PRODID:-//Green-Wood - ECPv6.15.20//NONSGML v1.0//EN
CALSCALE:GREGORIAN
METHOD:PUBLISH
X-WR-CALNAME:Green-Wood
X-ORIGINAL-URL:https://www.green-wood.com
X-WR-CALDESC:Events for Green-Wood
REFRESH-INTERVAL;VALUE=DURATION:PT1H
X-Robots-Tag:noindex
X-PUBLISHED-TTL:PT1H
BEGIN:VTIMEZONE
TZID:America/New_York
BEGIN:DAYLIGHT
TZOFFSETFROM:-0500
TZOFFSETTO:-0400
TZNAME:EDT
DTSTART:20150308T070000
END:DAYLIGHT
BEGIN:STANDARD
TZOFFSETFROM:-0400
TZOFFSETTO:-0500
TZNAME:EST
DTSTART:20151101T060000
END:STANDARD
BEGIN:DAYLIGHT
TZOFFSETFROM:-0500
TZOFFSETTO:-0400
TZNAME:EDT
DTSTART:20160313T070000
END:DAYLIGHT
BEGIN:STANDARD
TZOFFSETFROM:-0400
TZOFFSETTO:-0500
TZNAME:EST
DTSTART:20161106T060000
END:STANDARD
BEGIN:DAYLIGHT
TZOFFSETFROM:-0500
TZOFFSETTO:-0400
TZNAME:EDT
DTSTART:20170312T070000
END:DAYLIGHT
BEGIN:STANDARD
TZOFFSETFROM:-0400
TZOFFSETTO:-0500
TZNAME:EST
DTSTART:20171105T060000
END:STANDARD
END:VTIMEZONE
BEGIN:VEVENT
DTSTART;TZID=America/New_York:20161106T140000
DTEND;TZID=America/New_York:20161106T160000
DTSTAMP:20260424T081957
CREATED:20160811T204423Z
LAST-MODIFIED:20160811T204423Z
UID:24346-1478440800-1478448000@www.green-wood.com
SUMMARY:Almost Presidential Trolley Tour
DESCRIPTION:De Witt Clinton in Fall\, by Jeff Richman\n \n*Please note the new time above\, changed from 1pm to 2pm to accommodate NYC Marathon traffic. \n \nIn a presidential election there can only be one winner\, everyone else is just . . . a loser. On this last Sunday of the 2016 election cycle\, Green-Wood provides some historical perspective and insight into of the campaigns of yore. Hear of the ambitions and political upsets of presidential hopefuls\, including De Witt Clinton (who lost in 1812 to Madison)\, Horace Greeley (who lost in 1872 to Grant)\, as well as several obscure candidates with great stories of their own.   \n \n$20 for members of Green-Wood and BHS/$25 for non-members. \n \nGreen-Wood trolley tours are fully accessible and ADA compliant. In order to accommodate a wheelchair or other mobility device on the trolley\, advance arrangements must be made. Please call (718) 210-3080\, ext. 1. Please note that portions of the tour take place outside the trolley and may require exiting the vehicle on multiple occasions. Please contact the Historic Fund for more information. \n \nAll events will take place rain or shine. Click here for our inclement weather policy. \n \n \nMobile users: Please tap here to buy tickets.\n \n \n \n \n \n\nNot a Member?\nClick here for all of our membership levels and information. \nAlready a Member?\nClick the “Enter promotional code here (members\, use your ID#)” link in the bottom right corner of the ticket box and enter your ID number to apply your ticket discount. Please note that the Senior\, Individual and Student membership levels are limited to only one Member Ticket per event (for additional tickets\, please purchase at the regular price). \nQuestions?\nDon’t know your Member ID number? Not sure which ticket or membership type to order? Call 718-210-3080 or email contactus@green-wood.com with any questions.
URL:https://www.green-wood.com/event/almost-presidential-trolley-tour/
CATEGORIES:Tour,Trolley Tour
ATTACH;FMTTYPE=:
END:VEVENT
END:VCALENDAR