BEGIN:VCALENDAR
VERSION:2.0
PRODID:-//Green-Wood - ECPv6.15.20//NONSGML v1.0//EN
CALSCALE:GREGORIAN
METHOD:PUBLISH
X-WR-CALNAME:Green-Wood
X-ORIGINAL-URL:https://www.green-wood.com
X-WR-CALDESC:Events for Green-Wood
REFRESH-INTERVAL;VALUE=DURATION:PT1H
X-Robots-Tag:noindex
X-PUBLISHED-TTL:PT1H
BEGIN:VTIMEZONE
TZID:America/New_York
BEGIN:DAYLIGHT
TZOFFSETFROM:-0500
TZOFFSETTO:-0400
TZNAME:EDT
DTSTART:20120311T070000
END:DAYLIGHT
BEGIN:STANDARD
TZOFFSETFROM:-0400
TZOFFSETTO:-0500
TZNAME:EST
DTSTART:20121104T060000
END:STANDARD
BEGIN:DAYLIGHT
TZOFFSETFROM:-0500
TZOFFSETTO:-0400
TZNAME:EDT
DTSTART:20130310T070000
END:DAYLIGHT
BEGIN:STANDARD
TZOFFSETFROM:-0400
TZOFFSETTO:-0500
TZNAME:EST
DTSTART:20131103T060000
END:STANDARD
BEGIN:DAYLIGHT
TZOFFSETFROM:-0500
TZOFFSETTO:-0400
TZNAME:EDT
DTSTART:20140309T070000
END:DAYLIGHT
BEGIN:STANDARD
TZOFFSETFROM:-0400
TZOFFSETTO:-0500
TZNAME:EST
DTSTART:20141102T060000
END:STANDARD
END:VTIMEZONE
BEGIN:VEVENT
DTSTART;TZID=America/New_York:20130803T160000
DTEND;TZID=America/New_York:20130803T180059
DTSTAMP:20260422T223500
CREATED:20130601T090022Z
LAST-MODIFIED:20130601T090022Z
UID:8874-1375545600-1375552859@www.green-wood.com
SUMMARY:(Sold Out) 4 p.m. Cheers to Brooklyn Whiskey
DESCRIPTION: \n \n \nThis event is sold out. Click here to return to our full events calendar. \nDelve in to the past and present of distilling\, Brooklyn style. At the stunning Pierrepont memorial\, you’ll learn about Hezekiah Beers Pierrepont and his early-19th century downtown Brooklyn distillery\, plus other permanent residents with whiskey connections\, including the only casualty in the contentious Whiskey Wars of the mid-1800s.  \nAfter the tour\, climb aboard Green-Wood’s trolley and head to Kings County Distillery in the Brooklyn Navy Yard! They’ve been making gin and whiskey in their historic building since 2010. You’ll see how they create their modern whiskey before tasting some of the delectable product. \n$30 for members of the Historic Fund/$35 for nonmembers. Ticket price includes tour at both locations and tasting. \n(Inclement Weather Policy)
URL:https://www.green-wood.com/event/4-p-m-cheers-to-brooklyn-whiskey/
LOCATION:Green-Wood Cemetery\, 500 25th Street\, Brooklyn\, NY\, 11232\, United States
CATEGORIES:Tour,Trolley Tour
END:VEVENT
END:VCALENDAR