BEGIN:VCALENDAR
VERSION:2.0
PRODID:-//Green-Wood - ECPv6.15.20//NONSGML v1.0//EN
CALSCALE:GREGORIAN
METHOD:PUBLISH
X-ORIGINAL-URL:https://www.green-wood.com
X-WR-CALDESC:Events for Green-Wood
REFRESH-INTERVAL;VALUE=DURATION:PT1H
X-Robots-Tag:noindex
X-PUBLISHED-TTL:PT1H
BEGIN:VTIMEZONE
TZID:America/New_York
BEGIN:DAYLIGHT
TZOFFSETFROM:-0500
TZOFFSETTO:-0400
TZNAME:EDT
DTSTART:20190310T070000
END:DAYLIGHT
BEGIN:STANDARD
TZOFFSETFROM:-0400
TZOFFSETTO:-0500
TZNAME:EST
DTSTART:20191103T060000
END:STANDARD
BEGIN:DAYLIGHT
TZOFFSETFROM:-0500
TZOFFSETTO:-0400
TZNAME:EDT
DTSTART:20200308T070000
END:DAYLIGHT
BEGIN:STANDARD
TZOFFSETFROM:-0400
TZOFFSETTO:-0500
TZNAME:EST
DTSTART:20201101T060000
END:STANDARD
BEGIN:DAYLIGHT
TZOFFSETFROM:-0500
TZOFFSETTO:-0400
TZNAME:EDT
DTSTART:20210314T070000
END:DAYLIGHT
BEGIN:STANDARD
TZOFFSETFROM:-0400
TZOFFSETTO:-0500
TZNAME:EST
DTSTART:20211107T060000
END:STANDARD
END:VTIMEZONE
BEGIN:VEVENT
DTSTART;TZID=America/New_York:20201201T150000
DTEND;TZID=America/New_York:20201201T160000
DTSTAMP:20260421T112539
CREATED:20201119T211543Z
LAST-MODIFIED:20201119T212510Z
UID:10033137-1606834800-1606838400@www.green-wood.com
SUMMARY:The Lost Art of Dying
DESCRIPTION:Hosted by Columbia University Vagelos College of Physicians & Surgeons and The Green-Wood Cemetery \n\n\n\n\n\n\n\nWhat can medieval manuscripts teach us today about living and dying well? Join Columbia Univ. physician L.S. Dugdale as she explores these texts and speaks from her new book The Lost Art of Dying. \n\n\n\nFor more than 500 years\, the ‘ars moriendi’ or ‘art of dying’ genre of literature dominated living and dying in the West. These handbooks on the preparation for death spanned languages\, religions\, cultural contexts\, and continents. In her new book\, The Lost Art of Dying\, Dugdale asks what it might look like to revive this forgotten wisdom. How might we learn from the past in order to move toward a future in which we live well in order to die well? \n\n\n\nDr. L.S. Dugdale is a primary care physician and professor at Columbia University\, where she is Director of the Center for Clinical Medical Ethics. She has published widely in both the popular and academic press. Her first book\, Dying in the Twenty-First Century\, provides the scholarly foundation for her most recent book\, The Lost Art of Dying: Reviving Forgotten Wisdom.  \n\n\n\n\n\nDiscussion will be facilitated by Amy Cunningham\, Funeral Director and Death Educator at Green-Wood. \n\n\n\n\n\n\nRSVP (Free)
URL:https://www.green-wood.com/event/the-lost-art-of-dying/
ATTACH;FMTTYPE=image/jpeg:https://www.green-wood.com/wp-content/uploads/2020/11/lost-art-dying-featured.jpg
END:VEVENT
BEGIN:VEVENT
DTSTART;TZID=America/New_York:20201203T180000
DTEND;TZID=America/New_York:20201203T190000
DTSTAMP:20260421T112539
CREATED:20201109T183752Z
LAST-MODIFIED:20201126T182225Z
UID:10033106-1607018400-1607022000@www.green-wood.com
SUMMARY:On African American Death Practices Part II
DESCRIPTION:Death is the great equalizer\, right? Why then have funerary and burial practices been racially segregated in the United States for centuries? Why does death care continue to be one of the most segregated sectors of the American economy? This discussion uses these questions as a starting point to trace the evolution of African American funeral practices through key moments in history and continuing shifts. We will also discuss the current state of affairs and what it might suggest about the changing landscape of America’s death culture more broadly. In Part II we will focus our discussion on contemporary African American death practices. \n\n\n\nThe discussion will be led by University of Chicago doctoral candidate\, LaShaya Howie\, whose studies focus on contemporary death practices in the US; cultural histories of African American funerals and memorials; theories of Blackness and death; and materiality\, mourning\, and grief. \n\n\n\nThis program is presented as part of a new Death Education series at Green-Wood\, Death & Us. Death is the great universal\, but the ways in which the dead are grieved and memorialized vary across racial\, cultural\, and economic divides in the United States. This series brings together a myriad of voices—from historians and preservationists to activists and funeral practitioners—to explore how diverse communities mourn and commemorate the departed from our nation’s founding to today. \n\n\n\n\n\nFree. A Zoom link will be in your confirmation email upon registration. \n\n\n\n\n\n\n\nGet Tickets\nGet Tickets on Eventbrite
URL:https://www.green-wood.com/event/on-african-american-death-practices-part-ii/
ATTACH;FMTTYPE=image/jpeg:https://www.green-wood.com/wp-content/uploads/2020/11/death-practices-featured.jpg
END:VEVENT
BEGIN:VEVENT
DTSTART;TZID=America/New_York:20201206T071500
DTEND;TZID=America/New_York:20201206T084500
DTSTAMP:20260421T112539
CREATED:20201116T065326Z
LAST-MODIFIED:20210311T145146Z
UID:10033110-1607238900-1607244300@www.green-wood.com
SUMMARY:Birding in Peace
DESCRIPTION:Before our gates open to the general public\, birding expert Rob Jett leads these peaceful Sunday morning walking tours to discover the many birds that call Green-Wood home. \n\n\n\nJust because it’s winter\, doesn’t mean that there aren’t interesting birds to discover in Green-Wood. For some bird species that migrate south after the breeding season\, Brooklyn is their Miami during the cold months. Spend the early morning exploring the cemetery\, looking for overwintering waterfowl\, nuthatches\, woodpeckers\, sparrows\, finches and any half-hardy birds that decided to stick around. By February we’ll see some of the early north-bound birds beginning to trickle back into the area. \n\n\n\nAll walks are at a slow pace on easy to moderate terrain\, but proper\, close toed footwear is suggested. Green-Wood’s official birding checklist is available to pick up from the security guard at the Main Entrance on 25th Street or as a printable PDF here. \n\n\n\n\n\nTickets are $20/$15 for members. There are no paper or e-tickets. Attendees will be checked in by name. \n\n\n\n\n\n\n\nGet Tickets\nGet Tickets on Eventbrite\n\n\n\n\n\n\n\n\n\n\n \n\n\n\n\n\nCourtesy of Jennifer Kepler.\n\n\n\n\n\n\n\nNot a Member?\n\n\n\nClick here for all of our membership levels and information. \n\n\n\nAlready a Member?\n\n\n\nClick the gray tickets button to activate the Eventbrite pop-up\, then click Enter promo code. Type in your ID number and apply your discount. \n\n\n\nQuestions?\n\n\n\nDon’t know your Member ID number? Not sure which ticket or membership type to order? Call 718-210-3080 or email contactus@green-wood.com with any questions. \n\n\n\n\n\nMandatory Safety Protocols\n\n\n\n– Attendees must wear a face covering at all times and maintain at least a 6-foot distance from those not in their group. \n\n\n\n– Follow ALL instructions and guidance from Cemetery staff and ambassadors. \n\n\n\n– Travel Safely: Green-Wood recommends following all safety precautions while traveling to and from the Cemetery\, whether by foot\, mass transit\, or driving. If taking mass transit\, please check the MTA’s guidelines. \n\n\n\n– Feeling Sick? Stay home if you are feeling sick or running a temperature. Please use good judgement if you have recently been exposed to someone with COVID-19. For more information about COVID-19\, please check the CDC website. \n\n\n\n– Green-Wood reserves the right to deny entry to any visitor who refuses to comply with the safety guidelines. \n\n\n\nIf you observe a situation or behavior that does not reflect these protocols\, please advise an ambassador or other staff member immediately. With everyone’s cooperation this will be a memorable and safe unique experience.
URL:https://www.green-wood.com/event/birding-in-peace-winter-20/2020-12-06/
ATTACH;FMTTYPE=image/jpeg:https://www.green-wood.com/wp-content/uploads/2020/12/birding-kepler-crop.jpg
END:VEVENT
BEGIN:VEVENT
DTSTART;TZID=America/New_York:20201208T180000
DTEND;TZID=America/New_York:20201208T190000
DTSTAMP:20260421T112540
CREATED:20201109T183920Z
LAST-MODIFIED:20201116T092044Z
UID:10033107-1607450400-1607454000@www.green-wood.com
SUMMARY:History Happy Hour: Happily Never After—Part Two
DESCRIPTION:Love and death have inspired artists\, writers\, and philosophers for millennia. But where do they perfectly intertwine? At a cemetery! This time around\, you’ll hear more tales of the lovesick and heartbroken\, including tawdry details of dramatic–and doomed–affairs. Learn all about the tortured marriage of William and Regina Steinway\, the murder of Harvey Burdell\, Augustus Graham’s entanglement in a love triangle\, and more. \n\n\n\nWhile we can’t actually bring the bar or the drinks to you\, we can offer some history on tap! Bring your own beverage–why not try our recommended cocktail of the evening–and raise a glass to the past as we stay connected through our latest series\, History Happy Hour. \n\n\n\n\n\n$9 / $4 for members. A Zoom link and recipe will be in your confirmation email upon registration. \n\n\n\n\n\n\n\n\n\nBuy Tickets\nBuy Tickets on Eventbrite\n\n\n\n\n\n\n\n\n\n\nNot a Member?\n\n\n\nClick here for all of our membership levels and information. \n\n\n\nAlready a Member?\n\n\n\nClick the gray tickets button to activate the Eventbrite pop-up\, then click Enter promo code. Type in your ID number and apply your discount. \n\n\n\nQuestions?\n\n\n\nDon’t know your Member ID number? Not sure which ticket or membership type to order? Call 718-210-3080 or email contactus@green-wood.com with any questions.
URL:https://www.green-wood.com/event/history-happy-hour-happily-never-after-part-two/
ATTACH;FMTTYPE=image/jpeg:https://www.green-wood.com/wp-content/uploads/2020/11/happily-never-featured.jpg
END:VEVENT
BEGIN:VEVENT
DTSTART;TZID=America/New_York:20201209T180000
DTEND;TZID=America/New_York:20201209T190000
DTSTAMP:20260421T112540
CREATED:20201127T202737Z
LAST-MODIFIED:20201203T182937Z
UID:10033138-1607536800-1607540400@www.green-wood.com
SUMMARY:Pages from the Past: NYC's Greatest Diarist Dishes
DESCRIPTION:Everyone loves a little gossip\, right? And no one could dish it like George Templeton Strong. Once a well-connected lawyer and a trustee of both Trinity Church and Columbia College (but also a man who reflected the racial\, ethnic\, and religious prejudices of his time)\, he is now perhaps best known for the extensive private diary (never actually intended for publication) that he kept from 1835 until his death in 1875. Strong’s writings detail his frank observations of high society and the people of NYC who he knew intimately (many of whom wound up at Green-Wood)\, as well as his visits to the Cemetery. Matt Dellinger\, writer and student of history\, will join Green-Wood Historian Jeff Richman to discuss Strong’s candid observations and his unique insider’s view of history. \n\n\n\nMatt Dellinger has written for The New Yorker\, the Oxford American\, The New York Times\, and The Atlantic\, and has reported on transportation and planning for WNYC. He is the author of Interstate 69: The Unfinished History of the Last Great American Highway and is at work on his second book\, about Brooklyn in the Civil War. \n\n\n\nThis conversation is part of our series of virtual programs about the history of Green-Wood and its permanent residents\, Zooming in on History. \n\n\n\n\n\n$9 / $4 for members. A Zoom link and recipe will be in your confirmation email upon registration. \n\n\n\n\n\n\n\nGet Tickets\nGet Tickets on Eventbrite\n\n\n\n\n\n\n\n\n\n\nNot a Member?\n\n\n\nClick here for all of our membership levels and information. \n\n\n\nAlready a Member?\n\n\n\nClick the gray tickets button to activate the Eventbrite pop-up\, then click Enter promo code. Type in your ID number and apply your discount. \n\n\n\nQuestions?\n\n\n\nDon’t know your Member ID number? Not sure which ticket or membership type to order? Call 718-210-3080 or email contactus@green-wood.com with any questions.
URL:https://www.green-wood.com/event/pages-from-the-past-nycs-greatest-diarist-dishes/
ATTACH;FMTTYPE=image/jpeg:https://www.green-wood.com/wp-content/uploads/2020/11/Diarist-Dishes.jpg
END:VEVENT
BEGIN:VEVENT
DTSTART;TZID=America/New_York:20201210T180000
DTEND;TZID=America/New_York:20201210T190000
DTSTAMP:20260421T112540
CREATED:20201109T185317Z
LAST-MODIFIED:20201208T194028Z
UID:10033108-1607623200-1607626800@www.green-wood.com
SUMMARY:(Postponed) Death Cafe: Hot Pot Edition
DESCRIPTION:This event has been postponed. There are plans to reschedule it at a later date. Join our email list for the latest event and other news from Green-Wood. \n\n\n\nThis special edition of the popular Death Cafe is inspired by artist Heidi Lau. She will begin the evening discussing her art practice and the importance of hot pots in Chinese culture as an opportunity for nourishment\, conversation\, and reflection. Led by Death Cafe moderator\, Bethany Tabor\, participants will be encouraged to make their own hot pots (Don’t worry! Lau will send some how-to tips)\, while taking part in intimate group conversations about their thoughts and feelings on death. As always\, the Death Cafe is an opportunity for safe and open exchanges\, without an agenda. \n\n\n\nThis program is presented as part of a new Death Education series at Green-Wood\, Death & Us. Death is the great universal\, but the ways in which the dead are grieved and memorialized vary across racial\, cultural\, and economic divides in the United States. This series brings together a myriad of voices—from historians and preservationists to activists and funeral practitioners—to explore how diverse communities mourn and commemorate the departed from our nation’s founding to today.
URL:https://www.green-wood.com/event/death-cafe-hot-pot-edition/
ATTACH;FMTTYPE=image/jpeg:https://www.green-wood.com/wp-content/uploads/2020/11/hot-pot-featured.jpg
END:VEVENT
BEGIN:VEVENT
DTSTART;TZID=America/New_York:20201213T071500
DTEND;TZID=America/New_York:20201213T084500
DTSTAMP:20260421T112540
CREATED:20201116T065326Z
LAST-MODIFIED:20210311T145146Z
UID:10033111-1607843700-1607849100@www.green-wood.com
SUMMARY:Birding in Peace
DESCRIPTION:Before our gates open to the general public\, birding expert Rob Jett leads these peaceful Sunday morning walking tours to discover the many birds that call Green-Wood home. \n\n\n\nJust because it’s winter\, doesn’t mean that there aren’t interesting birds to discover in Green-Wood. For some bird species that migrate south after the breeding season\, Brooklyn is their Miami during the cold months. Spend the early morning exploring the cemetery\, looking for overwintering waterfowl\, nuthatches\, woodpeckers\, sparrows\, finches and any half-hardy birds that decided to stick around. By February we’ll see some of the early north-bound birds beginning to trickle back into the area. \n\n\n\nAll walks are at a slow pace on easy to moderate terrain\, but proper\, close toed footwear is suggested. Green-Wood’s official birding checklist is available to pick up from the security guard at the Main Entrance on 25th Street or as a printable PDF here. \n\n\n\n\n\nTickets are $20/$15 for members. There are no paper or e-tickets. Attendees will be checked in by name. \n\n\n\n\n\n\n\nGet Tickets\nGet Tickets on Eventbrite\n\n\n\n\n\n\n\n\n\n\n \n\n\n\n\n\nCourtesy of Jennifer Kepler.\n\n\n\n\n\n\n\nNot a Member?\n\n\n\nClick here for all of our membership levels and information. \n\n\n\nAlready a Member?\n\n\n\nClick the gray tickets button to activate the Eventbrite pop-up\, then click Enter promo code. Type in your ID number and apply your discount. \n\n\n\nQuestions?\n\n\n\nDon’t know your Member ID number? Not sure which ticket or membership type to order? Call 718-210-3080 or email contactus@green-wood.com with any questions. \n\n\n\n\n\nMandatory Safety Protocols\n\n\n\n– Attendees must wear a face covering at all times and maintain at least a 6-foot distance from those not in their group. \n\n\n\n– Follow ALL instructions and guidance from Cemetery staff and ambassadors. \n\n\n\n– Travel Safely: Green-Wood recommends following all safety precautions while traveling to and from the Cemetery\, whether by foot\, mass transit\, or driving. If taking mass transit\, please check the MTA’s guidelines. \n\n\n\n– Feeling Sick? Stay home if you are feeling sick or running a temperature. Please use good judgement if you have recently been exposed to someone with COVID-19. For more information about COVID-19\, please check the CDC website. \n\n\n\n– Green-Wood reserves the right to deny entry to any visitor who refuses to comply with the safety guidelines. \n\n\n\nIf you observe a situation or behavior that does not reflect these protocols\, please advise an ambassador or other staff member immediately. With everyone’s cooperation this will be a memorable and safe unique experience.
URL:https://www.green-wood.com/event/birding-in-peace-winter-20/2020-12-13/
ATTACH;FMTTYPE=image/jpeg:https://www.green-wood.com/wp-content/uploads/2020/12/birding-kepler-crop.jpg
END:VEVENT
BEGIN:VEVENT
DTSTART;TZID=America/New_York:20201216T180000
DTEND;TZID=America/New_York:20201216T190000
DTSTAMP:20260421T112540
CREATED:20201127T203920Z
LAST-MODIFIED:20201215T212654Z
UID:10033139-1608141600-1608145200@www.green-wood.com
SUMMARY:Traces of Tiffany: Gravestones Designed by Tiffany Studios
DESCRIPTION:Louis Comfort Tiffany was one of the most prolific and talented designers of the Gilded Age. You’ve probably heard his name associated with Tiffany lamps or Tiffany stained glass\, but few people know that this remarkable and multi-talented artist was also in the gravestone business. In fact\, his studio designed hundreds of cemetery monuments—sixty of which have been identified at Green-Wood alone. Join Lindsy Parrott\, the director and curator of The Neustadt Collection of Tiffany Glass\, and Green-Wood Historian Jeff Richman\, for a virtual tour of the richest and most interesting gravestones designed by Tiffany—including his own monument at Green-Wood. \n\n\n\nThis conversation is part of our series of virtual programs about the history of Green-Wood and its permanent residents\, Zooming in on History. \n\n\n\n\n\n$9 / $4 for members. A Zoom link will be in your confirmation email upon registration. \n\n\n\n\n\n\n\nGet Tickets\nGet Tickets on Eventbrite\n\n\n\n\n\n\n\n\n\n\nNot a Member?\n\n\n\nClick here for all of our membership levels and information. \n\n\n\nAlready a Member?\n\n\n\nClick the gray tickets button to activate the Eventbrite pop-up\, then click Enter promo code. Type in your ID number and apply your discount. \n\n\n\nQuestions?\n\n\n\nDon’t know your Member ID number? Not sure which ticket or membership type to order? Call 718-210-3080 or email contactus@green-wood.com with any questions.
URL:https://www.green-wood.com/event/traces-of-tiffany-gravestones-designed-by-tiffany-studios/
ATTACH;FMTTYPE=image/jpeg:https://www.green-wood.com/wp-content/uploads/2020/11/TracesofTiffany.jpg
END:VEVENT
BEGIN:VEVENT
DTSTART;TZID=America/New_York:20201217T183000
DTEND;TZID=America/New_York:20201217T200000
DTSTAMP:20260421T112540
CREATED:20170803T202556Z
LAST-MODIFIED:20170803T202556Z
UID:10032488-1608229800-1608235200@www.green-wood.com
SUMMARY:Death Café
DESCRIPTION:The Death Café is inspired by the centuries-old European salon (or café)\, an informal gathering to discuss philosophical\, political or scientific ideas. In 2011\, British entrepreneur Jon Underwood brought this concept to discussions of the most universal topic of all: death. Underwood’s intention was to provide an opportunity to “increase awareness of death with a view to helping people make the most of their lives.” Today\, there are over 4\,400 Death Cafes in 26 countries around the world. \nGreen-Wood is proud to host monthly gatherings of the Death Café here in our beautiful\, modern chapel. Amy Cunningham\, death educator and creator of the Brooklyn-based blog TheInspiredFuneral.com\, invites participants to share their thoughts and feelings on death. It’s an opportunity for safe and open exchanges\, without an agenda. Tea and light snacks are provided. \n“A place for people to discuss our inevitable fate.” – Gothamist \n“It’s a reversal for American culture\, which for a long time has shied away from these conversations.” – Village Voice \n“[E]ncouraging people to talk about death more freely and naturally.” – Haaretz \nFree to attend\, RSVP recommended. Please register using the Eventbrite box below. \nThis program takes place in our Modern Chapel just to the right after passing through the Gothic Arches at the main entrance. All events will take place rain or shine. Click here for our inclement weather policy. \n \nMobile users: Please tap here for free registration.\n 
URL:https://www.green-wood.com/event/death-cafe-fall/2020-12-17/
LOCATION:Green-Wood Cemetery\, 500 25th Street\, Brooklyn\, NY\, 11232\, United States
CATEGORIES:Special Event
ATTACH;FMTTYPE=:
END:VEVENT
BEGIN:VEVENT
DTSTART;TZID=America/New_York:20201223T180000
DTEND;TZID=America/New_York:20201223T190000
DTSTAMP:20260421T112540
CREATED:20201127T204922Z
LAST-MODIFIED:20201215T212717Z
UID:10033140-1608746400-1608750000@www.green-wood.com
SUMMARY:Amusing the Masses on Coney Island and Beyond: The Story of William F. Mangels
DESCRIPTION:In its heyday\, Coney Island’s amusement parks drew massive crowds excited to take a spin on flashy modern rides. This is due in no small part to the genius of William F. Mangels\, whose business designed and manufactured some of the most iconic rides of the era\, including “The Whip\,” carousels with galloping horses\, and “The Tickler\,” as well as elaborate shooting galleries\, that entertained generations around the world. Green-Wood’s historian Jeff Richman is joined by Lisa Mangels Schaefer\, Mangels’ granddaughter\, who will illuminate the extraordinary legacy of the remarkable and innovative family business. \n\n\n\nThis conversation is part of our series of virtual programs about the history of Green-Wood and its permanent residents\, Zooming in on History. \n\n\n\n\n\n$9 / $4 for members. A Zoom link will be in your confirmation email upon registration. \n\n\n\n\n\n\n\nGet Tickets\nGet Tickets on Eventbrite\n\n\n\n\n\n\n\n\n\n\nNot a Member?\n\n\n\nClick here for all of our membership levels and information. \n\n\n\nAlready a Member?\n\n\n\nClick the gray tickets button to activate the Eventbrite pop-up\, then click Enter promo code. Type in your ID number and apply your discount. \n\n\n\nQuestions?\n\n\n\nDon’t know your Member ID number? Not sure which ticket or membership type to order? Call 718-210-3080 or email contactus@green-wood.com with any questions.
URL:https://www.green-wood.com/event/amusing-the-masses-on-coney-island-and-beyond-the-story-of-william-f-mangels/
ATTACH;FMTTYPE=image/jpeg:https://www.green-wood.com/wp-content/uploads/2020/11/Mangels.jpg
END:VEVENT
BEGIN:VEVENT
DTSTART;TZID=America/New_York:20201230T180000
DTEND;TZID=America/New_York:20201230T190000
DTSTAMP:20260421T112540
CREATED:20201127T210319Z
LAST-MODIFIED:20201215T212737Z
UID:10033141-1609351200-1609354800@www.green-wood.com
SUMMARY:A Disposition to be Rich: Ferdinand Ward\, the Greatest Swindler of the Gilded Age
DESCRIPTION:Ferdinand Ward was the greatest swindler of the Gilded Age\, whose villainy bankrupted Ulysses S. Grant and stunned the world of finance. His fascinating story has been extensively researched by his great-grandson\, award-winning historian Geoffrey C. Ward\, author of A Disposition to be Rich. Drawing upon thousands of never before seen family documents\, Geoffrey traces Ferdinand’s rapid rise and dizzying fall in a narrative populated with mistresses\, crooked bankers\, corrupt New York officials\, and a desperate kidnapping scheme. A Disposition to be Rich was named a New York Times Notable Book when it was published in 2013.  \n\n\n\nGeoffrey C. Ward is a prolific and accomplished writer best known for his script writing for Ken Burns’s classic documentaries on the Civil War\, jazz\, baseball\, World War II\, and others. A master of story-telling\, Geoffrey has won seven Emmy Awards for his work. \n\n\n\nThis conversation is part of our series of virtual programs about the history of Green-Wood and its permanent residents\, Zooming in on History. \n\n\n\n\n\n$9 / $4 for members. A Zoom link will be in your confirmation email upon registration. \n\n\n\n\n\n\n\nGet Tickets\nGet Tickets on Eventbrite\n\n\n\n\n\n\n\n\n\n\nNot a Member?\n\n\n\nClick here for all of our membership levels and information. \n\n\n\nAlready a Member?\n\n\n\nClick the gray tickets button to activate the Eventbrite pop-up\, then click Enter promo code. Type in your ID number and apply your discount. \n\n\n\nQuestions?\n\n\n\nDon’t know your Member ID number? Not sure which ticket or membership type to order? Call 718-210-3080 or email contactus@green-wood.com with any questions.
URL:https://www.green-wood.com/event/a-disposition-to-be-rich-ferdinand-ward-the-greatest-swindler-of-the-gilded-age/
ATTACH;FMTTYPE=image/jpeg:https://www.green-wood.com/wp-content/uploads/2020/11/disposition-featured.jpg
END:VEVENT
END:VCALENDAR