BEGIN:VCALENDAR
VERSION:2.0
PRODID:-//Green-Wood - ECPv6.15.20//NONSGML v1.0//EN
CALSCALE:GREGORIAN
METHOD:PUBLISH
X-ORIGINAL-URL:https://www.green-wood.com
X-WR-CALDESC:Events for Green-Wood
REFRESH-INTERVAL;VALUE=DURATION:PT1H
X-Robots-Tag:noindex
X-PUBLISHED-TTL:PT1H
BEGIN:VTIMEZONE
TZID:America/New_York
BEGIN:DAYLIGHT
TZOFFSETFROM:-0500
TZOFFSETTO:-0400
TZNAME:EDT
DTSTART:20140309T070000
END:DAYLIGHT
BEGIN:STANDARD
TZOFFSETFROM:-0400
TZOFFSETTO:-0500
TZNAME:EST
DTSTART:20141102T060000
END:STANDARD
BEGIN:DAYLIGHT
TZOFFSETFROM:-0500
TZOFFSETTO:-0400
TZNAME:EDT
DTSTART:20150308T070000
END:DAYLIGHT
BEGIN:STANDARD
TZOFFSETFROM:-0400
TZOFFSETTO:-0500
TZNAME:EST
DTSTART:20151101T060000
END:STANDARD
BEGIN:DAYLIGHT
TZOFFSETFROM:-0500
TZOFFSETTO:-0400
TZNAME:EDT
DTSTART:20160313T070000
END:DAYLIGHT
BEGIN:STANDARD
TZOFFSETFROM:-0400
TZOFFSETTO:-0500
TZNAME:EST
DTSTART:20161106T060000
END:STANDARD
END:VTIMEZONE
BEGIN:VEVENT
DTSTART;TZID=America/New_York:20151101T130000
DTEND;TZID=America/New_York:20151101T150000
DTSTAMP:20260423T034505
CREATED:20150806T180141Z
LAST-MODIFIED:20150806T180141Z
UID:10030947-1446382800-1446390000@www.green-wood.com
SUMMARY:(Sold Out) A Spirited Stroll through Green-Wood
DESCRIPTION: \nThis event is sold out. Make sure you never miss out on tickets again! Green-Wood members get access to tickets weeks before the general public. Join today. \n \nGet into the autumnal mood and enjoy a cool\, crisp day exploring our 478 acres of beautiful fall foliage.  \n \nGreen-Wood Historian Jeff Richman will lead this favorite fall tour featuring tales of murder\, mayhem\, spirits and the utterly bizarre. \n \nVisit the graves of The Wizard of Oz\, George Washington’s favorite dentist\, the founders of Spiritualism\, and many more. You’ll even get to tour Green-Wood’s Catacombs\, usually closed to the public. \n \n$15 for members of Green-Wood and BHS/$20 for non-members. \n \nClick here for our inclement weather policy. \n \nMobile users: Please tap here to buy tickets.\n 
URL:https://www.green-wood.com/event/a-spirited-stroll-through-green-wood-2015-11-01/2015-11-01/
LOCATION:Green-Wood Cemetery\, 500 25th Street\, Brooklyn\, NY\, 11232\, United States
CATEGORIES:Special Event,Tour,Walking Tour
ATTACH;FMTTYPE=:
END:VEVENT
BEGIN:VEVENT
DTSTART;TZID=America/New_York:20151104T130000
DTEND;TZID=America/New_York:20151104T150000
DTSTAMP:20260423T034505
CREATED:20141231T170533Z
LAST-MODIFIED:20141231T170533Z
UID:10030841-1446642000-1446649200@www.green-wood.com
SUMMARY:Historic Trolley Tour
DESCRIPTION:Credit: Robert Denbo\nExperience the most magnificent and historic 478 acres in New York City. Join our expert tour guides to hear fascinating stories of Green-Wood’s permanent residents\, see breathtaking views of Manhattan\, tread where George Washington and his troops fought the Battle of Brooklyn\, and much more. \nTrolley Tour Schedule: \nSunday\, April 24: The Far Side of Green-Wood\nWednesday\, April 27: Discover Green-Wood\nWednesday\, May 4: The Far Side of Green-Wood\nSunday\, May 8: Hidden Gems of Green-Wood\nWednesday\, May 11: Hidden Gems of Green-Wood\nWednesday\, May 18: Discover Green-Wood\nWednesday\, May 25: The Far Side of Green-Wood\nSunday\, May 29: Discover Green-Wood \nClick here for more information on Green-Wood’s rotation of three different tours. Each boasts great views\, beautiful monuments throughout\, rolling hills\, century-old trees and stories of the fascinating persons interred at Green-Wood. Please note: all tours include a visit to Green-Wood’s Historic Chapel and to Battle Hill. \n$10 for members of Green-Wood. / $15 for non-members. Seating is limited. Trolley tours routinely sell out. We strongly suggest that you reserve tickets in advance to ensure a spot for your preferred day! \nGreen-Wood trolley tours are fully accessible and ADA compliant. In order to accommodate a wheelchair or other mobility device on the trolley\, advance arrangements must be made. Please call (718) 210-3080\, ext. 1. Please note that portions of the tour take place outside the trolley and may require exiting the vehicle on multiple occasions. Please contact the Historic Fund for more information. \nClick here for our inclement weather policy. \nMobile users: Please tap here to buy tickets.\n\nNot a Member?\nGet a free ticket with a membership at left and purchase additional Member Discount Tickets if desired. Click here for all of our membership levels and information. \nAlready a Member?\nClick the “Enter promotional code here (members\, use your ID#)” link in the bottom right corner of the ticket box and enter your ID number to apply your ticket discount. Please note that the Senior\, Individual and Student membership levels are limited to only one Member Ticket per event (for additional tickets\, please purchase at the regular price). \nQuestions?\nDon’t know your Member ID number? Not sure which ticket or membership type to order? Call 718-210-3080 or email contactus@green-wood.com with any questions.
URL:https://www.green-wood.com/event/historic-trolley-tour-wednesday-2-6-2-2/2015-11-04/
CATEGORIES:Tour,Trolley Tour
ATTACH;FMTTYPE=:
END:VEVENT
BEGIN:VEVENT
DTSTART;TZID=America/New_York:20151104T130000
DTEND;TZID=America/New_York:20151104T150000
DTSTAMP:20260423T034505
CREATED:20141231T170533Z
LAST-MODIFIED:20141231T170533Z
UID:10030874-1446642000-1446649200@www.green-wood.com
SUMMARY:(Sold Out) Historic Trolley Tour
DESCRIPTION:Credit: Robert Denbo\nThis event is sold out\, but you can scroll down to buy tickets for other trolley tour dates. Make sure you never miss out on tickets again! Green-Wood members get access to tickets weeks before the general public. Join today. \nExperience the most magnificent and historic 478 acres in New York City. Join our expert tour guides to hear fascinating stories of Green-Wood’s permanent residents\, see breathtaking views of Manhattan\, tread where George Washington and his troops fought the Battle of Brooklyn\, and much more. \nTrolley Tour Schedule: \nSunday\, August 9: Hidden Gems of Green-Wood\nWednesday\, August 12: Hidden Gems of Green-Wood\nWednesday\, August 19: Discover Green-Wood\nWednesday\, August 26: The Far Side of Green-Wood\nSunday\, August 30: Discover Green-Wood\nWednesday\, September 2: Hidden Gems of Green-Wood\nWednesday\, September 9: Discover Green-Wood\nSunday\, September 13: The Far Side of Green-Wood\nWednesday\, September 16: The Far Side of Green-Wood\nWednesday\, September 23: Hidden Gems of Green-Wood\nSunday\, September 27: Hidden Gems of Green-Wood\nWednesday\, September 30: Discover Green-Wood\nWednesday\, October 7: The Far Side of Green-Wood\nSunday\, October 11: Discover Green-Wood\nWednesday\, October 14: Hidden Gems of Green-Wood\nWednesday\, October 21: Discover Green-Wood\nSunday\, October 25: The Far Side of Green-Wood\nWednesday\, October 28: The Far Side of Green-Wood\nWednesday\, November 4: Hidden Gems of Green-Wood\nSunday\, November 8: Hidden Gems of Green-Wood\nWednesday\, November 11: Discover Green-Wood\nWednesday\, November 18: The Far Side of Green-Wood\nWednesday\, November 25: Hidden Gems of Green-Wood\nSunday\, November 29: Discover Green-Wood \nClick here for more information on Green-Wood’s rotation of three different tours. Each boasts great views\, beautiful monuments throughout\, rolling hills\, century-old trees and stories of the fascinating persons interred at Green-Wood. Please note: all tours include a visit to Green-Wood’s Historic Chapel and to Battle Hill. \n$10 for members of Green-Wood. / $15 for non-members. Seating is limited. Trolley tours routinely sell out. We strongly suggest that you reserve tickets in advance to ensure a spot for your preferred day! \nGreen-Wood trolley tours are fully accessible and ADA compliant. Click here for our inclement weather policy. \nMobile users: Please tap here to buy tickets.\n\nNot a Member?\nGet a free ticket with a membership at left and purchase additional Member Discount Tickets if desired. Click here for all of our membership levels and information. \nAlready a Member?\nClick the “Enter promotional code here (members\, use your ID#)” link in the bottom right corner of the ticket box and enter your ID number to apply your ticket discount. Please note that the Senior\, Individual and Student membership levels are limited to only one Member Ticket per event (for additional tickets\, please purchase at the regular price). \nQuestions?\nDon’t know your Member ID number? Not sure which ticket or membership type to order? Call 718-210-3080 or email contactus@green-wood.com with any questions.
URL:https://www.green-wood.com/event/historic-trolley-tour-wednesday-2-6-2-2-2015-11-04/
CATEGORIES:Tour,Trolley Tour
ATTACH;FMTTYPE=:
END:VEVENT
BEGIN:VEVENT
DTSTART;TZID=America/New_York:20151107T180000
DTEND;TZID=America/New_York:20151107T210000
DTSTAMP:20260423T034505
CREATED:20150806T183012Z
LAST-MODIFIED:20150806T183012Z
UID:10030949-1446919200-1446930000@www.green-wood.com
SUMMARY:(Sold Out) Twilight Tour and Catacomb Soiree
DESCRIPTION:Credit: Steven Acres\n \nThis event is sold out. Make sure you never miss out on tickets again! Green-Wood members get access to tickets weeks before the general public. Join today.\n \n \nThere are few places more atmospheric than a cemetery at dusk – and Green-Wood is top notch when it comes to beauty and atmosphere. So take a walk on the wild side during this special event that will lead you on a twilight tour of the expansive grounds. As the sun sets on 478 spectacular acres\, you’ll weave through stunning landscapes and visit the graves of fascinating figures in New York and American culture. \n \nAfter the walking tour\, enjoy a drink amidst the art and greenery. The catacombs will be open for the reception\, so you can wander by torchlight\, sip your drink\, and visit the opulent indoor resting places of Green-Wood’s permanent residents. \n \n$20 for members of Green-Wood and BHS/$25 for non-members. \n \nClick here for our inclement weather policy.
URL:https://www.green-wood.com/event/twilight-tour-catacomb-soiree/
LOCATION:Green-Wood Cemetery\, 500 25th Street\, Brooklyn\, NY\, 11232\, United States
CATEGORIES:Special Event,Tour
ATTACH;FMTTYPE=:
END:VEVENT
BEGIN:VEVENT
DTSTART;TZID=America/New_York:20151111T130000
DTEND;TZID=America/New_York:20151111T150000
DTSTAMP:20260423T034505
CREATED:20141231T170533Z
LAST-MODIFIED:20141231T170533Z
UID:10030875-1447246800-1447254000@www.green-wood.com
SUMMARY:Historic Trolley Tour
DESCRIPTION:Credit: Robert Denbo\nThis event is sold out\, but you can scroll down to buy tickets for other trolley tour dates. Make sure you never miss out on tickets again! Green-Wood members get access to tickets weeks before the general public. Join today. \nExperience the most magnificent and historic 478 acres in New York City. Join our expert tour guides to hear fascinating stories of Green-Wood’s permanent residents\, see breathtaking views of Manhattan\, tread where George Washington and his troops fought the Battle of Brooklyn\, and much more. \nTrolley Tour Schedule: \nSunday\, August 9: Hidden Gems of Green-Wood\nWednesday\, August 12: Hidden Gems of Green-Wood\nWednesday\, August 19: Discover Green-Wood\nWednesday\, August 26: The Far Side of Green-Wood\nSunday\, August 30: Discover Green-Wood\nWednesday\, September 2: Hidden Gems of Green-Wood\nWednesday\, September 9: Discover Green-Wood\nSunday\, September 13: The Far Side of Green-Wood\nWednesday\, September 16: The Far Side of Green-Wood\nWednesday\, September 23: Hidden Gems of Green-Wood\nSunday\, September 27: Hidden Gems of Green-Wood\nWednesday\, September 30: Discover Green-Wood\nWednesday\, October 7: The Far Side of Green-Wood\nSunday\, October 11: Discover Green-Wood\nWednesday\, October 14: Hidden Gems of Green-Wood\nWednesday\, October 21: Discover Green-Wood\nSunday\, October 25: The Far Side of Green-Wood\nWednesday\, October 28: The Far Side of Green-Wood\nWednesday\, November 4: Hidden Gems of Green-Wood\nSunday\, November 8: Hidden Gems of Green-Wood\nWednesday\, November 11: Discover Green-Wood\nWednesday\, November 18: The Far Side of Green-Wood\nWednesday\, November 25: Hidden Gems of Green-Wood\nSunday\, November 29: Discover Green-Wood \nClick here for more information on Green-Wood’s rotation of three different tours. Each boasts great views\, beautiful monuments throughout\, rolling hills\, century-old trees and stories of the fascinating persons interred at Green-Wood. Please note: all tours include a visit to Green-Wood’s Historic Chapel and to Battle Hill. \n$10 for members of Green-Wood. / $15 for non-members. Seating is limited. Trolley tours routinely sell out. We strongly suggest that you reserve tickets in advance to ensure a spot for your preferred day! \nGreen-Wood trolley tours are fully accessible and ADA compliant. Click here for our inclement weather policy. \nMobile users: Please tap here to buy tickets.\n\nNot a Member?\nGet a free ticket with a membership at left and purchase additional Member Discount Tickets if desired. Click here for all of our membership levels and information. \nAlready a Member?\nClick the “Enter promotional code here (members\, use your ID#)” link in the bottom right corner of the ticket box and enter your ID number to apply your ticket discount. Please note that the Senior\, Individual and Student membership levels are limited to only one Member Ticket per event (for additional tickets\, please purchase at the regular price). \nQuestions?\nDon’t know your Member ID number? Not sure which ticket or membership type to order? Call 718-210-3080 or email contactus@green-wood.com with any questions.
URL:https://www.green-wood.com/event/historic-trolley-tour-wednesday-2-6-2-2-2015-11-11/
CATEGORIES:Tour,Trolley Tour
ATTACH;FMTTYPE=:
END:VEVENT
BEGIN:VEVENT
DTSTART;TZID=America/New_York:20151111T130000
DTEND;TZID=America/New_York:20151111T150000
DTSTAMP:20260423T034505
CREATED:20141231T170533Z
LAST-MODIFIED:20141231T170533Z
UID:10030842-1447246800-1447254000@www.green-wood.com
SUMMARY:Historic Trolley Tour
DESCRIPTION:Credit: Robert Denbo\nExperience the most magnificent and historic 478 acres in New York City. Join our expert tour guides to hear fascinating stories of Green-Wood’s permanent residents\, see breathtaking views of Manhattan\, tread where George Washington and his troops fought the Battle of Brooklyn\, and much more. \nTrolley Tour Schedule: \nSunday\, April 24: The Far Side of Green-Wood\nWednesday\, April 27: Discover Green-Wood\nWednesday\, May 4: The Far Side of Green-Wood\nSunday\, May 8: Hidden Gems of Green-Wood\nWednesday\, May 11: Hidden Gems of Green-Wood\nWednesday\, May 18: Discover Green-Wood\nWednesday\, May 25: The Far Side of Green-Wood\nSunday\, May 29: Discover Green-Wood \nClick here for more information on Green-Wood’s rotation of three different tours. Each boasts great views\, beautiful monuments throughout\, rolling hills\, century-old trees and stories of the fascinating persons interred at Green-Wood. Please note: all tours include a visit to Green-Wood’s Historic Chapel and to Battle Hill. \n$10 for members of Green-Wood. / $15 for non-members. Seating is limited. Trolley tours routinely sell out. We strongly suggest that you reserve tickets in advance to ensure a spot for your preferred day! \nGreen-Wood trolley tours are fully accessible and ADA compliant. In order to accommodate a wheelchair or other mobility device on the trolley\, advance arrangements must be made. Please call (718) 210-3080\, ext. 1. Please note that portions of the tour take place outside the trolley and may require exiting the vehicle on multiple occasions. Please contact the Historic Fund for more information. \nClick here for our inclement weather policy. \nMobile users: Please tap here to buy tickets.\n\nNot a Member?\nGet a free ticket with a membership at left and purchase additional Member Discount Tickets if desired. Click here for all of our membership levels and information. \nAlready a Member?\nClick the “Enter promotional code here (members\, use your ID#)” link in the bottom right corner of the ticket box and enter your ID number to apply your ticket discount. Please note that the Senior\, Individual and Student membership levels are limited to only one Member Ticket per event (for additional tickets\, please purchase at the regular price). \nQuestions?\nDon’t know your Member ID number? Not sure which ticket or membership type to order? Call 718-210-3080 or email contactus@green-wood.com with any questions.
URL:https://www.green-wood.com/event/historic-trolley-tour-wednesday-2-6-2-2/2015-11-11/
CATEGORIES:Tour,Trolley Tour
ATTACH;FMTTYPE=:
END:VEVENT
BEGIN:VEVENT
DTSTART;TZID=America/New_York:20151114T130000
DTEND;TZID=America/New_York:20151114T150000
DTSTAMP:20260423T034505
CREATED:20150806T183950Z
LAST-MODIFIED:20150806T183950Z
UID:10030950-1447506000-1447513200@www.green-wood.com
SUMMARY:(Sold Out) Murder\, Mayhem\, and Disasters Trolley Tour
DESCRIPTION: \n \nThis event is sold out. Make sure you never miss out on tickets again! Green-Wood members get access to tickets weeks before the general public. Join today. \n \n \n \nSerene\, beautiful Green-Wood is the final resting place for many victims — and perpetrators — of violence. Join expert tour guide Ruth Edebohls to hear some of their fascinating stories. \n \n \nThe Morro Castle disaster and possible murder of her captain\, the sinking of the steamship Arctic\, the Malbone Street train crash\, a suicide on the grave of a beloved wife\, the arsenic and clam chowder murder\, Titanic survivors and the Brooklyn Theatre fire are just some of the tragic tales you’ll hear amidst a landscape of late fall beauty. \n \n \n$15 for members of Green-Wood and BHS/$20 for non-members. \n \n \nClick here for our inclement weather policy. \n \nMobile users: Please tap here to buy tickets.\n 
URL:https://www.green-wood.com/event/murder-mayhem-and-disasters-trolley-tour/
LOCATION:Green-Wood Cemetery\, 500 25th Street\, Brooklyn\, NY\, 11232\, United States
CATEGORIES:Special Event,Tour,Walking Tour
ATTACH;FMTTYPE=:
END:VEVENT
BEGIN:VEVENT
DTSTART;TZID=America/New_York:20151118T130000
DTEND;TZID=America/New_York:20151118T150000
DTSTAMP:20260423T034505
CREATED:20141231T170533Z
LAST-MODIFIED:20141231T170533Z
UID:10030843-1447851600-1447858800@www.green-wood.com
SUMMARY:Historic Trolley Tour
DESCRIPTION:Credit: Robert Denbo\nExperience the most magnificent and historic 478 acres in New York City. Join our expert tour guides to hear fascinating stories of Green-Wood’s permanent residents\, see breathtaking views of Manhattan\, tread where George Washington and his troops fought the Battle of Brooklyn\, and much more. \nTrolley Tour Schedule: \nSunday\, April 24: The Far Side of Green-Wood\nWednesday\, April 27: Discover Green-Wood\nWednesday\, May 4: The Far Side of Green-Wood\nSunday\, May 8: Hidden Gems of Green-Wood\nWednesday\, May 11: Hidden Gems of Green-Wood\nWednesday\, May 18: Discover Green-Wood\nWednesday\, May 25: The Far Side of Green-Wood\nSunday\, May 29: Discover Green-Wood \nClick here for more information on Green-Wood’s rotation of three different tours. Each boasts great views\, beautiful monuments throughout\, rolling hills\, century-old trees and stories of the fascinating persons interred at Green-Wood. Please note: all tours include a visit to Green-Wood’s Historic Chapel and to Battle Hill. \n$10 for members of Green-Wood. / $15 for non-members. Seating is limited. Trolley tours routinely sell out. We strongly suggest that you reserve tickets in advance to ensure a spot for your preferred day! \nGreen-Wood trolley tours are fully accessible and ADA compliant. In order to accommodate a wheelchair or other mobility device on the trolley\, advance arrangements must be made. Please call (718) 210-3080\, ext. 1. Please note that portions of the tour take place outside the trolley and may require exiting the vehicle on multiple occasions. Please contact the Historic Fund for more information. \nClick here for our inclement weather policy. \nMobile users: Please tap here to buy tickets.\n\nNot a Member?\nGet a free ticket with a membership at left and purchase additional Member Discount Tickets if desired. Click here for all of our membership levels and information. \nAlready a Member?\nClick the “Enter promotional code here (members\, use your ID#)” link in the bottom right corner of the ticket box and enter your ID number to apply your ticket discount. Please note that the Senior\, Individual and Student membership levels are limited to only one Member Ticket per event (for additional tickets\, please purchase at the regular price). \nQuestions?\nDon’t know your Member ID number? Not sure which ticket or membership type to order? Call 718-210-3080 or email contactus@green-wood.com with any questions.
URL:https://www.green-wood.com/event/historic-trolley-tour-wednesday-2-6-2-2/2015-11-18/
CATEGORIES:Tour,Trolley Tour
ATTACH;FMTTYPE=:
END:VEVENT
BEGIN:VEVENT
DTSTART;TZID=America/New_York:20151125T130000
DTEND;TZID=America/New_York:20151125T150000
DTSTAMP:20260423T034505
CREATED:20141231T170533Z
LAST-MODIFIED:20141231T170533Z
UID:10030844-1448456400-1448463600@www.green-wood.com
SUMMARY:Historic Trolley Tour
DESCRIPTION:Credit: Robert Denbo\nExperience the most magnificent and historic 478 acres in New York City. Join our expert tour guides to hear fascinating stories of Green-Wood’s permanent residents\, see breathtaking views of Manhattan\, tread where George Washington and his troops fought the Battle of Brooklyn\, and much more. \nTrolley Tour Schedule: \nSunday\, April 24: The Far Side of Green-Wood\nWednesday\, April 27: Discover Green-Wood\nWednesday\, May 4: The Far Side of Green-Wood\nSunday\, May 8: Hidden Gems of Green-Wood\nWednesday\, May 11: Hidden Gems of Green-Wood\nWednesday\, May 18: Discover Green-Wood\nWednesday\, May 25: The Far Side of Green-Wood\nSunday\, May 29: Discover Green-Wood \nClick here for more information on Green-Wood’s rotation of three different tours. Each boasts great views\, beautiful monuments throughout\, rolling hills\, century-old trees and stories of the fascinating persons interred at Green-Wood. Please note: all tours include a visit to Green-Wood’s Historic Chapel and to Battle Hill. \n$10 for members of Green-Wood. / $15 for non-members. Seating is limited. Trolley tours routinely sell out. We strongly suggest that you reserve tickets in advance to ensure a spot for your preferred day! \nGreen-Wood trolley tours are fully accessible and ADA compliant. In order to accommodate a wheelchair or other mobility device on the trolley\, advance arrangements must be made. Please call (718) 210-3080\, ext. 1. Please note that portions of the tour take place outside the trolley and may require exiting the vehicle on multiple occasions. Please contact the Historic Fund for more information. \nClick here for our inclement weather policy. \nMobile users: Please tap here to buy tickets.\n\nNot a Member?\nGet a free ticket with a membership at left and purchase additional Member Discount Tickets if desired. Click here for all of our membership levels and information. \nAlready a Member?\nClick the “Enter promotional code here (members\, use your ID#)” link in the bottom right corner of the ticket box and enter your ID number to apply your ticket discount. Please note that the Senior\, Individual and Student membership levels are limited to only one Member Ticket per event (for additional tickets\, please purchase at the regular price). \nQuestions?\nDon’t know your Member ID number? Not sure which ticket or membership type to order? Call 718-210-3080 or email contactus@green-wood.com with any questions.
URL:https://www.green-wood.com/event/historic-trolley-tour-wednesday-2-6-2-2/2015-11-25/
CATEGORIES:Tour,Trolley Tour
ATTACH;FMTTYPE=:
END:VEVENT
END:VCALENDAR