BEGIN:VCALENDAR
VERSION:2.0
PRODID:-//Green-Wood - ECPv6.15.20//NONSGML v1.0//EN
CALSCALE:GREGORIAN
METHOD:PUBLISH
X-WR-CALNAME:Green-Wood
X-ORIGINAL-URL:https://www.green-wood.com
X-WR-CALDESC:Events for Green-Wood
REFRESH-INTERVAL;VALUE=DURATION:PT1H
X-Robots-Tag:noindex
X-PUBLISHED-TTL:PT1H
BEGIN:VTIMEZONE
TZID:America/New_York
BEGIN:DAYLIGHT
TZOFFSETFROM:-0500
TZOFFSETTO:-0400
TZNAME:EDT
DTSTART:20140309T070000
END:DAYLIGHT
BEGIN:STANDARD
TZOFFSETFROM:-0400
TZOFFSETTO:-0500
TZNAME:EST
DTSTART:20141102T060000
END:STANDARD
BEGIN:DAYLIGHT
TZOFFSETFROM:-0500
TZOFFSETTO:-0400
TZNAME:EDT
DTSTART:20150308T070000
END:DAYLIGHT
BEGIN:STANDARD
TZOFFSETFROM:-0400
TZOFFSETTO:-0500
TZNAME:EST
DTSTART:20151101T060000
END:STANDARD
BEGIN:DAYLIGHT
TZOFFSETFROM:-0500
TZOFFSETTO:-0400
TZNAME:EDT
DTSTART:20160313T070000
END:DAYLIGHT
BEGIN:STANDARD
TZOFFSETFROM:-0400
TZOFFSETTO:-0500
TZNAME:EST
DTSTART:20161106T060000
END:STANDARD
END:VTIMEZONE
BEGIN:VEVENT
DTSTART;TZID=America/New_York:20150708T130000
DTEND;TZID=America/New_York:20150708T150000
DTSTAMP:20260423T034334
CREATED:20141231T170533Z
LAST-MODIFIED:20141231T170533Z
UID:10030871-1436360400-1436367600@www.green-wood.com
SUMMARY:(Sold Out) Historic Trolley Tour
DESCRIPTION:Credit: Robert Denbo\nThis tour date is sold out. Please scroll down to purchase tickets for another tour date. \nExperience the most magnificent and historic 478 acres in New York City. Join our expert tour guides to hear fascinating stories of Green-Wood’s permanent residents\, see breathtaking views of Manhattan\, tread where George Washington and his troops fought the Battle of Brooklyn\, and much more. \nTrolley Tour Schedule: \nSunday\, April 26: The Far Side of Green-Wood\nWednesday\, April 29: Hidden Gems of Green-Wood\nWednesday\, May 6: Discover Green-Wood\nSunday\, May 10: Hidden Gems of Green-Wood\nWednesday\, May 13: The Far Side of Green-Wood\nWednesday\, May 20: Hidden Gems of Green-Wood\nWednesday\, May 27: Discover Green-Wood\nSunday\, May 31: Discover Green-Wood\nWednesday June 3: The Far Side of Green-Wood\nWednesday June 10: Hidden Gems of Green-Wood\nSunday\, June 14: The Far Side of Green-Wood\nWednesday\, June 17: Discover Green-Wood\nWednesday\, June 24: The Far Side of Green-Wood\nSunday\, June 28: Hidden Gems of Green-Wood\nWednesday\, July 1: Hidden Gems of Green-Wood\nWednesday\, July 8: Discover Green-Wood\nSunday\, July 12: Discover Green-Wood\nWednesday\, July 15: The Far Side of Green-Wood\nWednesday\, July 22: Hidden Gems of Green-Wood\nSunday\, July 26: The Far Side of Green-Wood\nWednesday\, July 29: Discover Green-Wood\nWednesday\, August 5: The Far Side of Green-Wood\nSunday\, August 9: Hidden Gems of Green-Wood\nWednesday\, August 12: Hidden Gems of Green-Wood\nWednesday\, August 19: Discover Green-Wood\nWednesday\, August 26: The Far Side of Green-Wood\nSunday\, August 30: Discover Green-Wood \nClick here for more information on Green-Wood’s rotation of three different tours. Each boasts great views\, beautiful monuments throughout\, rolling hills\, century-old trees and stories of the fascinating persons interred at Green-Wood. Please note: all tours include a visit to Green-Wood’s Historic Chapel and to Battle Hill. \n$10 for members of Green-Wood. / $15 for non-members. Seating is limited. Trolley tours routinely sell out. We strongly suggest that you reserve tickets in advance to ensure a spot for your preferred day! \nGreen-Wood trolley tours are fully accessible and ADA compliant. Click here for our inclement weather policy. \nMobile users: Please tap here to buy tickets.\n\nNot a Member?\nGet a free ticket with a membership at left and purchase additional Member Discount Tickets if desired. Click here for all of our membership levels and information. \nAlready a Member?\nClick the “Enter promotional code here (members\, use your ID#)” link in the bottom right corner of the ticket box and enter your ID number to apply your ticket discount. Please note that the Senior\, Individual and Student membership levels are limited to only one Member Ticket per event (for additional tickets\, please purchase at the regular price). \nQuestions?\nDon’t know your Member ID number? Not sure which ticket or membership type to order? Call 718-210-3080 or email contactus@green-wood.com with any questions.
URL:https://www.green-wood.com/event/historic-trolley-tour-wednesday-2-6-2-2-2015-07-08/
CATEGORIES:Tour,Trolley Tour
ATTACH;FMTTYPE=:
END:VEVENT
BEGIN:VEVENT
DTSTART;TZID=America/New_York:20150708T170000
DTEND;TZID=America/New_York:20150708T184500
DTSTAMP:20260423T034334
CREATED:20150402T150839Z
LAST-MODIFIED:20150402T150839Z
UID:10030917-1436374800-1436381100@www.green-wood.com
SUMMARY:City Stories\, City Spirit: Write with NY Writers Coalition!
DESCRIPTION:Wednesdays for eight weeks\, May 27 – July 15 \nAre you working on a memoir\, a poem\, or a story and looking for some friendly feedback? Or maybe you just want to put pen to paper and see what happens. This summer let the exquisite monuments\, stunning grounds\, and timeless history of Green-Wood inspire you to do just that. Join NY Writers Coalition for eight weeks of writing within the tranquil gates of Green-Wood. Utilizing the historic landscape of the cemetery\, these workshops are designed to help you generate new writing and connect with your craft on a deeper level\, with every nook offering inspiration and enlightenment. Writers of all genres\, backgrounds\, and levels of experience are welcome. \nThe workshops will be held from 5:00 p.m. to 6:45 p.m. on the following Wednesdays: May 27\, June 3\, June 10\, June 17\, June 24\, July 1\, July 8\, and July 15. \nFree/Registration is required. Please note this registration is for all eight sessions of this workshop. If you are unable to attend a substantial number of the workshop sessions\, please notify the event organizers. \nClick here for our inclement weather policy. \n \nSell Tickets Online through Eventbrite
URL:https://www.green-wood.com/event/city-stories-city-spirit-write-with-ny-writers-coalition-2015-07-08/
CATEGORIES:Special Event
ATTACH;FMTTYPE=:
END:VEVENT
BEGIN:VEVENT
DTSTART;TZID=America/New_York:20150711T190000
DTEND;TZID=America/New_York:20150711T220000
DTSTAMP:20260423T034334
CREATED:20150515T132605Z
LAST-MODIFIED:20150515T132605Z
UID:10030929-1436641200-1436652000@www.green-wood.com
SUMMARY:(Sold Out) A Night at Niblo’s Garden
DESCRIPTION: \nThis event is sold out. Please click here for our full event listings. \n \nThis popular event is back for 2015 and better than ever! Imagine an outdoor pleasure dome\, strung with lights\, adorned with fountains and featuring the top musicians\, dancers and entertainers of the time. That was the scene at Niblo’s Garden – the premier entertainment house of the 19th century. Niblo himself had a habit of turning his Green-Wood mausoleum – built years before his death – into a pleasure garden of its own\, with friends\, picnics and entertainment. Rumor has it he even stocked the nearby Crescent Water with goldfish! \n \nThis year we’ve teamed up with Bindlestiff Family Circus\, a vaudeville and performing arts powerhouse since 1995. Bindlestiff will transform Niblo’s final resting place into a Victorian extravaganza of performing arts. Your night will begin with a picnic (bring your own) around the beautiful pond Crescent Water\, and will unfold into an evening of showmanship in front of Niblo’s grand mausoleum. As always\, author and Niblo expert Ben Feldman will hold court as Niblo himself. Bring a blanket\, snacks\, and drinks\, and prepare to be dazzled by 19th-century games\, fire eaters\, contortionists\, and much more – all lit by candles and a starry sky.  \n \n$32 for members of Green-Wood and BHS/$37 for non-members. \n \nClick here for our inclement weather policy.
URL:https://www.green-wood.com/event/a-night-at-niblos-garden-2/
LOCATION:Green-Wood Cemetery\, 500 25th Street\, Brooklyn\, NY\, 11232\, United States
CATEGORIES:Special Event
ATTACH;FMTTYPE=:
END:VEVENT
BEGIN:VEVENT
DTSTART;TZID=America/New_York:20150712T130000
DTEND;TZID=America/New_York:20150712T150000
DTSTAMP:20260423T034334
CREATED:20141231T170800Z
LAST-MODIFIED:20141231T170800Z
UID:10030889-1436706000-1436713200@www.green-wood.com
SUMMARY:(Sold Out) Historic Trolley Tour
DESCRIPTION:Credit: Robert Denbo\nThis date’s tour is sold out. Please scroll down to buy tickets for another date. \nExperience the most magnificent and historic 478 acres in New York City. Join our expert tour guides to hear fascinating stories of Green-Wood’s permanent residents\, see breathtaking views of Manhattan\, tread where George Washington and his troops fought the Battle of Brooklyn\, and much more. \nTrolley Tour Schedule: \nSunday\, April 26: The Far Side of Green-Wood\nWednesday\, April 29: Hidden Gems of Green-Wood\nWednesday\, May 6: Discover Green-Wood\nSunday\, May 10: Hidden Gems of Green-Wood\nWednesday\, May 13: The Far Side of Green-Wood\nWednesday\, May 20: Hidden Gems of Green-Wood\nWednesday\, May 27: Discover Green-Wood\nSunday\, May 31: Discover Green-Wood\nWednesday June 3: The Far Side of Green-Wood\nWednesday June 10: Hidden Gems of Green-Wood\nSunday\, June 14: The Far Side of Green-Wood\nWednesday\, June 17: Discover Green-Wood\nWednesday\, June 24: The Far Side of Green-Wood\nSunday\, June 28: Hidden Gems of Green-Wood\nWednesday\, July 1: Hidden Gems of Green-Wood\nWednesday\, July 8: Discover Green-Wood\nSunday\, July 12: Discover Green-Wood\nWednesday\, July 15: The Far Side of Green-Wood\nWednesday\, July 22: Hidden Gems of Green-Wood\nSunday\, July 26: The Far Side of Green-Wood\nWednesday\, July 29: Discover Green-Wood\nWednesday\, August 5: The Far Side of Green-Wood\nSunday\, August 9: Hidden Gems of Green-Wood\nWednesday\, August 12: Hidden Gems of Green-Wood\nWednesday\, August 19: Discover Green-Wood\nWednesday\, August 26: The Far Side of Green-Wood\nSunday\, August 30: Discover Green-Wood \nClick here for more information on Green-Wood’s rotation of three different tours. Each boasts great views\, beautiful monuments throughout\, rolling hills\, century-old trees and stories of the fascinating persons interred at Green-Wood. Please note: all tours include a visit to Green-Wood’s Historic Chapel and to Battle Hill. \n$10 for members of Green-Wood. / $15 for non-members. Seating is limited. Trolley tours routinely sell out. We strongly suggest that you reserve tickets in advance to ensure a spot for your preferred day! \nGreen-Wood trolley tours are fully accessible and ADA compliant. Click here for our inclement weather policy. \nMobile users: Please tap here to buy tickets.\n\nNot a Member?\nGet a free ticket with a membership at left and purchase additional Member Discount Tickets if desired. Click here for all of our membership levels and information. \nAlready a Member?\nClick the “Enter promotional code here (members\, use your ID#)” link in the bottom right corner of the ticket box and enter your ID number to apply your ticket discount. Please note that the Senior\, Individual and Student membership levels are limited to only one Member Ticket per event (for additional tickets\, please purchase at the regular price). \nQuestions?\nDon’t know your Member ID number? Not sure which ticket or membership type to order? Call 718-210-3080 or email contactus@green-wood.com with any questions.
URL:https://www.green-wood.com/event/sunday-historic-trolley-tour-2-6-2015-07-12/
CATEGORIES:Tour,Trolley Tour
ATTACH;FMTTYPE=:
END:VEVENT
BEGIN:VEVENT
DTSTART;TZID=America/New_York:20150715T130000
DTEND;TZID=America/New_York:20150715T150000
DTSTAMP:20260423T034334
CREATED:20141231T170533Z
LAST-MODIFIED:20141231T170533Z
UID:10030872-1436965200-1436972400@www.green-wood.com
SUMMARY:(Sold Out) Historic Trolley Tour
DESCRIPTION:Credit: Robert Denbo\nThis tour on this date is sold out. Please scroll down to buy tickets for other dates. \nExperience the most magnificent and historic 478 acres in New York City. Join our expert tour guides to hear fascinating stories of Green-Wood’s permanent residents\, see breathtaking views of Manhattan\, tread where George Washington and his troops fought the Battle of Brooklyn\, and much more. \nTrolley Tour Schedule: \nSunday\, April 26: The Far Side of Green-Wood\nWednesday\, April 29: Hidden Gems of Green-Wood\nWednesday\, May 6: Discover Green-Wood\nSunday\, May 10: Hidden Gems of Green-Wood\nWednesday\, May 13: The Far Side of Green-Wood\nWednesday\, May 20: Hidden Gems of Green-Wood\nWednesday\, May 27: Discover Green-Wood\nSunday\, May 31: Discover Green-Wood\nWednesday June 3: The Far Side of Green-Wood\nWednesday June 10: Hidden Gems of Green-Wood\nSunday\, June 14: The Far Side of Green-Wood\nWednesday\, June 17: Discover Green-Wood\nWednesday\, June 24: The Far Side of Green-Wood\nSunday\, June 28: Hidden Gems of Green-Wood\nWednesday\, July 1: Hidden Gems of Green-Wood\nWednesday\, July 8: Discover Green-Wood\nSunday\, July 12: Discover Green-Wood\nWednesday\, July 15: The Far Side of Green-Wood\nWednesday\, July 22: Hidden Gems of Green-Wood\nSunday\, July 26: The Far Side of Green-Wood\nWednesday\, July 29: Discover Green-Wood\nWednesday\, August 5: The Far Side of Green-Wood\nSunday\, August 9: Hidden Gems of Green-Wood\nWednesday\, August 12: Hidden Gems of Green-Wood\nWednesday\, August 19: Discover Green-Wood\nWednesday\, August 26: The Far Side of Green-Wood\nSunday\, August 30: Discover Green-Wood \nClick here for more information on Green-Wood’s rotation of three different tours. Each boasts great views\, beautiful monuments throughout\, rolling hills\, century-old trees and stories of the fascinating persons interred at Green-Wood. Please note: all tours include a visit to Green-Wood’s Historic Chapel and to Battle Hill. \n$10 for members of Green-Wood. / $15 for non-members. Seating is limited. Trolley tours routinely sell out. We strongly suggest that you reserve tickets in advance to ensure a spot for your preferred day! \nGreen-Wood trolley tours are fully accessible and ADA compliant. Click here for our inclement weather policy. \nMobile users: Please tap here to buy tickets.\n\nNot a Member?\nGet a free ticket with a membership at left and purchase additional Member Discount Tickets if desired. Click here for all of our membership levels and information. \nAlready a Member?\nClick the “Enter promotional code here (members\, use your ID#)” link in the bottom right corner of the ticket box and enter your ID number to apply your ticket discount. Please note that the Senior\, Individual and Student membership levels are limited to only one Member Ticket per event (for additional tickets\, please purchase at the regular price). \nQuestions?\nDon’t know your Member ID number? Not sure which ticket or membership type to order? Call 718-210-3080 or email contactus@green-wood.com with any questions.
URL:https://www.green-wood.com/event/historic-trolley-tour-wednesday-2-6-2-2-2015-07-15/
CATEGORIES:Tour,Trolley Tour
ATTACH;FMTTYPE=:
END:VEVENT
BEGIN:VEVENT
DTSTART;TZID=America/New_York:20150719T120000
DTEND;TZID=America/New_York:20150719T150000
DTSTAMP:20260423T034334
CREATED:20150616T230818Z
LAST-MODIFIED:20150616T230818Z
UID:10030935-1437307200-1437318000@www.green-wood.com
SUMMARY:Inventors Club: Charles Lewis and Louis Comfort Tiffany
DESCRIPTION:Clic para español. \nThe Tiffany family was artistic\, innovative\, and had an immense influence on 19th-century jewelry and design. The Inventors Club will examine the patents the family held\, and explore how they forever influenced jewelry in America. Then\, you’ll explore how the jewelry world is changing today through the use of 3D printing technology. See how the technology works\, and then mimic the Tiffany’s by printing your own jewelry designs! \nGreen-Wood Inventors Club\nThis summer\, unite the past and the future at Green-Wood! The Green-Wood Inventors Club combines the great outdoors\, history\, and modern technology to create fun workshops for families. Learn about famous scientists\, designers\, and inventors by exploring their life and work. Hands on projects will connect these fascinating personalities to our modern times. The Inventors Club will be stationed in Green-Wood’s Historic Chapel\, and at the Green-Wood monument of the personality we’re exploring. Visit both locations to learn about history and create something cool\, too. Workshops are free and run from noon to 3:00 p.m. \nGreen-Wood Inventors Club is presented with Sunset Spark\, an organization offering free\, high-quality classes for the immigrant community of Sunset Park. Sunset Spark involves kids\, adults and families  in a wide variety of science and engineering subjects like neuroscience\, software engineering\, and physical computing. \n\nClub de Inventores Green-Wood \nLa familia Tiffany era artística\, innovadora\, y tenia una influencia inmensa en la fabricación y diseño de joyas en el siglo 19.  El Club de Inventores examinara las patentes de la familia y explorara como influencio\, para siempre\, la fabricación de joyas en America.  Después\, exploraras como el mundo de las joyas esta cambiando hoy en día a través del uso de la tecnología de impresión 3D. Ve como la tecnología funciona\, y después imita la de Tiffany imprimiendo tus propios diseños de joyas. \n¡Este verano\, unete al pasado y presente en Green-Wood! El Club de Inventores Green-Wood combina historia\, y tecnología moderna al aire libre para crear talleres divertidos para familias. Aprende sobre científicos\, diseñadores\, e inventores famosos  al explorar sus vidas y trabajos.  Talleres prácticos conectaran estas fascinantes personalidades a nuestros tiempos modernos. El Club de Inventores se reunirá en la Capilla Histórica de Green-Wood\, y en el monumento de la tumba de la persona que estamos investigando. Visita ambos lugares y aprende sobre la historia e inventa algo genial también.  Los talleres son gratis y se llevan acabo de 12 del medio día hasta las 3 de la tarde. \nEl Club de Inventores Green-Wood es presentado en conjunto con Sunset Sparks\, una organización que ofrece clases gratis y de alta calidad para la comunidad inmigrante de Sunset Park.  Sunset Spark involucra a los niños\, adultos y familias en una variedad amplia de materias científicas y de ingeniería tales como neurociencia\, ingeniería de programación informática e computación física.
URL:https://www.green-wood.com/event/inventors-club-charles-lewis-and-louis-comfort-tiffany/
LOCATION:Green-Wood Cemetery\, 500 25th Street\, Brooklyn\, NY\, 11232\, United States
CATEGORIES:Special Event
ATTACH;FMTTYPE=:
END:VEVENT
BEGIN:VEVENT
DTSTART;TZID=America/New_York:20150722T183000
DTEND;TZID=America/New_York:20150722T203000
DTSTAMP:20260423T034334
CREATED:20150709T152304Z
LAST-MODIFIED:20150709T152304Z
UID:10030938-1437589800-1437597000@www.green-wood.com
SUMMARY:City Spirit\, City Stories: Open Mic in the Chapel
DESCRIPTION:Join NY Writers Coalition in Green-Wood’s Historic Chapel\, for City Spirit\, City Stories\, a community reading and open mic in celebration of the talented storytellers hiding in plain sight of this big city! \nIn workshops facilitated by Rachel Plutzer and Julia Hillman Craig\, playwrights\, poets\, essayists\, and artists of other forms gather together within the cemetery’s beautiful grounds and historic interiors. For the past eight weeks\, they’ve found inspiration and enlightenment from stories of the past to fuel their own art\, and we’re excited to have them share these new discoveries — and new writing! – with us this summer. \nWe’ll see you in the Chapel for a special evening of art\, poetry\, and prose — and bring a story or poem to share if you’d like. Light refreshments provided by NYWC & Green-Wood. \nSuggested Donation: $7. All proceeds support the Green-Wood Historic Fund and New York Writers Coalition’s free creative writing workshops in New York City. \nMobile users: Please tap here to buy tickets.
URL:https://www.green-wood.com/event/city-spirit-city-stories-open-mic-in-the-chapel/
CATEGORIES:Special Event
ATTACH;FMTTYPE=:
END:VEVENT
BEGIN:VEVENT
DTSTART;TZID=America/New_York:20150723T193000
DTEND;TZID=America/New_York:20150723T220000
DTSTAMP:20260423T034334
CREATED:20150515T133535Z
LAST-MODIFIED:20150515T133535Z
UID:10030930-1437679800-1437688800@www.green-wood.com
SUMMARY:(Sold Out) Twilight Tour and Catacomb Soiree
DESCRIPTION:Credit: Steven Acres\n \nThis event is sold out. Please click here for our full event listings. \n \nThere are few places more atmospheric than a cemetery at dusk – and Green-Wood is top notch when it comes to beauty and atmosphere. So take a walk on the wild side during this special event that will lead you on a twilight tour of the expansive grounds. As the sun sets on 478 spectacular acres\, you’ll weave through stunning landscapes and visit the graves of fascinating figures in New York and American culture. \n \nAfter the walking tour\, enjoy a drink amidst the art and greenery. The catacombs will be open for the reception\, so you can wander by torchlight\, sip your drink\, and visit the opulent indoor resting places of Green-Wood. \n \n$20 for members of Green-Wood and BHS/$25 for non-members. Ticket price includes beverages. \n \nClick here for our inclement weather policy. \n \nMobile users: Please tap here to buy tickets.\n\nNot a Member?\nClick here for all of our membership levels and information. \nAlready a Member?\nClick the “Enter promotional code here (members\, use your ID#)” link in the bottom right corner of the ticket box and enter your ID number to apply your ticket discount. Please note that the Senior\, Individual and Student membership levels are limited to only one Member Ticket per event (for additional tickets\, please purchase at the regular price). \nQuestions?\nDon’t know your Member ID number? Not sure which ticket or membership type to order? Call 718-210-3080 or email contactus@green-wood.com with any questions.
URL:https://www.green-wood.com/event/twilight-tour-and-catacomb-soiree/
LOCATION:Green-Wood Cemetery\, 500 25th Street\, Brooklyn\, NY\, 11232\, United States
CATEGORIES:Special Event
ATTACH;FMTTYPE=:
END:VEVENT
BEGIN:VEVENT
DTSTART;TZID=America/New_York:20150729T193000
DTEND;TZID=America/New_York:20150729T213000
DTSTAMP:20260423T034334
CREATED:20150610T204609Z
LAST-MODIFIED:20150610T204609Z
UID:10030933-1438198200-1438205400@www.green-wood.com
SUMMARY:Common Shade: Catherine Gallant on Isadora Duncan's Dances of Mourning
DESCRIPTION:Credit: Steven Acres\n \nIn the early 20th century\, Isadora Duncan’s innovative dances changed the art world forever. But it was the sudden death of her children that most influenced her life and work. After losing her two young children to drowning\, Duncan poured her grief into dance. She created her Grande Marche and other dances expressing grief\, mortality\, and mourning\, as well as remembrance and rebirth. Catherine Gallant is a student of Duncan\, and regularly performs these dances. She’ll perform these emotional dances to live music\, before discussing Duncan’s process\, her relationship to her children’s death\, and how Gallant connects to Duncan and her artistic outpouring of grief. \n \nMorbid Anatomy Museum and Green-Wood present Common Shade – a dialogue existing on the borderlands between the living and the dead. Hosted in Green-Wood’s intimate Historic Chapel\, Common Shade will cultivate a social space for death – a place to examine death’s prevalence in our lives\, and its shifting place in history\, art\, culture\, and society. Drawing from Green-Wood’s bucolic setting and using history as our anchor\, each night’s presentations will include dialogue and interviews with guests. Together with artists\, practitioners\, scholars\, and peers\, Common Shade discussions will explore our humble acknowledgments of and engagements with death. \n \n$25 for non-members / $20 for members of Green-Wood\, BHS and the Morbid Anatomy Museum. Cash bar (free for Green-Wood Key Holders) available at each event. \n \nClick here for our inclement weather policy. \n \nMobile users: Please tap here to buy tickets.\n \n\nNot a Member?\nClick here for all of our membership levels and information. \nAlready a Member?\nClick the “Enter promotional code here (members\, use your ID#)” link in the bottom right corner of the ticket box and enter your ID number to apply your ticket discount. Please note that the Senior\, Individual and Student membership levels are limited to only one Member Ticket per event (for additional tickets\, please purchase at the regular price). \nQuestions?\nDon’t know your Member ID number? Not sure which ticket or membership type to order? Call 718-210-3080 or email contactus@green-wood.com with any questions.
URL:https://www.green-wood.com/event/common-shade-catherine-gallant-on-isadora-duncans-dances-of-mourning/
LOCATION:Green-Wood Cemetery\, 500 25th Street\, Brooklyn\, NY\, 11232\, United States
CATEGORIES:Special Event
ATTACH;FMTTYPE=:
END:VEVENT
END:VCALENDAR