BEGIN:VCALENDAR
VERSION:2.0
PRODID:-//Green-Wood - ECPv6.15.20//NONSGML v1.0//EN
CALSCALE:GREGORIAN
METHOD:PUBLISH
X-WR-CALNAME:Green-Wood
X-ORIGINAL-URL:https://www.green-wood.com
X-WR-CALDESC:Events for Green-Wood
REFRESH-INTERVAL;VALUE=DURATION:PT1H
X-Robots-Tag:noindex
X-PUBLISHED-TTL:PT1H
BEGIN:VTIMEZONE
TZID:America/New_York
BEGIN:DAYLIGHT
TZOFFSETFROM:-0500
TZOFFSETTO:-0400
TZNAME:EDT
DTSTART:20170312T070000
END:DAYLIGHT
BEGIN:STANDARD
TZOFFSETFROM:-0400
TZOFFSETTO:-0500
TZNAME:EST
DTSTART:20171105T060000
END:STANDARD
BEGIN:DAYLIGHT
TZOFFSETFROM:-0500
TZOFFSETTO:-0400
TZNAME:EDT
DTSTART:20180311T070000
END:DAYLIGHT
BEGIN:STANDARD
TZOFFSETFROM:-0400
TZOFFSETTO:-0500
TZNAME:EST
DTSTART:20181104T060000
END:STANDARD
BEGIN:DAYLIGHT
TZOFFSETFROM:-0500
TZOFFSETTO:-0400
TZNAME:EDT
DTSTART:20190310T070000
END:DAYLIGHT
BEGIN:STANDARD
TZOFFSETFROM:-0400
TZOFFSETTO:-0500
TZNAME:EST
DTSTART:20191103T060000
END:STANDARD
END:VTIMEZONE
BEGIN:VEVENT
DTSTART;TZID=America/New_York:20180701T130000
DTEND;TZID=America/New_York:20180701T150000
DTSTAMP:20260425T145631
CREATED:20180123T233251Z
LAST-MODIFIED:20180123T233251Z
UID:10032685-1530450000-1530457200@www.green-wood.com
SUMMARY:Historic Trolley Tours
DESCRIPTION:Credit: Robert Denbo\nExperience the most magnificent and historic 478 acres in New York City. Join our expert tour guides to hear fascinating stories of Green-Wood’s permanent residents\, see breathtaking views of Manhattan\, tread where George Washington and his troops fought the Battle of Brooklyn\, and much more (scroll down for schedule of different themed tours available). \n$15 for members of Green-Wood. / $20 for non-members. Seating is limited. Trolley tours routinely sell out. We strongly suggest that you reserve tickets in advance to ensure a spot for your preferred day! \nGreen-Wood trolley tours are fully accessible and ADA compliant. In order to accommodate a wheelchair or other mobility aids on the trolley\, arrangements must be made in advance. Please call (718) 210-3080\, ext. 1. Please note that portions of the tour take place outside the trolley\, however attendees may stay seated in the trolley if they wish. Please contact the Historic Fund for more information. \nFor this program you will check in at the Gothic Arches\, right at the main entrance. Trolley tours are run rain or shine\, with the exception of dangerous conditions as determined by Green-Wood. Click here for our inclement weather policy. \nMobile users: Please tap here to buy tickets.\n\nNot a Member?\nNew or renewing members are entitled to one free tour ticket a year! This could be a free ride: Click here for all of our membership levels and information. Free tickets must be arranged by phone. Please call (718)210-3080 to redeem. \nAlready a Member?\nClick the “Enter promotional code here (members\, use your ID#)” link in the bottom right corner of the ticket box and enter your ID number to apply your ticket discount. Please note that the Senior\, Individual and Student membership levels are limited to only one Member Ticket per event (for additional tickets\, please purchase at the regular price). \nQuestions?\nDon’t know your Member ID number? Not sure which ticket or membership type to order? Call 718-210-3080 or email contactus@green-wood.com with any questions. \n\n\nTrolley Tour Schedule: \nWednesday\, Aug. 15 at 1 PM: Discover Green-Wood\nSunday\, Aug. 19 at 1 PM: Hidden Gems of Green-Wood\nWednesday\, Aug. 22 at 1 PM: The Far Side of Green-Wood\nSunday\, Aug. 26 at 1 PM: Discover Green-Wood\nWednesday\, Aug. 29 at 1 PM: Hidden Gems of Green-Wood \nSunday\, Sep. 2 at 1 PM: The Far Side of Green-Wood\nWednesday\, Sep. 5 at 1 PM: The Far Side of Green-Wood\nSunday\, Sep. 9 at 1 PM: Hidden Gems of Green-Wood\nWednesday\, Sep. 12 at 1 PM: Hidden Gems of Green-Wood\nSunday\, Sep. 16 at 1 PM: Discover Green-Wood\nWednesday\, Sep. 19 at 1 PM: Discover Green-Wood\nSunday\, Sep. 23 at 1 PM: The Far Side of Green-Wood\nWednesday\, Sep. 26 at 1 PM: The Far Side of Green-Wood \nWednesday\, Oct. 3 at 1 PM: Hidden Gems of Green-Wood\nSunday\, Oct. 7 at 1 PM: Discover Green-Wood\nWednesday\, Oct. 10 at 1 PM: Discover Green-Wood\nSunday\, Oct. 14 at 1 PM: The Far Side of Green-Wood\nWednesday\, Oct. 17 at 1 PM: The Far Side of Green-Wood\nSunday\, Oct. 21 at 1 PM: Hidden Gems of Green-Wood\nWednesday\, Oct. 24 at 1 PM: Hidden Gems of Green-Wood\nSunday\, Oct. 28 at 1 PM: Discover Green-Wood\nWednesday\, Oct. 31 at 1 PM: Discover Green-Wood \nSunday\, Nov. 4 at 1 PM: The Far Side of Green-Wood\nWednesday\, Nov. 7 at 1 PM: The Far Side of Green-Wood\nSunday\, Nov. 11 at 1 PM: Hidden Gems of Green-Wood\nWednesday\, Nov. 14 at 1 PM: Hidden Gems of Green-Wood\nSunday\, Nov. 18 at 1 PM: Discover Green-Wood\nWednesday\, Nov. 21 at 1 PM: Discover Green-Wood\nSunday\, Nov. 25 at 1 PM: The Far Side of Green-Wood\nWednesday\, Nov. 28 at 1 PM: The Far Side of Green-Wood \nSunday\, Dec. 2 at 1 PM: Discover Green-Wood\nWednesday\, Dec. 5 at 1 PM: Hidden Gems of Green-Wood\nWednesday\, Dec. 12 at 1 PM: Discover Green-Wood\nSunday\, Dec. 16 at 1 PM: The Far Side of Green-Wood\nWednesday\, Dec. 19 at 1 PM: The Far Side of Green-Wood\nWednesday\, Dec. 26 at 1 PM: Hidden Gems of Green-Wood
URL:https://www.green-wood.com/event/summer-18-trolley/2018-07-01/
LOCATION:Green-Wood Cemetery\, 500 25th Street\, Brooklyn\, NY\, 11232\, United States
CATEGORIES:Tour,Trolley Tour
ATTACH;FMTTYPE=:
ORGANIZER;CN="Green-Wood Historic Fund":MAILTO:info@greenwoodcemetery.org
END:VEVENT
BEGIN:VEVENT
DTSTART;TZID=America/New_York:20180708T130000
DTEND;TZID=America/New_York:20180708T150000
DTSTAMP:20260425T145631
CREATED:20180123T233251Z
LAST-MODIFIED:20180123T233251Z
UID:10032686-1531054800-1531062000@www.green-wood.com
SUMMARY:Historic Trolley Tours
DESCRIPTION:Credit: Robert Denbo\nExperience the most magnificent and historic 478 acres in New York City. Join our expert tour guides to hear fascinating stories of Green-Wood’s permanent residents\, see breathtaking views of Manhattan\, tread where George Washington and his troops fought the Battle of Brooklyn\, and much more (scroll down for schedule of different themed tours available). \n$15 for members of Green-Wood. / $20 for non-members. Seating is limited. Trolley tours routinely sell out. We strongly suggest that you reserve tickets in advance to ensure a spot for your preferred day! \nGreen-Wood trolley tours are fully accessible and ADA compliant. In order to accommodate a wheelchair or other mobility aids on the trolley\, arrangements must be made in advance. Please call (718) 210-3080\, ext. 1. Please note that portions of the tour take place outside the trolley\, however attendees may stay seated in the trolley if they wish. Please contact the Historic Fund for more information. \nFor this program you will check in at the Gothic Arches\, right at the main entrance. Trolley tours are run rain or shine\, with the exception of dangerous conditions as determined by Green-Wood. Click here for our inclement weather policy. \nMobile users: Please tap here to buy tickets.\n\nNot a Member?\nNew or renewing members are entitled to one free tour ticket a year! This could be a free ride: Click here for all of our membership levels and information. Free tickets must be arranged by phone. Please call (718)210-3080 to redeem. \nAlready a Member?\nClick the “Enter promotional code here (members\, use your ID#)” link in the bottom right corner of the ticket box and enter your ID number to apply your ticket discount. Please note that the Senior\, Individual and Student membership levels are limited to only one Member Ticket per event (for additional tickets\, please purchase at the regular price). \nQuestions?\nDon’t know your Member ID number? Not sure which ticket or membership type to order? Call 718-210-3080 or email contactus@green-wood.com with any questions. \n\n\nTrolley Tour Schedule: \nWednesday\, Aug. 15 at 1 PM: Discover Green-Wood\nSunday\, Aug. 19 at 1 PM: Hidden Gems of Green-Wood\nWednesday\, Aug. 22 at 1 PM: The Far Side of Green-Wood\nSunday\, Aug. 26 at 1 PM: Discover Green-Wood\nWednesday\, Aug. 29 at 1 PM: Hidden Gems of Green-Wood \nSunday\, Sep. 2 at 1 PM: The Far Side of Green-Wood\nWednesday\, Sep. 5 at 1 PM: The Far Side of Green-Wood\nSunday\, Sep. 9 at 1 PM: Hidden Gems of Green-Wood\nWednesday\, Sep. 12 at 1 PM: Hidden Gems of Green-Wood\nSunday\, Sep. 16 at 1 PM: Discover Green-Wood\nWednesday\, Sep. 19 at 1 PM: Discover Green-Wood\nSunday\, Sep. 23 at 1 PM: The Far Side of Green-Wood\nWednesday\, Sep. 26 at 1 PM: The Far Side of Green-Wood \nWednesday\, Oct. 3 at 1 PM: Hidden Gems of Green-Wood\nSunday\, Oct. 7 at 1 PM: Discover Green-Wood\nWednesday\, Oct. 10 at 1 PM: Discover Green-Wood\nSunday\, Oct. 14 at 1 PM: The Far Side of Green-Wood\nWednesday\, Oct. 17 at 1 PM: The Far Side of Green-Wood\nSunday\, Oct. 21 at 1 PM: Hidden Gems of Green-Wood\nWednesday\, Oct. 24 at 1 PM: Hidden Gems of Green-Wood\nSunday\, Oct. 28 at 1 PM: Discover Green-Wood\nWednesday\, Oct. 31 at 1 PM: Discover Green-Wood \nSunday\, Nov. 4 at 1 PM: The Far Side of Green-Wood\nWednesday\, Nov. 7 at 1 PM: The Far Side of Green-Wood\nSunday\, Nov. 11 at 1 PM: Hidden Gems of Green-Wood\nWednesday\, Nov. 14 at 1 PM: Hidden Gems of Green-Wood\nSunday\, Nov. 18 at 1 PM: Discover Green-Wood\nWednesday\, Nov. 21 at 1 PM: Discover Green-Wood\nSunday\, Nov. 25 at 1 PM: The Far Side of Green-Wood\nWednesday\, Nov. 28 at 1 PM: The Far Side of Green-Wood \nSunday\, Dec. 2 at 1 PM: Discover Green-Wood\nWednesday\, Dec. 5 at 1 PM: Hidden Gems of Green-Wood\nWednesday\, Dec. 12 at 1 PM: Discover Green-Wood\nSunday\, Dec. 16 at 1 PM: The Far Side of Green-Wood\nWednesday\, Dec. 19 at 1 PM: The Far Side of Green-Wood\nWednesday\, Dec. 26 at 1 PM: Hidden Gems of Green-Wood
URL:https://www.green-wood.com/event/summer-18-trolley/2018-07-08/
LOCATION:Green-Wood Cemetery\, 500 25th Street\, Brooklyn\, NY\, 11232\, United States
CATEGORIES:Tour,Trolley Tour
ATTACH;FMTTYPE=:
ORGANIZER;CN="Green-Wood Historic Fund":MAILTO:info@greenwoodcemetery.org
END:VEVENT
BEGIN:VEVENT
DTSTART;TZID=America/New_York:20180715T130000
DTEND;TZID=America/New_York:20180715T150000
DTSTAMP:20260425T145631
CREATED:20180123T233251Z
LAST-MODIFIED:20180123T233251Z
UID:10032687-1531659600-1531666800@www.green-wood.com
SUMMARY:Historic Trolley Tours
DESCRIPTION:Credit: Robert Denbo\nExperience the most magnificent and historic 478 acres in New York City. Join our expert tour guides to hear fascinating stories of Green-Wood’s permanent residents\, see breathtaking views of Manhattan\, tread where George Washington and his troops fought the Battle of Brooklyn\, and much more (scroll down for schedule of different themed tours available). \n$15 for members of Green-Wood. / $20 for non-members. Seating is limited. Trolley tours routinely sell out. We strongly suggest that you reserve tickets in advance to ensure a spot for your preferred day! \nGreen-Wood trolley tours are fully accessible and ADA compliant. In order to accommodate a wheelchair or other mobility aids on the trolley\, arrangements must be made in advance. Please call (718) 210-3080\, ext. 1. Please note that portions of the tour take place outside the trolley\, however attendees may stay seated in the trolley if they wish. Please contact the Historic Fund for more information. \nFor this program you will check in at the Gothic Arches\, right at the main entrance. Trolley tours are run rain or shine\, with the exception of dangerous conditions as determined by Green-Wood. Click here for our inclement weather policy. \nMobile users: Please tap here to buy tickets.\n\nNot a Member?\nNew or renewing members are entitled to one free tour ticket a year! This could be a free ride: Click here for all of our membership levels and information. Free tickets must be arranged by phone. Please call (718)210-3080 to redeem. \nAlready a Member?\nClick the “Enter promotional code here (members\, use your ID#)” link in the bottom right corner of the ticket box and enter your ID number to apply your ticket discount. Please note that the Senior\, Individual and Student membership levels are limited to only one Member Ticket per event (for additional tickets\, please purchase at the regular price). \nQuestions?\nDon’t know your Member ID number? Not sure which ticket or membership type to order? Call 718-210-3080 or email contactus@green-wood.com with any questions. \n\n\nTrolley Tour Schedule: \nWednesday\, Aug. 15 at 1 PM: Discover Green-Wood\nSunday\, Aug. 19 at 1 PM: Hidden Gems of Green-Wood\nWednesday\, Aug. 22 at 1 PM: The Far Side of Green-Wood\nSunday\, Aug. 26 at 1 PM: Discover Green-Wood\nWednesday\, Aug. 29 at 1 PM: Hidden Gems of Green-Wood \nSunday\, Sep. 2 at 1 PM: The Far Side of Green-Wood\nWednesday\, Sep. 5 at 1 PM: The Far Side of Green-Wood\nSunday\, Sep. 9 at 1 PM: Hidden Gems of Green-Wood\nWednesday\, Sep. 12 at 1 PM: Hidden Gems of Green-Wood\nSunday\, Sep. 16 at 1 PM: Discover Green-Wood\nWednesday\, Sep. 19 at 1 PM: Discover Green-Wood\nSunday\, Sep. 23 at 1 PM: The Far Side of Green-Wood\nWednesday\, Sep. 26 at 1 PM: The Far Side of Green-Wood \nWednesday\, Oct. 3 at 1 PM: Hidden Gems of Green-Wood\nSunday\, Oct. 7 at 1 PM: Discover Green-Wood\nWednesday\, Oct. 10 at 1 PM: Discover Green-Wood\nSunday\, Oct. 14 at 1 PM: The Far Side of Green-Wood\nWednesday\, Oct. 17 at 1 PM: The Far Side of Green-Wood\nSunday\, Oct. 21 at 1 PM: Hidden Gems of Green-Wood\nWednesday\, Oct. 24 at 1 PM: Hidden Gems of Green-Wood\nSunday\, Oct. 28 at 1 PM: Discover Green-Wood\nWednesday\, Oct. 31 at 1 PM: Discover Green-Wood \nSunday\, Nov. 4 at 1 PM: The Far Side of Green-Wood\nWednesday\, Nov. 7 at 1 PM: The Far Side of Green-Wood\nSunday\, Nov. 11 at 1 PM: Hidden Gems of Green-Wood\nWednesday\, Nov. 14 at 1 PM: Hidden Gems of Green-Wood\nSunday\, Nov. 18 at 1 PM: Discover Green-Wood\nWednesday\, Nov. 21 at 1 PM: Discover Green-Wood\nSunday\, Nov. 25 at 1 PM: The Far Side of Green-Wood\nWednesday\, Nov. 28 at 1 PM: The Far Side of Green-Wood \nSunday\, Dec. 2 at 1 PM: Discover Green-Wood\nWednesday\, Dec. 5 at 1 PM: Hidden Gems of Green-Wood\nWednesday\, Dec. 12 at 1 PM: Discover Green-Wood\nSunday\, Dec. 16 at 1 PM: The Far Side of Green-Wood\nWednesday\, Dec. 19 at 1 PM: The Far Side of Green-Wood\nWednesday\, Dec. 26 at 1 PM: Hidden Gems of Green-Wood
URL:https://www.green-wood.com/event/summer-18-trolley/2018-07-15/
LOCATION:Green-Wood Cemetery\, 500 25th Street\, Brooklyn\, NY\, 11232\, United States
CATEGORIES:Tour,Trolley Tour
ATTACH;FMTTYPE=:
ORGANIZER;CN="Green-Wood Historic Fund":MAILTO:info@greenwoodcemetery.org
END:VEVENT
BEGIN:VEVENT
DTSTART;TZID=America/New_York:20180721T140000
DTEND;TZID=America/New_York:20180721T170000
DTSTAMP:20260425T145631
CREATED:20171116T044253Z
LAST-MODIFIED:20171116T044253Z
UID:10032592-1532181600-1532192400@www.green-wood.com
SUMMARY:Dead Distillers Trolley Tour
DESCRIPTION: \nGreen-Wood is teaming up with our friends at Kings County Distillery to delve into the storied past of distilling in Brooklyn. The afternoon kicks off with a trolley tour of the cemetery’s “permanent residents” with whiskey connections\, including the one and only casualty of the Brooklyn Whiskey Wars of the late 1860s and early 1870s. Afterward\, the trolley will head to Kings County Distillery in the Brooklyn Navy Yard where visitors will see first-hand how whiskey is made and enjoy a tasting of four delectable varieties. \n \nThis tour is based upon the newly published book “Dead Distillers: A History of the Upstarts and Outlaws who Made American Spirits” by Colin Spoelman\, co-founder and Master Distiller at Kings County Distillery. Copies of the book will be available for purchase at the distillery. \n \nYou must be 21 or older to participate in this tour; I.D. required. \n \n$35 for members of Green-Wood and BHS / $40 for non-members \n \nGreen-Wood trolley tours are fully accessible and ADA compliant. In order to accommodate a wheelchair or other mobility device on the trolley\, advance arrangements must be made. Please call (718) 210-3080\, ext. 1. Please note that portions of the tour take place outside the trolley and may require exiting the vehicle on multiple occasions. Please contact the Historic Fund for more information. \n \nFor this program you will check in at the Gothic Arches\, right at the main entrance. Trolley tours are run rain or shine\, with the exception of dangerous conditions as determined by Green-Wood. Click here for our inclement weather policy. \n \nMobile users: Please tap here to buy tickets.\n \n\nNot a Member?\nClick here for all of our membership levels and information. \nAlready a Member?\nClick the “Enter promotional code here (members\, use your ID#)” link in the bottom right corner of the ticket box and enter your ID number to apply your ticket discount. Please note that the Senior\, Individual and Student membership levels are limited to only one Member Ticket per event (for additional tickets\, please purchase at the regular price). \nQuestions?\nDon’t know your Member ID number? Not sure which ticket or membership type to order? Call 718-210-3080 or email contactus@green-wood.com with any questions.
URL:https://www.green-wood.com/event/dead-distillers-trolley-tours/2018-07-21/
CATEGORIES:Special Event,Trolley Tour
ATTACH;FMTTYPE=:
END:VEVENT
BEGIN:VEVENT
DTSTART;TZID=America/New_York:20180722T130000
DTEND;TZID=America/New_York:20180722T150000
DTSTAMP:20260425T145631
CREATED:20180123T233251Z
LAST-MODIFIED:20180123T233251Z
UID:10032688-1532264400-1532271600@www.green-wood.com
SUMMARY:Historic Trolley Tours
DESCRIPTION:Credit: Robert Denbo\nExperience the most magnificent and historic 478 acres in New York City. Join our expert tour guides to hear fascinating stories of Green-Wood’s permanent residents\, see breathtaking views of Manhattan\, tread where George Washington and his troops fought the Battle of Brooklyn\, and much more (scroll down for schedule of different themed tours available). \n$15 for members of Green-Wood. / $20 for non-members. Seating is limited. Trolley tours routinely sell out. We strongly suggest that you reserve tickets in advance to ensure a spot for your preferred day! \nGreen-Wood trolley tours are fully accessible and ADA compliant. In order to accommodate a wheelchair or other mobility aids on the trolley\, arrangements must be made in advance. Please call (718) 210-3080\, ext. 1. Please note that portions of the tour take place outside the trolley\, however attendees may stay seated in the trolley if they wish. Please contact the Historic Fund for more information. \nFor this program you will check in at the Gothic Arches\, right at the main entrance. Trolley tours are run rain or shine\, with the exception of dangerous conditions as determined by Green-Wood. Click here for our inclement weather policy. \nMobile users: Please tap here to buy tickets.\n\nNot a Member?\nNew or renewing members are entitled to one free tour ticket a year! This could be a free ride: Click here for all of our membership levels and information. Free tickets must be arranged by phone. Please call (718)210-3080 to redeem. \nAlready a Member?\nClick the “Enter promotional code here (members\, use your ID#)” link in the bottom right corner of the ticket box and enter your ID number to apply your ticket discount. Please note that the Senior\, Individual and Student membership levels are limited to only one Member Ticket per event (for additional tickets\, please purchase at the regular price). \nQuestions?\nDon’t know your Member ID number? Not sure which ticket or membership type to order? Call 718-210-3080 or email contactus@green-wood.com with any questions. \n\n\nTrolley Tour Schedule: \nWednesday\, Aug. 15 at 1 PM: Discover Green-Wood\nSunday\, Aug. 19 at 1 PM: Hidden Gems of Green-Wood\nWednesday\, Aug. 22 at 1 PM: The Far Side of Green-Wood\nSunday\, Aug. 26 at 1 PM: Discover Green-Wood\nWednesday\, Aug. 29 at 1 PM: Hidden Gems of Green-Wood \nSunday\, Sep. 2 at 1 PM: The Far Side of Green-Wood\nWednesday\, Sep. 5 at 1 PM: The Far Side of Green-Wood\nSunday\, Sep. 9 at 1 PM: Hidden Gems of Green-Wood\nWednesday\, Sep. 12 at 1 PM: Hidden Gems of Green-Wood\nSunday\, Sep. 16 at 1 PM: Discover Green-Wood\nWednesday\, Sep. 19 at 1 PM: Discover Green-Wood\nSunday\, Sep. 23 at 1 PM: The Far Side of Green-Wood\nWednesday\, Sep. 26 at 1 PM: The Far Side of Green-Wood \nWednesday\, Oct. 3 at 1 PM: Hidden Gems of Green-Wood\nSunday\, Oct. 7 at 1 PM: Discover Green-Wood\nWednesday\, Oct. 10 at 1 PM: Discover Green-Wood\nSunday\, Oct. 14 at 1 PM: The Far Side of Green-Wood\nWednesday\, Oct. 17 at 1 PM: The Far Side of Green-Wood\nSunday\, Oct. 21 at 1 PM: Hidden Gems of Green-Wood\nWednesday\, Oct. 24 at 1 PM: Hidden Gems of Green-Wood\nSunday\, Oct. 28 at 1 PM: Discover Green-Wood\nWednesday\, Oct. 31 at 1 PM: Discover Green-Wood \nSunday\, Nov. 4 at 1 PM: The Far Side of Green-Wood\nWednesday\, Nov. 7 at 1 PM: The Far Side of Green-Wood\nSunday\, Nov. 11 at 1 PM: Hidden Gems of Green-Wood\nWednesday\, Nov. 14 at 1 PM: Hidden Gems of Green-Wood\nSunday\, Nov. 18 at 1 PM: Discover Green-Wood\nWednesday\, Nov. 21 at 1 PM: Discover Green-Wood\nSunday\, Nov. 25 at 1 PM: The Far Side of Green-Wood\nWednesday\, Nov. 28 at 1 PM: The Far Side of Green-Wood \nSunday\, Dec. 2 at 1 PM: Discover Green-Wood\nWednesday\, Dec. 5 at 1 PM: Hidden Gems of Green-Wood\nWednesday\, Dec. 12 at 1 PM: Discover Green-Wood\nSunday\, Dec. 16 at 1 PM: The Far Side of Green-Wood\nWednesday\, Dec. 19 at 1 PM: The Far Side of Green-Wood\nWednesday\, Dec. 26 at 1 PM: Hidden Gems of Green-Wood
URL:https://www.green-wood.com/event/summer-18-trolley/2018-07-22/
LOCATION:Green-Wood Cemetery\, 500 25th Street\, Brooklyn\, NY\, 11232\, United States
CATEGORIES:Tour,Trolley Tour
ATTACH;FMTTYPE=:
ORGANIZER;CN="Green-Wood Historic Fund":MAILTO:info@greenwoodcemetery.org
END:VEVENT
BEGIN:VEVENT
DTSTART;TZID=America/New_York:20180729T130000
DTEND;TZID=America/New_York:20180729T150000
DTSTAMP:20260425T145631
CREATED:20180123T233251Z
LAST-MODIFIED:20180123T233251Z
UID:10032689-1532869200-1532876400@www.green-wood.com
SUMMARY:Historic Trolley Tours
DESCRIPTION:Credit: Robert Denbo\nExperience the most magnificent and historic 478 acres in New York City. Join our expert tour guides to hear fascinating stories of Green-Wood’s permanent residents\, see breathtaking views of Manhattan\, tread where George Washington and his troops fought the Battle of Brooklyn\, and much more (scroll down for schedule of different themed tours available). \n$15 for members of Green-Wood. / $20 for non-members. Seating is limited. Trolley tours routinely sell out. We strongly suggest that you reserve tickets in advance to ensure a spot for your preferred day! \nGreen-Wood trolley tours are fully accessible and ADA compliant. In order to accommodate a wheelchair or other mobility aids on the trolley\, arrangements must be made in advance. Please call (718) 210-3080\, ext. 1. Please note that portions of the tour take place outside the trolley\, however attendees may stay seated in the trolley if they wish. Please contact the Historic Fund for more information. \nFor this program you will check in at the Gothic Arches\, right at the main entrance. Trolley tours are run rain or shine\, with the exception of dangerous conditions as determined by Green-Wood. Click here for our inclement weather policy. \nMobile users: Please tap here to buy tickets.\n\nNot a Member?\nNew or renewing members are entitled to one free tour ticket a year! This could be a free ride: Click here for all of our membership levels and information. Free tickets must be arranged by phone. Please call (718)210-3080 to redeem. \nAlready a Member?\nClick the “Enter promotional code here (members\, use your ID#)” link in the bottom right corner of the ticket box and enter your ID number to apply your ticket discount. Please note that the Senior\, Individual and Student membership levels are limited to only one Member Ticket per event (for additional tickets\, please purchase at the regular price). \nQuestions?\nDon’t know your Member ID number? Not sure which ticket or membership type to order? Call 718-210-3080 or email contactus@green-wood.com with any questions. \n\n\nTrolley Tour Schedule: \nWednesday\, Aug. 15 at 1 PM: Discover Green-Wood\nSunday\, Aug. 19 at 1 PM: Hidden Gems of Green-Wood\nWednesday\, Aug. 22 at 1 PM: The Far Side of Green-Wood\nSunday\, Aug. 26 at 1 PM: Discover Green-Wood\nWednesday\, Aug. 29 at 1 PM: Hidden Gems of Green-Wood \nSunday\, Sep. 2 at 1 PM: The Far Side of Green-Wood\nWednesday\, Sep. 5 at 1 PM: The Far Side of Green-Wood\nSunday\, Sep. 9 at 1 PM: Hidden Gems of Green-Wood\nWednesday\, Sep. 12 at 1 PM: Hidden Gems of Green-Wood\nSunday\, Sep. 16 at 1 PM: Discover Green-Wood\nWednesday\, Sep. 19 at 1 PM: Discover Green-Wood\nSunday\, Sep. 23 at 1 PM: The Far Side of Green-Wood\nWednesday\, Sep. 26 at 1 PM: The Far Side of Green-Wood \nWednesday\, Oct. 3 at 1 PM: Hidden Gems of Green-Wood\nSunday\, Oct. 7 at 1 PM: Discover Green-Wood\nWednesday\, Oct. 10 at 1 PM: Discover Green-Wood\nSunday\, Oct. 14 at 1 PM: The Far Side of Green-Wood\nWednesday\, Oct. 17 at 1 PM: The Far Side of Green-Wood\nSunday\, Oct. 21 at 1 PM: Hidden Gems of Green-Wood\nWednesday\, Oct. 24 at 1 PM: Hidden Gems of Green-Wood\nSunday\, Oct. 28 at 1 PM: Discover Green-Wood\nWednesday\, Oct. 31 at 1 PM: Discover Green-Wood \nSunday\, Nov. 4 at 1 PM: The Far Side of Green-Wood\nWednesday\, Nov. 7 at 1 PM: The Far Side of Green-Wood\nSunday\, Nov. 11 at 1 PM: Hidden Gems of Green-Wood\nWednesday\, Nov. 14 at 1 PM: Hidden Gems of Green-Wood\nSunday\, Nov. 18 at 1 PM: Discover Green-Wood\nWednesday\, Nov. 21 at 1 PM: Discover Green-Wood\nSunday\, Nov. 25 at 1 PM: The Far Side of Green-Wood\nWednesday\, Nov. 28 at 1 PM: The Far Side of Green-Wood \nSunday\, Dec. 2 at 1 PM: Discover Green-Wood\nWednesday\, Dec. 5 at 1 PM: Hidden Gems of Green-Wood\nWednesday\, Dec. 12 at 1 PM: Discover Green-Wood\nSunday\, Dec. 16 at 1 PM: The Far Side of Green-Wood\nWednesday\, Dec. 19 at 1 PM: The Far Side of Green-Wood\nWednesday\, Dec. 26 at 1 PM: Hidden Gems of Green-Wood
URL:https://www.green-wood.com/event/summer-18-trolley/2018-07-29/
LOCATION:Green-Wood Cemetery\, 500 25th Street\, Brooklyn\, NY\, 11232\, United States
CATEGORIES:Tour,Trolley Tour
ATTACH;FMTTYPE=:
ORGANIZER;CN="Green-Wood Historic Fund":MAILTO:info@greenwoodcemetery.org
END:VEVENT
END:VCALENDAR