BEGIN:VCALENDAR
VERSION:2.0
PRODID:-//Green-Wood - ECPv6.15.20//NONSGML v1.0//EN
CALSCALE:GREGORIAN
METHOD:PUBLISH
X-WR-CALNAME:Green-Wood
X-ORIGINAL-URL:https://www.green-wood.com
X-WR-CALDESC:Events for Green-Wood
REFRESH-INTERVAL;VALUE=DURATION:PT1H
X-Robots-Tag:noindex
X-PUBLISHED-TTL:PT1H
BEGIN:VTIMEZONE
TZID:America/New_York
BEGIN:DAYLIGHT
TZOFFSETFROM:-0500
TZOFFSETTO:-0400
TZNAME:EDT
DTSTART:20240310T070000
END:DAYLIGHT
BEGIN:STANDARD
TZOFFSETFROM:-0400
TZOFFSETTO:-0500
TZNAME:EST
DTSTART:20241103T060000
END:STANDARD
BEGIN:DAYLIGHT
TZOFFSETFROM:-0500
TZOFFSETTO:-0400
TZNAME:EDT
DTSTART:20250309T070000
END:DAYLIGHT
BEGIN:STANDARD
TZOFFSETFROM:-0400
TZOFFSETTO:-0500
TZNAME:EST
DTSTART:20251102T060000
END:STANDARD
BEGIN:DAYLIGHT
TZOFFSETFROM:-0500
TZOFFSETTO:-0400
TZNAME:EDT
DTSTART:20260308T070000
END:DAYLIGHT
BEGIN:STANDARD
TZOFFSETFROM:-0400
TZOFFSETTO:-0500
TZNAME:EST
DTSTART:20261101T060000
END:STANDARD
BEGIN:DAYLIGHT
TZOFFSETFROM:-0500
TZOFFSETTO:-0400
TZNAME:EDT
DTSTART:20270314T070000
END:DAYLIGHT
BEGIN:STANDARD
TZOFFSETFROM:-0400
TZOFFSETTO:-0500
TZNAME:EST
DTSTART:20271107T060000
END:STANDARD
END:VTIMEZONE
BEGIN:VEVENT
DTSTART;TZID=America/New_York:20251003T180000
DTEND;TZID=America/New_York:20251003T203000
DTSTAMP:20260423T061732
CREATED:20250317T050454Z
LAST-MODIFIED:20250922T164604Z
UID:10036799-1759514400-1759523400@www.green-wood.com
SUMMARY:(SOLD OUT) Paola Prestini: Houses of Zodiac
DESCRIPTION:Part of the Angel’s Share series\, presented with Death of Classical\n\n\n\n\n\n\n\n\n\n\n\nWe conclude our 2025 season of the Angel’s Share with Houses of Zodiac\, a sprawling\, multidisciplinary masterwork by composer Paola Prestini\, praised by The Wall Street Journal as an artist “known for pushing the boundaries of classical music.” Prestini’s expansive composition is brought to life by Jeffrey Zeigler (formerly of the Kronos Quartet) on solo cello\, and dancers Georgina Pazcoguin (former New York City Ballet soloist) and Dai Matsuoka (Butoh dance master of Sankai Juku)\, as they move through the length of the Catacombs\, unfolding an emotionally-charged story of creation\, guilt\, and emancipation. \n\n\n\n\n\n\n\nPrice: $80\, $64 for members \n\n\n\n\nSold Out\n\n\n\n\n\n\n\n\n\nIn-Person Event(see details below)\n\n\n\n\n\nPoetic interludes by Octavio Paz\, Anaïs Nin\, Brenda Shaughnessy\, and Natasha Trethewey will be read by Maria Popova\, the visionary behind The Marginalian (formerly Brain Pickings). \n\n\n\nStrings Magazine lauded Prestini and Zeigler’s recording of Houses of Zodiac as “one of the greatest and most ambitious solo cello albums of all time.” For these performances\, they’ve transformed that music into an immersive\, uncategorizable site-specific experience. \n\n\n\nPlease note that if only 1 ticket shows as available during the purchase process that is the last ticket available. \n\n\n\nBefore Purchasing Tickets\, Please Note:\n\n\n\n\nTicket sales are final. No exchanges or refunds unless the event is canceled.\n\n\n\nAttendees must follow all instructions and guidance from Cemetery staff and ambassadors.\n\n\n\nWhere To Go: Check-in begins 15 minutes before your ticketed start time and ONLY takes place at the Gothic Arch near the Main Entrance on Fifth Avenue and 25th Street (500 25th Street). There are no paper or e-tickets! Attendees will be checked in by name. \n\n\n\nFood and Drinks: We will start with a 45-minute reception at the Modern Chapel to enjoy a tasting of cocktails by Via Carota and snacks (all free!)\, and the beauty of the Cemetery\, before the program begins. Tasting is for those 21 years of age or older with proof of ID.\n\n\n\nEarly Evening Performance (6pm): Arrive for check-in at the Gothic Arch no later than 6:45pm.\n\n\n\nTwilight Performance (7:30pm): Arrive for check-in at the Gothic Arch no later than 8:15pm.\n\n\n\nAccessibility & Safety: Please note that the Catacombs are a historic structure and not ADA compliant. Access requires ascending and descending stairs. We strongly encourage attendees to dress for the conditions of the Catacombs\, which can be cooler than the outdoor temperature. \n\n\n\nA Little More About Accessibility & Safety: Attendees may travel to the Catacombs on foot or by trolley. The walk takes about 20-30 minutes\, and includes hilly and uneven terrain. Proper footwear and flashlights are strongly recommended. The Green-Wood trolley is ADA-compliant\, but the Catacombs are not. If you have any questions or concerns regarding disability-related accommodations for this program\, please call 718-210-3080\, ext. 1 or email events@green-wood.com.
URL:https://www.green-wood.com/event/paola-prestini-houses-of-zodiac/2025-10-03/1/
CATEGORIES:The Angel's Share
ATTACH;FMTTYPE=image/jpeg:https://www.green-wood.com/wp-content/uploads/2025/03/Houses-of-the-Zodiac.jpg
END:VEVENT
BEGIN:VEVENT
DTSTART;TZID=America/New_York:20251003T193000
DTEND;TZID=America/New_York:20251003T220000
DTSTAMP:20260423T061732
CREATED:20250317T050454Z
LAST-MODIFIED:20250922T164604Z
UID:10036800-1759519800-1759528800@www.green-wood.com
SUMMARY:(SOLD OUT) Paola Prestini: Houses of Zodiac
DESCRIPTION:Part of the Angel’s Share series\, presented with Death of Classical\n\n\n\n\n\n\n\n\n\n\n\nWe conclude our 2025 season of the Angel’s Share with Houses of Zodiac\, a sprawling\, multidisciplinary masterwork by composer Paola Prestini\, praised by The Wall Street Journal as an artist “known for pushing the boundaries of classical music.” Prestini’s expansive composition is brought to life by Jeffrey Zeigler (formerly of the Kronos Quartet) on solo cello\, and dancers Georgina Pazcoguin (former New York City Ballet soloist) and Dai Matsuoka (Butoh dance master of Sankai Juku)\, as they move through the length of the Catacombs\, unfolding an emotionally-charged story of creation\, guilt\, and emancipation. \n\n\n\n\n\n\n\nPrice: $80\, $64 for members \n\n\n\n\nSold Out\n\n\n\n\n\n\n\n\n\nIn-Person Event(see details below)\n\n\n\n\n\nPoetic interludes by Octavio Paz\, Anaïs Nin\, Brenda Shaughnessy\, and Natasha Trethewey will be read by Maria Popova\, the visionary behind The Marginalian (formerly Brain Pickings). \n\n\n\nStrings Magazine lauded Prestini and Zeigler’s recording of Houses of Zodiac as “one of the greatest and most ambitious solo cello albums of all time.” For these performances\, they’ve transformed that music into an immersive\, uncategorizable site-specific experience. \n\n\n\nPlease note that if only 1 ticket shows as available during the purchase process that is the last ticket available. \n\n\n\nBefore Purchasing Tickets\, Please Note:\n\n\n\n\nTicket sales are final. No exchanges or refunds unless the event is canceled.\n\n\n\nAttendees must follow all instructions and guidance from Cemetery staff and ambassadors.\n\n\n\nWhere To Go: Check-in begins 15 minutes before your ticketed start time and ONLY takes place at the Gothic Arch near the Main Entrance on Fifth Avenue and 25th Street (500 25th Street). There are no paper or e-tickets! Attendees will be checked in by name. \n\n\n\nFood and Drinks: We will start with a 45-minute reception at the Modern Chapel to enjoy a tasting of cocktails by Via Carota and snacks (all free!)\, and the beauty of the Cemetery\, before the program begins. Tasting is for those 21 years of age or older with proof of ID.\n\n\n\nEarly Evening Performance (6pm): Arrive for check-in at the Gothic Arch no later than 6:45pm.\n\n\n\nTwilight Performance (7:30pm): Arrive for check-in at the Gothic Arch no later than 8:15pm.\n\n\n\nAccessibility & Safety: Please note that the Catacombs are a historic structure and not ADA compliant. Access requires ascending and descending stairs. We strongly encourage attendees to dress for the conditions of the Catacombs\, which can be cooler than the outdoor temperature. \n\n\n\nA Little More About Accessibility & Safety: Attendees may travel to the Catacombs on foot or by trolley. The walk takes about 20-30 minutes\, and includes hilly and uneven terrain. Proper footwear and flashlights are strongly recommended. The Green-Wood trolley is ADA-compliant\, but the Catacombs are not. If you have any questions or concerns regarding disability-related accommodations for this program\, please call 718-210-3080\, ext. 1 or email events@green-wood.com.
URL:https://www.green-wood.com/event/paola-prestini-houses-of-zodiac/2025-10-03/2/
CATEGORIES:The Angel's Share
ATTACH;FMTTYPE=image/jpeg:https://www.green-wood.com/wp-content/uploads/2025/03/Houses-of-the-Zodiac.jpg
END:VEVENT
BEGIN:VEVENT
DTSTART;TZID=America/New_York:20260508T190000
DTEND;TZID=America/New_York:20260508T210000
DTSTAMP:20260423T061732
CREATED:20260408T201317Z
LAST-MODIFIED:20260408T201322Z
UID:10037512-1778266800-1778274000@www.green-wood.com
SUMMARY:Frida\, Diego\, and the Day of the Dead
DESCRIPTION:Various Artists\, in partnership with The Metropolitan Opera\n\n\n\n\n\n\n\n\n\n\n\nDeath of Classical and The Green-Wood Cemetery are proud to partner with the Metropolitan Opera in a celebration of El Último Sueño de Frida y Diego–the evocative new opera by composer Gabriela Lena Frank\, with a libretto by Pulitzer Prize-winning playwright Nilo Cruz\, opening at the Met on May 14\, 2026. \n\n\n\nA magical-realist portrait of Mexico’s most iconic artistic couple\, El Último Sueño de Frida y Diego imagines a reunion between Frida Kahlo and Diego Rivera on Día de los Muertos (Day of the Dead)\, weaving dreams\, memory\, love\, and art into a mythic journey that transcends life and loss.  Sung in Spanish and grounded in Mexican cultural traditions\, the opera weaves together lush orchestration and moments of haunting beauty. \n\n\n\n\n\n\n\n\nRegister\n\n\n\n\n\n\n\n\n\nIn-Person Event(see details below)\n\n\n\n\n\nOn May 8\, Green-Wood—long a place of remembrance and reflection—hosts an outdoor program inspired by El Último Sueño. The event features stars from the opera performing musical excerpts alongside poetry\, performance\, and conversation exploring the world of this new opera and its themes of love\, grief\, legacy\, and sacrifice. \n\n\n\nMore than a performance\, Frida\, Diego\, and the Day of the Dead will offer a communal reflection on love\, grief\, legacy\, and sacrifice\, and an exploration of the cultural stories that bind Frida and Diego’s journey to our own collective imagination. This large-scale outdoor event will take place near the Arch entrance of Green-Wood Cemetery\, with seating options including premium seating at reserved tables and general admission seating in chairs and on the grass. The pre-show experience will include tastings of spirits and non-alcoholic libations\, immersive performances\, and food for purchase. \n\n\n\nTicket Tiers:\n\n\n\n\n$300– Premium seating for four at a reserved table near the stage (price includes all four seats at the table)\, with complimentary beverages at your table\n\n\n\n$25 – General admission seating in chairs\n\n\n\n$10 – General admission seating on the grass (small blankets permitted\, no chairs or picnics allowed).\n\n\n\n\nMember Discount: Green-Wood and Death of Classical members receive 20% off the above ticket price for the General admission seating in chairs and on the grass. PLEASE NOTE\, there is no Member Discount on Premium Seating at tables. \n\n\n\nBefore Purchasing A Ticket\, Please Note:\n\n\n\n\nTasting is for attendees 21 years of age or older with proof of ID. Spirits tasting\, water\, and some light snacks are free.\n\n\n\nSeating is General Admission on grass. Attendees are encouraged to bring a blanket. Lawn chairs\, picnics\, or outside food are not permitted. If you need disability-related accommodations for seating\, please call (718) 768-7300 or email events@green-wood.com.\n\n\n\nTickets: There is no need to print tickets! Attendees will be checked in by name.\n\n\n\nWhere To Go: Check-in begins at 6:30pm and ONLY takes place at the Main Entrance on Fifth Avenue and 25th Street (500 25th Street). Doors open at 7pm and the performance begins at 8pm. Please note there is no early entry\, and the gates close promptly at 8pm.\n\n\n\nParking: There is no on-site parking available.\n\n\n\nAccessibility and Safety: This event takes place on Landscape Avenue\, near the Historic Chapel (an approximately 5-minute walk from the Gothic Arch). We strongly encourage attendees to wear suitable footwear. If you have any questions or concerns regarding disability-related accommodations for this program\, please call 718-210-3080\, ext. 1\, or email events@green-wood.com.\n\n\n\nRefunds: Ticket sales are final. No exchanges or refunds. In case of inclement weather\, tickets will ONLY be honored on the rain date\, Saturday\, May 9th. If you cannot make the rain date\, you may transfer the tickets to a friend. If you choose not to make use of the tickets on the rain date\, no refund will be provided.\n\n\n\nInclement Weather Policy: We monitor weather conditions throughout the day for the best chance of proceeding with the program\, and will not make a final decision until approximately 3 hours before the start of the event. Cancellations will be announced via Eventbrite email blasts\, so check your email and spam folders.
URL:https://www.green-wood.com/event/frida-diego-and-the-day-of-the-dead/
CATEGORIES:The Angel's Share
ATTACH;FMTTYPE=image/jpeg:https://www.green-wood.com/wp-content/uploads/2026/04/preview.jpg
END:VEVENT
END:VCALENDAR