BEGIN:VCALENDAR
VERSION:2.0
PRODID:-//Green-Wood - ECPv6.15.20//NONSGML v1.0//EN
CALSCALE:GREGORIAN
METHOD:PUBLISH
X-ORIGINAL-URL:https://www.green-wood.com
X-WR-CALDESC:Events for Green-Wood
REFRESH-INTERVAL;VALUE=DURATION:PT1H
X-Robots-Tag:noindex
X-PUBLISHED-TTL:PT1H
BEGIN:VTIMEZONE
TZID:America/New_York
BEGIN:DAYLIGHT
TZOFFSETFROM:-0500
TZOFFSETTO:-0400
TZNAME:EDT
DTSTART:20240310T070000
END:DAYLIGHT
BEGIN:STANDARD
TZOFFSETFROM:-0400
TZOFFSETTO:-0500
TZNAME:EST
DTSTART:20241103T060000
END:STANDARD
BEGIN:DAYLIGHT
TZOFFSETFROM:-0500
TZOFFSETTO:-0400
TZNAME:EDT
DTSTART:20250309T070000
END:DAYLIGHT
BEGIN:STANDARD
TZOFFSETFROM:-0400
TZOFFSETTO:-0500
TZNAME:EST
DTSTART:20251102T060000
END:STANDARD
BEGIN:DAYLIGHT
TZOFFSETFROM:-0500
TZOFFSETTO:-0400
TZNAME:EDT
DTSTART:20260308T070000
END:DAYLIGHT
BEGIN:STANDARD
TZOFFSETFROM:-0400
TZOFFSETTO:-0500
TZNAME:EST
DTSTART:20261101T060000
END:STANDARD
END:VTIMEZONE
BEGIN:VEVENT
DTSTART;TZID=America/New_York:20251001T180000
DTEND;TZID=America/New_York:20251001T203000
DTSTAMP:20260420T113940
CREATED:20250317T050454Z
LAST-MODIFIED:20250922T164604Z
UID:10036795-1759341600-1759350600@www.green-wood.com
SUMMARY:(SOLD OUT) Paola Prestini: Houses of Zodiac
DESCRIPTION:Part of the Angel’s Share series\, presented with Death of Classical\n\n\n\n\n\n\n\n\n\n\n\nWe conclude our 2025 season of the Angel’s Share with Houses of Zodiac\, a sprawling\, multidisciplinary masterwork by composer Paola Prestini\, praised by The Wall Street Journal as an artist “known for pushing the boundaries of classical music.” Prestini’s expansive composition is brought to life by Jeffrey Zeigler (formerly of the Kronos Quartet) on solo cello\, and dancers Georgina Pazcoguin (former New York City Ballet soloist) and Dai Matsuoka (Butoh dance master of Sankai Juku)\, as they move through the length of the Catacombs\, unfolding an emotionally-charged story of creation\, guilt\, and emancipation. \n\n\n\n\n\n\n\nPrice: $80\, $64 for members \n\n\n\n\nSold Out\n\n\n\n\n\n\n\n\n\nIn-Person Event(see details below)\n\n\n\n\n\nPoetic interludes by Octavio Paz\, Anaïs Nin\, Brenda Shaughnessy\, and Natasha Trethewey will be read by Maria Popova\, the visionary behind The Marginalian (formerly Brain Pickings). \n\n\n\nStrings Magazine lauded Prestini and Zeigler’s recording of Houses of Zodiac as “one of the greatest and most ambitious solo cello albums of all time.” For these performances\, they’ve transformed that music into an immersive\, uncategorizable site-specific experience. \n\n\n\nPlease note that if only 1 ticket shows as available during the purchase process that is the last ticket available. \n\n\n\nBefore Purchasing Tickets\, Please Note:\n\n\n\n\nTicket sales are final. No exchanges or refunds unless the event is canceled.\n\n\n\nAttendees must follow all instructions and guidance from Cemetery staff and ambassadors.\n\n\n\nWhere To Go: Check-in begins 15 minutes before your ticketed start time and ONLY takes place at the Gothic Arch near the Main Entrance on Fifth Avenue and 25th Street (500 25th Street). There are no paper or e-tickets! Attendees will be checked in by name. \n\n\n\nFood and Drinks: We will start with a 45-minute reception at the Modern Chapel to enjoy a tasting of cocktails by Via Carota and snacks (all free!)\, and the beauty of the Cemetery\, before the program begins. Tasting is for those 21 years of age or older with proof of ID.\n\n\n\nEarly Evening Performance (6pm): Arrive for check-in at the Gothic Arch no later than 6:45pm.\n\n\n\nTwilight Performance (7:30pm): Arrive for check-in at the Gothic Arch no later than 8:15pm.\n\n\n\nAccessibility & Safety: Please note that the Catacombs are a historic structure and not ADA compliant. Access requires ascending and descending stairs. We strongly encourage attendees to dress for the conditions of the Catacombs\, which can be cooler than the outdoor temperature. \n\n\n\nA Little More About Accessibility & Safety: Attendees may travel to the Catacombs on foot or by trolley. The walk takes about 20-30 minutes\, and includes hilly and uneven terrain. Proper footwear and flashlights are strongly recommended. The Green-Wood trolley is ADA-compliant\, but the Catacombs are not. If you have any questions or concerns regarding disability-related accommodations for this program\, please call 718-210-3080\, ext. 1 or email events@green-wood.com.
URL:https://www.green-wood.com/event/paola-prestini-houses-of-zodiac/2025-10-01/1/
CATEGORIES:The Angel's Share
ATTACH;FMTTYPE=image/jpeg:https://www.green-wood.com/wp-content/uploads/2025/03/Houses-of-the-Zodiac.jpg
END:VEVENT
BEGIN:VEVENT
DTSTART;TZID=America/New_York:20251001T193000
DTEND;TZID=America/New_York:20251001T220000
DTSTAMP:20260420T113940
CREATED:20250317T050454Z
LAST-MODIFIED:20250922T164604Z
UID:10036796-1759347000-1759356000@www.green-wood.com
SUMMARY:(SOLD OUT) Paola Prestini: Houses of Zodiac
DESCRIPTION:Part of the Angel’s Share series\, presented with Death of Classical\n\n\n\n\n\n\n\n\n\n\n\nWe conclude our 2025 season of the Angel’s Share with Houses of Zodiac\, a sprawling\, multidisciplinary masterwork by composer Paola Prestini\, praised by The Wall Street Journal as an artist “known for pushing the boundaries of classical music.” Prestini’s expansive composition is brought to life by Jeffrey Zeigler (formerly of the Kronos Quartet) on solo cello\, and dancers Georgina Pazcoguin (former New York City Ballet soloist) and Dai Matsuoka (Butoh dance master of Sankai Juku)\, as they move through the length of the Catacombs\, unfolding an emotionally-charged story of creation\, guilt\, and emancipation. \n\n\n\n\n\n\n\nPrice: $80\, $64 for members \n\n\n\n\nSold Out\n\n\n\n\n\n\n\n\n\nIn-Person Event(see details below)\n\n\n\n\n\nPoetic interludes by Octavio Paz\, Anaïs Nin\, Brenda Shaughnessy\, and Natasha Trethewey will be read by Maria Popova\, the visionary behind The Marginalian (formerly Brain Pickings). \n\n\n\nStrings Magazine lauded Prestini and Zeigler’s recording of Houses of Zodiac as “one of the greatest and most ambitious solo cello albums of all time.” For these performances\, they’ve transformed that music into an immersive\, uncategorizable site-specific experience. \n\n\n\nPlease note that if only 1 ticket shows as available during the purchase process that is the last ticket available. \n\n\n\nBefore Purchasing Tickets\, Please Note:\n\n\n\n\nTicket sales are final. No exchanges or refunds unless the event is canceled.\n\n\n\nAttendees must follow all instructions and guidance from Cemetery staff and ambassadors.\n\n\n\nWhere To Go: Check-in begins 15 minutes before your ticketed start time and ONLY takes place at the Gothic Arch near the Main Entrance on Fifth Avenue and 25th Street (500 25th Street). There are no paper or e-tickets! Attendees will be checked in by name. \n\n\n\nFood and Drinks: We will start with a 45-minute reception at the Modern Chapel to enjoy a tasting of cocktails by Via Carota and snacks (all free!)\, and the beauty of the Cemetery\, before the program begins. Tasting is for those 21 years of age or older with proof of ID.\n\n\n\nEarly Evening Performance (6pm): Arrive for check-in at the Gothic Arch no later than 6:45pm.\n\n\n\nTwilight Performance (7:30pm): Arrive for check-in at the Gothic Arch no later than 8:15pm.\n\n\n\nAccessibility & Safety: Please note that the Catacombs are a historic structure and not ADA compliant. Access requires ascending and descending stairs. We strongly encourage attendees to dress for the conditions of the Catacombs\, which can be cooler than the outdoor temperature. \n\n\n\nA Little More About Accessibility & Safety: Attendees may travel to the Catacombs on foot or by trolley. The walk takes about 20-30 minutes\, and includes hilly and uneven terrain. Proper footwear and flashlights are strongly recommended. The Green-Wood trolley is ADA-compliant\, but the Catacombs are not. If you have any questions or concerns regarding disability-related accommodations for this program\, please call 718-210-3080\, ext. 1 or email events@green-wood.com.
URL:https://www.green-wood.com/event/paola-prestini-houses-of-zodiac/2025-10-01/2/
CATEGORIES:The Angel's Share
ATTACH;FMTTYPE=image/jpeg:https://www.green-wood.com/wp-content/uploads/2025/03/Houses-of-the-Zodiac.jpg
END:VEVENT
BEGIN:VEVENT
DTSTART;TZID=America/New_York:20251002T180000
DTEND;TZID=America/New_York:20251002T203000
DTSTAMP:20260420T113940
CREATED:20250317T050454Z
LAST-MODIFIED:20250922T164604Z
UID:10036797-1759428000-1759437000@www.green-wood.com
SUMMARY:(SOLD OUT) Paola Prestini: Houses of Zodiac
DESCRIPTION:Part of the Angel’s Share series\, presented with Death of Classical\n\n\n\n\n\n\n\n\n\n\n\nWe conclude our 2025 season of the Angel’s Share with Houses of Zodiac\, a sprawling\, multidisciplinary masterwork by composer Paola Prestini\, praised by The Wall Street Journal as an artist “known for pushing the boundaries of classical music.” Prestini’s expansive composition is brought to life by Jeffrey Zeigler (formerly of the Kronos Quartet) on solo cello\, and dancers Georgina Pazcoguin (former New York City Ballet soloist) and Dai Matsuoka (Butoh dance master of Sankai Juku)\, as they move through the length of the Catacombs\, unfolding an emotionally-charged story of creation\, guilt\, and emancipation. \n\n\n\n\n\n\n\nPrice: $80\, $64 for members \n\n\n\n\nSold Out\n\n\n\n\n\n\n\n\n\nIn-Person Event(see details below)\n\n\n\n\n\nPoetic interludes by Octavio Paz\, Anaïs Nin\, Brenda Shaughnessy\, and Natasha Trethewey will be read by Maria Popova\, the visionary behind The Marginalian (formerly Brain Pickings). \n\n\n\nStrings Magazine lauded Prestini and Zeigler’s recording of Houses of Zodiac as “one of the greatest and most ambitious solo cello albums of all time.” For these performances\, they’ve transformed that music into an immersive\, uncategorizable site-specific experience. \n\n\n\nPlease note that if only 1 ticket shows as available during the purchase process that is the last ticket available. \n\n\n\nBefore Purchasing Tickets\, Please Note:\n\n\n\n\nTicket sales are final. No exchanges or refunds unless the event is canceled.\n\n\n\nAttendees must follow all instructions and guidance from Cemetery staff and ambassadors.\n\n\n\nWhere To Go: Check-in begins 15 minutes before your ticketed start time and ONLY takes place at the Gothic Arch near the Main Entrance on Fifth Avenue and 25th Street (500 25th Street). There are no paper or e-tickets! Attendees will be checked in by name. \n\n\n\nFood and Drinks: We will start with a 45-minute reception at the Modern Chapel to enjoy a tasting of cocktails by Via Carota and snacks (all free!)\, and the beauty of the Cemetery\, before the program begins. Tasting is for those 21 years of age or older with proof of ID.\n\n\n\nEarly Evening Performance (6pm): Arrive for check-in at the Gothic Arch no later than 6:45pm.\n\n\n\nTwilight Performance (7:30pm): Arrive for check-in at the Gothic Arch no later than 8:15pm.\n\n\n\nAccessibility & Safety: Please note that the Catacombs are a historic structure and not ADA compliant. Access requires ascending and descending stairs. We strongly encourage attendees to dress for the conditions of the Catacombs\, which can be cooler than the outdoor temperature. \n\n\n\nA Little More About Accessibility & Safety: Attendees may travel to the Catacombs on foot or by trolley. The walk takes about 20-30 minutes\, and includes hilly and uneven terrain. Proper footwear and flashlights are strongly recommended. The Green-Wood trolley is ADA-compliant\, but the Catacombs are not. If you have any questions or concerns regarding disability-related accommodations for this program\, please call 718-210-3080\, ext. 1 or email events@green-wood.com.
URL:https://www.green-wood.com/event/paola-prestini-houses-of-zodiac/2025-10-02/1/
CATEGORIES:The Angel's Share
ATTACH;FMTTYPE=image/jpeg:https://www.green-wood.com/wp-content/uploads/2025/03/Houses-of-the-Zodiac.jpg
END:VEVENT
BEGIN:VEVENT
DTSTART;TZID=America/New_York:20251002T193000
DTEND;TZID=America/New_York:20251002T220000
DTSTAMP:20260420T113940
CREATED:20250317T050454Z
LAST-MODIFIED:20250922T164604Z
UID:10036798-1759433400-1759442400@www.green-wood.com
SUMMARY:(SOLD OUT) Paola Prestini: Houses of Zodiac
DESCRIPTION:Part of the Angel’s Share series\, presented with Death of Classical\n\n\n\n\n\n\n\n\n\n\n\nWe conclude our 2025 season of the Angel’s Share with Houses of Zodiac\, a sprawling\, multidisciplinary masterwork by composer Paola Prestini\, praised by The Wall Street Journal as an artist “known for pushing the boundaries of classical music.” Prestini’s expansive composition is brought to life by Jeffrey Zeigler (formerly of the Kronos Quartet) on solo cello\, and dancers Georgina Pazcoguin (former New York City Ballet soloist) and Dai Matsuoka (Butoh dance master of Sankai Juku)\, as they move through the length of the Catacombs\, unfolding an emotionally-charged story of creation\, guilt\, and emancipation. \n\n\n\n\n\n\n\nPrice: $80\, $64 for members \n\n\n\n\nSold Out\n\n\n\n\n\n\n\n\n\nIn-Person Event(see details below)\n\n\n\n\n\nPoetic interludes by Octavio Paz\, Anaïs Nin\, Brenda Shaughnessy\, and Natasha Trethewey will be read by Maria Popova\, the visionary behind The Marginalian (formerly Brain Pickings). \n\n\n\nStrings Magazine lauded Prestini and Zeigler’s recording of Houses of Zodiac as “one of the greatest and most ambitious solo cello albums of all time.” For these performances\, they’ve transformed that music into an immersive\, uncategorizable site-specific experience. \n\n\n\nPlease note that if only 1 ticket shows as available during the purchase process that is the last ticket available. \n\n\n\nBefore Purchasing Tickets\, Please Note:\n\n\n\n\nTicket sales are final. No exchanges or refunds unless the event is canceled.\n\n\n\nAttendees must follow all instructions and guidance from Cemetery staff and ambassadors.\n\n\n\nWhere To Go: Check-in begins 15 minutes before your ticketed start time and ONLY takes place at the Gothic Arch near the Main Entrance on Fifth Avenue and 25th Street (500 25th Street). There are no paper or e-tickets! Attendees will be checked in by name. \n\n\n\nFood and Drinks: We will start with a 45-minute reception at the Modern Chapel to enjoy a tasting of cocktails by Via Carota and snacks (all free!)\, and the beauty of the Cemetery\, before the program begins. Tasting is for those 21 years of age or older with proof of ID.\n\n\n\nEarly Evening Performance (6pm): Arrive for check-in at the Gothic Arch no later than 6:45pm.\n\n\n\nTwilight Performance (7:30pm): Arrive for check-in at the Gothic Arch no later than 8:15pm.\n\n\n\nAccessibility & Safety: Please note that the Catacombs are a historic structure and not ADA compliant. Access requires ascending and descending stairs. We strongly encourage attendees to dress for the conditions of the Catacombs\, which can be cooler than the outdoor temperature. \n\n\n\nA Little More About Accessibility & Safety: Attendees may travel to the Catacombs on foot or by trolley. The walk takes about 20-30 minutes\, and includes hilly and uneven terrain. Proper footwear and flashlights are strongly recommended. The Green-Wood trolley is ADA-compliant\, but the Catacombs are not. If you have any questions or concerns regarding disability-related accommodations for this program\, please call 718-210-3080\, ext. 1 or email events@green-wood.com.
URL:https://www.green-wood.com/event/paola-prestini-houses-of-zodiac/2025-10-02/2/
CATEGORIES:The Angel's Share
ATTACH;FMTTYPE=image/jpeg:https://www.green-wood.com/wp-content/uploads/2025/03/Houses-of-the-Zodiac.jpg
END:VEVENT
BEGIN:VEVENT
DTSTART;TZID=America/New_York:20251003T180000
DTEND;TZID=America/New_York:20251003T203000
DTSTAMP:20260420T113940
CREATED:20250317T050454Z
LAST-MODIFIED:20250922T164604Z
UID:10036799-1759514400-1759523400@www.green-wood.com
SUMMARY:(SOLD OUT) Paola Prestini: Houses of Zodiac
DESCRIPTION:Part of the Angel’s Share series\, presented with Death of Classical\n\n\n\n\n\n\n\n\n\n\n\nWe conclude our 2025 season of the Angel’s Share with Houses of Zodiac\, a sprawling\, multidisciplinary masterwork by composer Paola Prestini\, praised by The Wall Street Journal as an artist “known for pushing the boundaries of classical music.” Prestini’s expansive composition is brought to life by Jeffrey Zeigler (formerly of the Kronos Quartet) on solo cello\, and dancers Georgina Pazcoguin (former New York City Ballet soloist) and Dai Matsuoka (Butoh dance master of Sankai Juku)\, as they move through the length of the Catacombs\, unfolding an emotionally-charged story of creation\, guilt\, and emancipation. \n\n\n\n\n\n\n\nPrice: $80\, $64 for members \n\n\n\n\nSold Out\n\n\n\n\n\n\n\n\n\nIn-Person Event(see details below)\n\n\n\n\n\nPoetic interludes by Octavio Paz\, Anaïs Nin\, Brenda Shaughnessy\, and Natasha Trethewey will be read by Maria Popova\, the visionary behind The Marginalian (formerly Brain Pickings). \n\n\n\nStrings Magazine lauded Prestini and Zeigler’s recording of Houses of Zodiac as “one of the greatest and most ambitious solo cello albums of all time.” For these performances\, they’ve transformed that music into an immersive\, uncategorizable site-specific experience. \n\n\n\nPlease note that if only 1 ticket shows as available during the purchase process that is the last ticket available. \n\n\n\nBefore Purchasing Tickets\, Please Note:\n\n\n\n\nTicket sales are final. No exchanges or refunds unless the event is canceled.\n\n\n\nAttendees must follow all instructions and guidance from Cemetery staff and ambassadors.\n\n\n\nWhere To Go: Check-in begins 15 minutes before your ticketed start time and ONLY takes place at the Gothic Arch near the Main Entrance on Fifth Avenue and 25th Street (500 25th Street). There are no paper or e-tickets! Attendees will be checked in by name. \n\n\n\nFood and Drinks: We will start with a 45-minute reception at the Modern Chapel to enjoy a tasting of cocktails by Via Carota and snacks (all free!)\, and the beauty of the Cemetery\, before the program begins. Tasting is for those 21 years of age or older with proof of ID.\n\n\n\nEarly Evening Performance (6pm): Arrive for check-in at the Gothic Arch no later than 6:45pm.\n\n\n\nTwilight Performance (7:30pm): Arrive for check-in at the Gothic Arch no later than 8:15pm.\n\n\n\nAccessibility & Safety: Please note that the Catacombs are a historic structure and not ADA compliant. Access requires ascending and descending stairs. We strongly encourage attendees to dress for the conditions of the Catacombs\, which can be cooler than the outdoor temperature. \n\n\n\nA Little More About Accessibility & Safety: Attendees may travel to the Catacombs on foot or by trolley. The walk takes about 20-30 minutes\, and includes hilly and uneven terrain. Proper footwear and flashlights are strongly recommended. The Green-Wood trolley is ADA-compliant\, but the Catacombs are not. If you have any questions or concerns regarding disability-related accommodations for this program\, please call 718-210-3080\, ext. 1 or email events@green-wood.com.
URL:https://www.green-wood.com/event/paola-prestini-houses-of-zodiac/2025-10-03/1/
CATEGORIES:The Angel's Share
ATTACH;FMTTYPE=image/jpeg:https://www.green-wood.com/wp-content/uploads/2025/03/Houses-of-the-Zodiac.jpg
END:VEVENT
BEGIN:VEVENT
DTSTART;TZID=America/New_York:20251003T193000
DTEND;TZID=America/New_York:20251003T220000
DTSTAMP:20260420T113940
CREATED:20250317T050454Z
LAST-MODIFIED:20250922T164604Z
UID:10036800-1759519800-1759528800@www.green-wood.com
SUMMARY:(SOLD OUT) Paola Prestini: Houses of Zodiac
DESCRIPTION:Part of the Angel’s Share series\, presented with Death of Classical\n\n\n\n\n\n\n\n\n\n\n\nWe conclude our 2025 season of the Angel’s Share with Houses of Zodiac\, a sprawling\, multidisciplinary masterwork by composer Paola Prestini\, praised by The Wall Street Journal as an artist “known for pushing the boundaries of classical music.” Prestini’s expansive composition is brought to life by Jeffrey Zeigler (formerly of the Kronos Quartet) on solo cello\, and dancers Georgina Pazcoguin (former New York City Ballet soloist) and Dai Matsuoka (Butoh dance master of Sankai Juku)\, as they move through the length of the Catacombs\, unfolding an emotionally-charged story of creation\, guilt\, and emancipation. \n\n\n\n\n\n\n\nPrice: $80\, $64 for members \n\n\n\n\nSold Out\n\n\n\n\n\n\n\n\n\nIn-Person Event(see details below)\n\n\n\n\n\nPoetic interludes by Octavio Paz\, Anaïs Nin\, Brenda Shaughnessy\, and Natasha Trethewey will be read by Maria Popova\, the visionary behind The Marginalian (formerly Brain Pickings). \n\n\n\nStrings Magazine lauded Prestini and Zeigler’s recording of Houses of Zodiac as “one of the greatest and most ambitious solo cello albums of all time.” For these performances\, they’ve transformed that music into an immersive\, uncategorizable site-specific experience. \n\n\n\nPlease note that if only 1 ticket shows as available during the purchase process that is the last ticket available. \n\n\n\nBefore Purchasing Tickets\, Please Note:\n\n\n\n\nTicket sales are final. No exchanges or refunds unless the event is canceled.\n\n\n\nAttendees must follow all instructions and guidance from Cemetery staff and ambassadors.\n\n\n\nWhere To Go: Check-in begins 15 minutes before your ticketed start time and ONLY takes place at the Gothic Arch near the Main Entrance on Fifth Avenue and 25th Street (500 25th Street). There are no paper or e-tickets! Attendees will be checked in by name. \n\n\n\nFood and Drinks: We will start with a 45-minute reception at the Modern Chapel to enjoy a tasting of cocktails by Via Carota and snacks (all free!)\, and the beauty of the Cemetery\, before the program begins. Tasting is for those 21 years of age or older with proof of ID.\n\n\n\nEarly Evening Performance (6pm): Arrive for check-in at the Gothic Arch no later than 6:45pm.\n\n\n\nTwilight Performance (7:30pm): Arrive for check-in at the Gothic Arch no later than 8:15pm.\n\n\n\nAccessibility & Safety: Please note that the Catacombs are a historic structure and not ADA compliant. Access requires ascending and descending stairs. We strongly encourage attendees to dress for the conditions of the Catacombs\, which can be cooler than the outdoor temperature. \n\n\n\nA Little More About Accessibility & Safety: Attendees may travel to the Catacombs on foot or by trolley. The walk takes about 20-30 minutes\, and includes hilly and uneven terrain. Proper footwear and flashlights are strongly recommended. The Green-Wood trolley is ADA-compliant\, but the Catacombs are not. If you have any questions or concerns regarding disability-related accommodations for this program\, please call 718-210-3080\, ext. 1 or email events@green-wood.com.
URL:https://www.green-wood.com/event/paola-prestini-houses-of-zodiac/2025-10-03/2/
CATEGORIES:The Angel's Share
ATTACH;FMTTYPE=image/jpeg:https://www.green-wood.com/wp-content/uploads/2025/03/Houses-of-the-Zodiac.jpg
END:VEVENT
END:VCALENDAR