BEGIN:VCALENDAR
VERSION:2.0
PRODID:-//Green-Wood - ECPv6.15.20//NONSGML v1.0//EN
CALSCALE:GREGORIAN
METHOD:PUBLISH
X-ORIGINAL-URL:https://www.green-wood.com
X-WR-CALDESC:Events for Green-Wood
REFRESH-INTERVAL;VALUE=DURATION:PT1H
X-Robots-Tag:noindex
X-PUBLISHED-TTL:PT1H
BEGIN:VTIMEZONE
TZID:America/New_York
BEGIN:DAYLIGHT
TZOFFSETFROM:-0500
TZOFFSETTO:-0400
TZNAME:EDT
DTSTART:20240310T070000
END:DAYLIGHT
BEGIN:STANDARD
TZOFFSETFROM:-0400
TZOFFSETTO:-0500
TZNAME:EST
DTSTART:20241103T060000
END:STANDARD
BEGIN:DAYLIGHT
TZOFFSETFROM:-0500
TZOFFSETTO:-0400
TZNAME:EDT
DTSTART:20250309T070000
END:DAYLIGHT
BEGIN:STANDARD
TZOFFSETFROM:-0400
TZOFFSETTO:-0500
TZNAME:EST
DTSTART:20251102T060000
END:STANDARD
BEGIN:DAYLIGHT
TZOFFSETFROM:-0500
TZOFFSETTO:-0400
TZNAME:EDT
DTSTART:20260308T070000
END:DAYLIGHT
BEGIN:STANDARD
TZOFFSETFROM:-0400
TZOFFSETTO:-0500
TZNAME:EST
DTSTART:20261101T060000
END:STANDARD
END:VTIMEZONE
BEGIN:VEVENT
DTSTART;TZID=America/New_York:20250626T190000
DTEND;TZID=America/New_York:20250626T213000
DTSTAMP:20260425T072352
CREATED:20250317T050735Z
LAST-MODIFIED:20250629T150309Z
UID:10036775-1750964400-1750973400@www.green-wood.com
SUMMARY:Dave Malloy: Ghost Quartet
DESCRIPTION:Part of the Angel’s Share series\, presented with Death of Classical\n\n\n\n\n\nCredit: Illustration: Margaret Ashford-Trotter; Lettering: Nim Ben-Reuven\n\n\n\n\n\nPlease note in case of inclement weather\, the Rain Date for all performances is June 29\, 2025 \n\n\n\nAward-winning composer Dave Malloy calls his genre-defying Ghost Quartet “a song cycle about love\, death\, and whiskey\,” which is basically the entire artistic ethos of the Angel’s Share series! For the show’s 10th anniversary\, Malloy reunites with co-creators Brent Arnold\, Brittain Ashford\, and Gelsey Bell (whose opera morning//mourning graced the Catacombs last September). \n\n\n\n\n\n\n\nPrice: $80-$150 ($64-$120 for members) \n\n\n\n\nGet Tickets\n\n\n\n\n\n\n\n\n\nIn-Person Event(see details below)\n\n\n\n\n\nFor three nights\, as the sun begins to set across Green-Wood\, performers and audience members will come together for a large-scale outdoor performance nestled amid the Cemetery’s historic gravestones.  \n\n\n\nMalloy’s acclaimed\, deeply moving work tells an interwoven tale spanning seven centuries\, exploring the nature of narrative and how the stories we tell continue to haunt us across generations. \n\n\n\nMusic\, Lyrics\, and Text by Dave MalloyDeveloped\, Arranged\, and Performed by Ghost Quartet: Brent Arnold\, Brittain Ashford\, Gelsey Bell\, Dave MalloyDirected by Annie TippeDesigned by Christopher Bowser \n\n\n\nFor the full program and list of performers\, visit Death of Classical’s website. \n\n\n\nPlease note that if only 1 ticket shows as available during the purchase process\, that is the last ticket available. \n\n\n\nTicket Tiers:\n\n\n\n\n$150 – Premium general admission seating guaranteed in the first two rows of chairs.\n\n\n\n$120 – General admission seating in chairs (aside from the first two rows) or cushions at the front (chairs and cushions available on a first-come\, first-served basis). \n\n\n\n$80 – General admission seating in the grass on the surrounding hilltops (small blankets permitted\, no chairs or picnics allowed). \n\n\n\nMember Discount:  Green-Wood and Death of Classical members receive 20% off the above ticket price at each level. \n\n\n\n\nBefore Purchasing Tickets\, Please Note:\n\n\n\n\nTasting is for attendees 21 years of age or older with proof of ID.\n\n\n\nSeating is based on the tier of the purchased ticket(s). Those sitting on the grass are only permitted small blankets; no lawn chairs or picnics are allowed. If you need disability-related accommodations for seating\, please call 718-210-3080\, ext. 1\, or email events@green-wood.com.\n\n\n\nTickets: There is no need to print tickets! Attendees will be checked in by name.\n\n\n\nWhere To Go: Check-in begins at 6:30pm and ONLY takes place at the Main Entrance on Fifth Avenue and 25th Street (500 25th Street). Doors open at 7pm and the performance begins at 8pm. Please note there is no early entry\, and the gates close promptly at 8pm.\n\n\n\nParking: There is no on-site parking available.\n\n\n\nAccessibility and Safety: This event takes place at Clinton Dell in the dark (an approximately 5-minute walk from the Gothic Arch). We strongly encourage attendees to wear suitable footwear and bring flashlights. The route includes several steep hills\, as well as grassy and uneven terrain. If you have any questions or concerns regarding disability-related accommodations for this program\, please call 718-210-3080\, ext. 1\, or email events@green-wood.com.\n\n\n\nA Little More About Safety: This event takes place in the dark. We strongly encourage attendees to wear suitable footwear and bring flashlights. The route includes several steep hills\, as well as grassy and uneven terrain.\n\n\n\nRefunds: Ticket sales are final. No exchanges or refunds. In case of inclement weather\, tickets will ONLY be honored on the rain date\, Sunday\, June 29th. If you cannot make the rain date\, you may transfer the tickets to a friend. If you choose not to make use of the tickets on the rain date\, no refund will be provided.\n\n\n\nInclement Weather Policy: We monitor weather conditions throughout the day for the best chance of proceeding with the program and will not make a final decision until approximately 3 hours before the start of the event. Cancellations will be announced via Eventbrite email blasts\, so check your email and spam folders.
URL:https://www.green-wood.com/event/dave-malloy-ghost-quartet/2025-06-26/
CATEGORIES:The Angel's Share
ATTACH;FMTTYPE=image/jpeg:https://www.green-wood.com/wp-content/uploads/2025/03/Ghost-quartet-website.jpg
END:VEVENT
BEGIN:VEVENT
DTSTART;TZID=America/New_York:20250627T190000
DTEND;TZID=America/New_York:20250627T213000
DTSTAMP:20260425T072352
CREATED:20250317T050735Z
LAST-MODIFIED:20250629T150309Z
UID:10036776-1751050800-1751059800@www.green-wood.com
SUMMARY:Dave Malloy: Ghost Quartet
DESCRIPTION:Part of the Angel’s Share series\, presented with Death of Classical\n\n\n\n\n\nCredit: Illustration: Margaret Ashford-Trotter; Lettering: Nim Ben-Reuven\n\n\n\n\n\nPlease note in case of inclement weather\, the Rain Date for all performances is June 29\, 2025 \n\n\n\nAward-winning composer Dave Malloy calls his genre-defying Ghost Quartet “a song cycle about love\, death\, and whiskey\,” which is basically the entire artistic ethos of the Angel’s Share series! For the show’s 10th anniversary\, Malloy reunites with co-creators Brent Arnold\, Brittain Ashford\, and Gelsey Bell (whose opera morning//mourning graced the Catacombs last September). \n\n\n\n\n\n\n\nPrice: $80-$150 ($64-$120 for members) \n\n\n\n\nGet Tickets\n\n\n\n\n\n\n\n\n\nIn-Person Event(see details below)\n\n\n\n\n\nFor three nights\, as the sun begins to set across Green-Wood\, performers and audience members will come together for a large-scale outdoor performance nestled amid the Cemetery’s historic gravestones.  \n\n\n\nMalloy’s acclaimed\, deeply moving work tells an interwoven tale spanning seven centuries\, exploring the nature of narrative and how the stories we tell continue to haunt us across generations. \n\n\n\nMusic\, Lyrics\, and Text by Dave MalloyDeveloped\, Arranged\, and Performed by Ghost Quartet: Brent Arnold\, Brittain Ashford\, Gelsey Bell\, Dave MalloyDirected by Annie TippeDesigned by Christopher Bowser \n\n\n\nFor the full program and list of performers\, visit Death of Classical’s website. \n\n\n\nPlease note that if only 1 ticket shows as available during the purchase process\, that is the last ticket available. \n\n\n\nTicket Tiers:\n\n\n\n\n$150 – Premium general admission seating guaranteed in the first two rows of chairs.\n\n\n\n$120 – General admission seating in chairs (aside from the first two rows) or cushions at the front (chairs and cushions available on a first-come\, first-served basis). \n\n\n\n$80 – General admission seating in the grass on the surrounding hilltops (small blankets permitted\, no chairs or picnics allowed). \n\n\n\nMember Discount:  Green-Wood and Death of Classical members receive 20% off the above ticket price at each level. \n\n\n\n\nBefore Purchasing Tickets\, Please Note:\n\n\n\n\nTasting is for attendees 21 years of age or older with proof of ID.\n\n\n\nSeating is based on the tier of the purchased ticket(s). Those sitting on the grass are only permitted small blankets; no lawn chairs or picnics are allowed. If you need disability-related accommodations for seating\, please call 718-210-3080\, ext. 1\, or email events@green-wood.com.\n\n\n\nTickets: There is no need to print tickets! Attendees will be checked in by name.\n\n\n\nWhere To Go: Check-in begins at 6:30pm and ONLY takes place at the Main Entrance on Fifth Avenue and 25th Street (500 25th Street). Doors open at 7pm and the performance begins at 8pm. Please note there is no early entry\, and the gates close promptly at 8pm.\n\n\n\nParking: There is no on-site parking available.\n\n\n\nAccessibility and Safety: This event takes place at Clinton Dell in the dark (an approximately 5-minute walk from the Gothic Arch). We strongly encourage attendees to wear suitable footwear and bring flashlights. The route includes several steep hills\, as well as grassy and uneven terrain. If you have any questions or concerns regarding disability-related accommodations for this program\, please call 718-210-3080\, ext. 1\, or email events@green-wood.com.\n\n\n\nA Little More About Safety: This event takes place in the dark. We strongly encourage attendees to wear suitable footwear and bring flashlights. The route includes several steep hills\, as well as grassy and uneven terrain.\n\n\n\nRefunds: Ticket sales are final. No exchanges or refunds. In case of inclement weather\, tickets will ONLY be honored on the rain date\, Sunday\, June 29th. If you cannot make the rain date\, you may transfer the tickets to a friend. If you choose not to make use of the tickets on the rain date\, no refund will be provided.\n\n\n\nInclement Weather Policy: We monitor weather conditions throughout the day for the best chance of proceeding with the program and will not make a final decision until approximately 3 hours before the start of the event. Cancellations will be announced via Eventbrite email blasts\, so check your email and spam folders.
URL:https://www.green-wood.com/event/dave-malloy-ghost-quartet/2025-06-27/
CATEGORIES:The Angel's Share
ATTACH;FMTTYPE=image/jpeg:https://www.green-wood.com/wp-content/uploads/2025/03/Ghost-quartet-website.jpg
END:VEVENT
BEGIN:VEVENT
DTSTART;TZID=America/New_York:20250628T190000
DTEND;TZID=America/New_York:20250628T213000
DTSTAMP:20260425T072352
CREATED:20250317T050735Z
LAST-MODIFIED:20250629T150309Z
UID:10036835-1751137200-1751146200@www.green-wood.com
SUMMARY:Dave Malloy: Ghost Quartet
DESCRIPTION:Part of the Angel’s Share series\, presented with Death of Classical\n\n\n\n\n\nCredit: Illustration: Margaret Ashford-Trotter; Lettering: Nim Ben-Reuven\n\n\n\n\n\nPlease note in case of inclement weather\, the Rain Date for all performances is June 29\, 2025 \n\n\n\nAward-winning composer Dave Malloy calls his genre-defying Ghost Quartet “a song cycle about love\, death\, and whiskey\,” which is basically the entire artistic ethos of the Angel’s Share series! For the show’s 10th anniversary\, Malloy reunites with co-creators Brent Arnold\, Brittain Ashford\, and Gelsey Bell (whose opera morning//mourning graced the Catacombs last September). \n\n\n\n\n\n\n\nPrice: $80-$150 ($64-$120 for members) \n\n\n\n\nGet Tickets\n\n\n\n\n\n\n\n\n\nIn-Person Event(see details below)\n\n\n\n\n\nFor three nights\, as the sun begins to set across Green-Wood\, performers and audience members will come together for a large-scale outdoor performance nestled amid the Cemetery’s historic gravestones.  \n\n\n\nMalloy’s acclaimed\, deeply moving work tells an interwoven tale spanning seven centuries\, exploring the nature of narrative and how the stories we tell continue to haunt us across generations. \n\n\n\nMusic\, Lyrics\, and Text by Dave MalloyDeveloped\, Arranged\, and Performed by Ghost Quartet: Brent Arnold\, Brittain Ashford\, Gelsey Bell\, Dave MalloyDirected by Annie TippeDesigned by Christopher Bowser \n\n\n\nFor the full program and list of performers\, visit Death of Classical’s website. \n\n\n\nPlease note that if only 1 ticket shows as available during the purchase process\, that is the last ticket available. \n\n\n\nTicket Tiers:\n\n\n\n\n$150 – Premium general admission seating guaranteed in the first two rows of chairs.\n\n\n\n$120 – General admission seating in chairs (aside from the first two rows) or cushions at the front (chairs and cushions available on a first-come\, first-served basis). \n\n\n\n$80 – General admission seating in the grass on the surrounding hilltops (small blankets permitted\, no chairs or picnics allowed). \n\n\n\nMember Discount:  Green-Wood and Death of Classical members receive 20% off the above ticket price at each level. \n\n\n\n\nBefore Purchasing Tickets\, Please Note:\n\n\n\n\nTasting is for attendees 21 years of age or older with proof of ID.\n\n\n\nSeating is based on the tier of the purchased ticket(s). Those sitting on the grass are only permitted small blankets; no lawn chairs or picnics are allowed. If you need disability-related accommodations for seating\, please call 718-210-3080\, ext. 1\, or email events@green-wood.com.\n\n\n\nTickets: There is no need to print tickets! Attendees will be checked in by name.\n\n\n\nWhere To Go: Check-in begins at 6:30pm and ONLY takes place at the Main Entrance on Fifth Avenue and 25th Street (500 25th Street). Doors open at 7pm and the performance begins at 8pm. Please note there is no early entry\, and the gates close promptly at 8pm.\n\n\n\nParking: There is no on-site parking available.\n\n\n\nAccessibility and Safety: This event takes place at Clinton Dell in the dark (an approximately 5-minute walk from the Gothic Arch). We strongly encourage attendees to wear suitable footwear and bring flashlights. The route includes several steep hills\, as well as grassy and uneven terrain. If you have any questions or concerns regarding disability-related accommodations for this program\, please call 718-210-3080\, ext. 1\, or email events@green-wood.com.\n\n\n\nA Little More About Safety: This event takes place in the dark. We strongly encourage attendees to wear suitable footwear and bring flashlights. The route includes several steep hills\, as well as grassy and uneven terrain.\n\n\n\nRefunds: Ticket sales are final. No exchanges or refunds. In case of inclement weather\, tickets will ONLY be honored on the rain date\, Sunday\, June 29th. If you cannot make the rain date\, you may transfer the tickets to a friend. If you choose not to make use of the tickets on the rain date\, no refund will be provided.\n\n\n\nInclement Weather Policy: We monitor weather conditions throughout the day for the best chance of proceeding with the program and will not make a final decision until approximately 3 hours before the start of the event. Cancellations will be announced via Eventbrite email blasts\, so check your email and spam folders.
URL:https://www.green-wood.com/event/dave-malloy-ghost-quartet/2025-06-28/
CATEGORIES:The Angel's Share
ATTACH;FMTTYPE=image/jpeg:https://www.green-wood.com/wp-content/uploads/2025/03/Ghost-quartet-website.jpg
END:VEVENT
BEGIN:VEVENT
DTSTART;TZID=America/New_York:20250629T190000
DTEND;TZID=America/New_York:20250629T213000
DTSTAMP:20260425T072352
CREATED:20250317T050735Z
LAST-MODIFIED:20250629T150309Z
UID:10036851-1751223600-1751232600@www.green-wood.com
SUMMARY:Dave Malloy: Ghost Quartet
DESCRIPTION:Part of the Angel’s Share series\, presented with Death of Classical\n\n\n\n\n\nCredit: Illustration: Margaret Ashford-Trotter; Lettering: Nim Ben-Reuven\n\n\n\n\n\nPlease note in case of inclement weather\, the Rain Date for all performances is June 29\, 2025 \n\n\n\nAward-winning composer Dave Malloy calls his genre-defying Ghost Quartet “a song cycle about love\, death\, and whiskey\,” which is basically the entire artistic ethos of the Angel’s Share series! For the show’s 10th anniversary\, Malloy reunites with co-creators Brent Arnold\, Brittain Ashford\, and Gelsey Bell (whose opera morning//mourning graced the Catacombs last September). \n\n\n\n\n\n\n\nPrice: $80-$150 ($64-$120 for members) \n\n\n\n\nGet Tickets\n\n\n\n\n\n\n\n\n\nIn-Person Event(see details below)\n\n\n\n\n\nFor three nights\, as the sun begins to set across Green-Wood\, performers and audience members will come together for a large-scale outdoor performance nestled amid the Cemetery’s historic gravestones.  \n\n\n\nMalloy’s acclaimed\, deeply moving work tells an interwoven tale spanning seven centuries\, exploring the nature of narrative and how the stories we tell continue to haunt us across generations. \n\n\n\nMusic\, Lyrics\, and Text by Dave MalloyDeveloped\, Arranged\, and Performed by Ghost Quartet: Brent Arnold\, Brittain Ashford\, Gelsey Bell\, Dave MalloyDirected by Annie TippeDesigned by Christopher Bowser \n\n\n\nFor the full program and list of performers\, visit Death of Classical’s website. \n\n\n\nPlease note that if only 1 ticket shows as available during the purchase process\, that is the last ticket available. \n\n\n\nTicket Tiers:\n\n\n\n\n$150 – Premium general admission seating guaranteed in the first two rows of chairs.\n\n\n\n$120 – General admission seating in chairs (aside from the first two rows) or cushions at the front (chairs and cushions available on a first-come\, first-served basis). \n\n\n\n$80 – General admission seating in the grass on the surrounding hilltops (small blankets permitted\, no chairs or picnics allowed). \n\n\n\nMember Discount:  Green-Wood and Death of Classical members receive 20% off the above ticket price at each level. \n\n\n\n\nBefore Purchasing Tickets\, Please Note:\n\n\n\n\nTasting is for attendees 21 years of age or older with proof of ID.\n\n\n\nSeating is based on the tier of the purchased ticket(s). Those sitting on the grass are only permitted small blankets; no lawn chairs or picnics are allowed. If you need disability-related accommodations for seating\, please call 718-210-3080\, ext. 1\, or email events@green-wood.com.\n\n\n\nTickets: There is no need to print tickets! Attendees will be checked in by name.\n\n\n\nWhere To Go: Check-in begins at 6:30pm and ONLY takes place at the Main Entrance on Fifth Avenue and 25th Street (500 25th Street). Doors open at 7pm and the performance begins at 8pm. Please note there is no early entry\, and the gates close promptly at 8pm.\n\n\n\nParking: There is no on-site parking available.\n\n\n\nAccessibility and Safety: This event takes place at Clinton Dell in the dark (an approximately 5-minute walk from the Gothic Arch). We strongly encourage attendees to wear suitable footwear and bring flashlights. The route includes several steep hills\, as well as grassy and uneven terrain. If you have any questions or concerns regarding disability-related accommodations for this program\, please call 718-210-3080\, ext. 1\, or email events@green-wood.com.\n\n\n\nA Little More About Safety: This event takes place in the dark. We strongly encourage attendees to wear suitable footwear and bring flashlights. The route includes several steep hills\, as well as grassy and uneven terrain.\n\n\n\nRefunds: Ticket sales are final. No exchanges or refunds. In case of inclement weather\, tickets will ONLY be honored on the rain date\, Sunday\, June 29th. If you cannot make the rain date\, you may transfer the tickets to a friend. If you choose not to make use of the tickets on the rain date\, no refund will be provided.\n\n\n\nInclement Weather Policy: We monitor weather conditions throughout the day for the best chance of proceeding with the program and will not make a final decision until approximately 3 hours before the start of the event. Cancellations will be announced via Eventbrite email blasts\, so check your email and spam folders.
URL:https://www.green-wood.com/event/dave-malloy-ghost-quartet/2025-06-29/
CATEGORIES:The Angel's Share
ATTACH;FMTTYPE=image/jpeg:https://www.green-wood.com/wp-content/uploads/2025/03/Ghost-quartet-website.jpg
END:VEVENT
END:VCALENDAR