BEGIN:VCALENDAR
VERSION:2.0
PRODID:-//Green-Wood - ECPv6.15.20//NONSGML v1.0//EN
CALSCALE:GREGORIAN
METHOD:PUBLISH
X-WR-CALNAME:Green-Wood
X-ORIGINAL-URL:https://www.green-wood.com
X-WR-CALDESC:Events for Green-Wood
REFRESH-INTERVAL;VALUE=DURATION:PT1H
X-Robots-Tag:noindex
X-PUBLISHED-TTL:PT1H
BEGIN:VTIMEZONE
TZID:America/New_York
BEGIN:DAYLIGHT
TZOFFSETFROM:-0500
TZOFFSETTO:-0400
TZNAME:EDT
DTSTART:20190310T070000
END:DAYLIGHT
BEGIN:STANDARD
TZOFFSETFROM:-0400
TZOFFSETTO:-0500
TZNAME:EST
DTSTART:20191103T060000
END:STANDARD
BEGIN:DAYLIGHT
TZOFFSETFROM:-0500
TZOFFSETTO:-0400
TZNAME:EDT
DTSTART:20200308T070000
END:DAYLIGHT
BEGIN:STANDARD
TZOFFSETFROM:-0400
TZOFFSETTO:-0500
TZNAME:EST
DTSTART:20201101T060000
END:STANDARD
BEGIN:DAYLIGHT
TZOFFSETFROM:-0500
TZOFFSETTO:-0400
TZNAME:EDT
DTSTART:20210314T070000
END:DAYLIGHT
BEGIN:STANDARD
TZOFFSETFROM:-0400
TZOFFSETTO:-0500
TZNAME:EST
DTSTART:20211107T060000
END:STANDARD
END:VTIMEZONE
BEGIN:VEVENT
DTSTART;TZID=America/New_York:20200921T000000
DTEND;TZID=America/New_York:20201019T235959
DTSTAMP:20260425T081508
CREATED:20200924T001326Z
LAST-MODIFIED:20200924T001327Z
UID:10033099-1600646400-1603151999@www.green-wood.com
SUMMARY:Vigil
DESCRIPTION:Installation on View:September 21st–October 19th10am–4pm \n\n\n\nLeigh Davis’ audio installation Vigil engages the power of loss and memory through song. The work is rooted in her membership with the Threshold Choir\, a community of women continuing the ancient tradition of bedside singing to the dying. The work is installed in Green-Wood’s Historic Chapel\, a sacred space that has provided a place of solace and comfort for those grieving for over a century. Visitors can sit with others or move around at their own leisure. Those listening are encouraged to contemplate the complexity of mourning on both a personal and collective level. \n\n\n\nFor the past five years\, Davis has been creating work that encourages community participation and discussion. She offers opportunities for individuals of various ages\, cultural\, and spiritual backgrounds to come together and share physical and emotional space. At a time when it is not easy to commune or console one another\, Vigil provides an occasion to meditate and reflect on the universal experience of death. \n\n\n\nStrict safety measures will be enforced: all visitors will be required to wear a mask and keep a distance of at least 6 feet while in the Historic Chapel. \n\n\n\nWe encourage visitors to download this pamphlet with the lyrics sung in Vigil as well as  instructions for deep listening. \n\n\n\nClick here for our inclement weather policy.
URL:https://www.green-wood.com/event/vigil-2/
LOCATION:NY
CATEGORIES:Special Event
ATTACH;FMTTYPE=image/jpeg:https://www.green-wood.com/wp-content/uploads/2020/09/Vigil-featured.jpg
END:VEVENT
BEGIN:VEVENT
DTSTART;TZID=America/New_York:20201015T180000
DTEND;TZID=America/New_York:20201015T190000
DTSTAMP:20260425T081508
CREATED:20200924T000845Z
LAST-MODIFIED:20200924T001021Z
UID:10033098-1602784800-1602788400@www.green-wood.com
SUMMARY:On African American Death Practices Part I
DESCRIPTION:Death is the great equalizer\, right? Why then have funerary and burial practices been racially segregated in the United States for centuries? Why does death care continue to be one of the most segregated sectors of the American economy? This discussion uses these questions as a starting point to trace the evolution of African American funeral practices through key moments in history and continuing shifts. We will also discuss the current state of affairs and what it might suggest about the changing landscape of America’s death culture more broadly. In Part I we will focus primarily on the history of African American death practices. \n\n\n\nThis program is presented as part of a new Death Education series at Green-Wood\, Death & Us. Death is the great universal\, but the ways in which the dead are grieved and memorialized vary across racial\, cultural\, and economic divides in the United States. This series brings together a myriad of voices—from historians and preservationists to activists and funeral practitioners—to explore how diverse communities mourn and commemorate the departed from our nation’s founding to today. \n\n\n\nFree. A Zoom link will be in your confirmation email upon registration. \n\n\n\nClick here for our inclement weather policy.
URL:https://www.green-wood.com/event/on-african-american-death-practices-part-i/
LOCATION:NY
CATEGORIES:Special Event
ATTACH;FMTTYPE=image/jpeg:https://www.green-wood.com/wp-content/uploads/2020/09/death-practices-home.jpg
END:VEVENT
BEGIN:VEVENT
DTSTART;TZID=America/New_York:20201017T183000
DTEND;TZID=America/New_York:20201017T200000
DTSTAMP:20260425T081508
CREATED:20170803T202556Z
LAST-MODIFIED:20170803T202556Z
UID:10032486-1602959400-1602964800@www.green-wood.com
SUMMARY:Death Café
DESCRIPTION:The Death Café is inspired by the centuries-old European salon (or café)\, an informal gathering to discuss philosophical\, political or scientific ideas. In 2011\, British entrepreneur Jon Underwood brought this concept to discussions of the most universal topic of all: death. Underwood’s intention was to provide an opportunity to “increase awareness of death with a view to helping people make the most of their lives.” Today\, there are over 4\,400 Death Cafes in 26 countries around the world. \nGreen-Wood is proud to host monthly gatherings of the Death Café here in our beautiful\, modern chapel. Amy Cunningham\, death educator and creator of the Brooklyn-based blog TheInspiredFuneral.com\, invites participants to share their thoughts and feelings on death. It’s an opportunity for safe and open exchanges\, without an agenda. Tea and light snacks are provided. \n“A place for people to discuss our inevitable fate.” – Gothamist \n“It’s a reversal for American culture\, which for a long time has shied away from these conversations.” – Village Voice \n“[E]ncouraging people to talk about death more freely and naturally.” – Haaretz \nFree to attend\, RSVP recommended. Please register using the Eventbrite box below. \nThis program takes place in our Modern Chapel just to the right after passing through the Gothic Arches at the main entrance. All events will take place rain or shine. Click here for our inclement weather policy. \n \nMobile users: Please tap here for free registration.\n 
URL:https://www.green-wood.com/event/death-cafe-fall/2020-10-17/
LOCATION:Green-Wood Cemetery\, 500 25th Street\, Brooklyn\, NY\, 11232\, United States
CATEGORIES:Special Event
ATTACH;FMTTYPE=:
END:VEVENT
END:VCALENDAR