BEGIN:VCALENDAR
VERSION:2.0
PRODID:-//Green-Wood - ECPv6.15.20//NONSGML v1.0//EN
CALSCALE:GREGORIAN
METHOD:PUBLISH
X-WR-CALNAME:Green-Wood
X-ORIGINAL-URL:https://www.green-wood.com
X-WR-CALDESC:Events for Green-Wood
REFRESH-INTERVAL;VALUE=DURATION:PT1H
X-Robots-Tag:noindex
X-PUBLISHED-TTL:PT1H
BEGIN:VTIMEZONE
TZID:America/New_York
BEGIN:DAYLIGHT
TZOFFSETFROM:-0500
TZOFFSETTO:-0400
TZNAME:EDT
DTSTART:20180311T070000
END:DAYLIGHT
BEGIN:STANDARD
TZOFFSETFROM:-0400
TZOFFSETTO:-0500
TZNAME:EST
DTSTART:20181104T060000
END:STANDARD
BEGIN:DAYLIGHT
TZOFFSETFROM:-0500
TZOFFSETTO:-0400
TZNAME:EDT
DTSTART:20190310T070000
END:DAYLIGHT
BEGIN:STANDARD
TZOFFSETFROM:-0400
TZOFFSETTO:-0500
TZNAME:EST
DTSTART:20191103T060000
END:STANDARD
BEGIN:DAYLIGHT
TZOFFSETFROM:-0500
TZOFFSETTO:-0400
TZNAME:EDT
DTSTART:20200308T070000
END:DAYLIGHT
BEGIN:STANDARD
TZOFFSETFROM:-0400
TZOFFSETTO:-0500
TZNAME:EST
DTSTART:20201101T060000
END:STANDARD
END:VTIMEZONE
BEGIN:VEVENT
DTSTART;TZID=America/New_York:20190307T183000
DTEND;TZID=America/New_York:20190307T200000
DTSTAMP:20260420T000903
CREATED:20190227T173953Z
LAST-MODIFIED:20190227T173953Z
UID:10033007-1551983400-1551988800@www.green-wood.com
SUMMARY:Living Inside Sanctuary: Artist Talk
DESCRIPTION:Documentary photographer Cinthya Santos Briones will discuss her current project Living Inside Sanctuary. She will be joined in conversation with Sara Gonzalo\, Supervising Coordinator of the New Sanctuary Coalition of New York City\, and Vanesa Suarez\, a community organizer with Unidad Latina en Acción  in Connecticut.  \nTranslation will be provided in Spanish and English. \nFree to attend\, RSVP recommended. Please register using the Eventbrite box below. \nThis program takes place in our Modern Chapel just to the right after passing through the Gothic Arches at the main entrance. All events will take place rain or shine. Click here for our inclement weather policy. \n \nMobile users: Please tap here for free registration.\n 
URL:https://www.green-wood.com/event/living-inside-sanctuary-artist-talk-reschedule/
LOCATION:Green-Wood Cemetery\, 500 25th Street\, Brooklyn\, NY\, 11232\, United States
CATEGORIES:Special Event
ATTACH;FMTTYPE=:
ORGANIZER;CN="Green-Wood Historic Fund":MAILTO:info@greenwoodcemetery.org
END:VEVENT
BEGIN:VEVENT
DTSTART;TZID=America/New_York:20190309T140000
DTEND;TZID=America/New_York:20190309T170000
DTSTAMP:20260420T000903
CREATED:20181129T004913Z
LAST-MODIFIED:20181129T004913Z
UID:10032884-1552140000-1552150800@www.green-wood.com
SUMMARY:Dead Distillers Trolley Tour
DESCRIPTION: \nGreen-Wood is teaming up with our friends at Kings County Distillery to delve into the storied past of distilling in Brooklyn. The afternoon kicks off with a trolley tour of the cemetery’s “permanent residents” with whiskey connections\, including the one and only casualty of the Brooklyn Whiskey Wars of the late 1860s and early 1870s. Afterward\, the trolley will head to Kings County Distillery in the Brooklyn Navy Yard where visitors will see first-hand how whiskey is made and enjoy a tasting of four delectable varieties. \n \nThis tour is based upon the newly published book “Dead Distillers: A History of the Upstarts and Outlaws who Made American Spirits” by Colin Spoelman\, co-founder and Master Distiller at Kings County Distillery. Copies of the book will be available for purchase at the distillery. \n \nYou must be 21 or older to participate in this tour; I.D. required. \n \n$35 for members of Green-Wood and BHS / $40 for non-members \n \nGreen-Wood trolley tours are fully accessible and ADA compliant. In order to accommodate a wheelchair or other mobility device on the trolley\, advance arrangements must be made. Please call (718) 210-3080\, ext. 1. Please note that portions of the tour take place outside the trolley and may require exiting the vehicle on multiple occasions. Please contact the Historic Fund for more information. \n \nFor this program you will check in at the Gothic Arches\, right at the main entrance. Trolley tours are run rain or shine\, with the exception of dangerous conditions as determined by Green-Wood. Click here for our inclement weather policy. \n \nMobile users: Please tap here to buy tickets.\n \n\nNot a Member?\nClick here for all of our membership levels and information. \nAlready a Member?\nClick the “Enter promotional code here (members\, use your ID#)” link in the bottom right corner of the ticket box and enter your ID number to apply your ticket discount. Please note that the Senior\, Individual and Student membership levels are limited to only one Member Ticket per event (for additional tickets\, please purchase at the regular price). \nQuestions?\nDon’t know your Member ID number? Not sure which ticket or membership type to order? Call 718-210-3080 or email contactus@green-wood.com with any questions.
URL:https://www.green-wood.com/event/dead-distillers-trolley-tours-2019/2019-03-09/
LOCATION:NY
CATEGORIES:Special Event,Trolley Tour
ATTACH;FMTTYPE=:
END:VEVENT
BEGIN:VEVENT
DTSTART;TZID=America/New_York:20190310T071500
DTEND;TZID=America/New_York:20190310T084500
DTSTAMP:20260420T000903
CREATED:20181120T001730Z
LAST-MODIFIED:20181120T001730Z
UID:10032880-1552202100-1552207500@www.green-wood.com
SUMMARY:Birding in Peace
DESCRIPTION: \nJust because it’s winter\, doesn’t mean that there aren’t interesting birds to discover in Green-Wood. For some bird species that migrate south after the breeding season\, Brooklyn is their Miami during the cold months. Spend the early morning exploring the cemetery\, looking for overwintering waterfowl\, nuthatches\, woodpeckers\, sparrows\, finches and any half-hardy birds that decided to stick around. By February we’ll see some of the early north-bound birds beginning to trickle back into the area. \n \n$10 for members of Green-Wood and BHS / $15 for non-members \n \nGreen-Wood’s official birding checklist is available to pick up from the security guard at the main entrance on 25th Street or to print here. Comfortable footwear is recommended. \n \nFor this program you will check in at the Gothic Arches\, right at the main entrance. Click here for our inclement weather policy. \n \nMobile users: Please tap here to buy tickets.\n \n\nNot a Member?\nClick here for all of our membership levels and information. \nAlready a Member?\nClick the “Enter promotional code here (members\, use your ID#)” link in the bottom right corner of the ticket box and enter your ID number to apply your ticket discount. Please note that the Senior\, Individual and Student membership levels are limited to only one Member Ticket per event (for additional tickets\, please purchase at the regular price). \nQuestions?\nDon’t know your Member ID number? Not sure which ticket or membership type to order? Call 718-210-3080 or email contactus@green-wood.com with any questions.
URL:https://www.green-wood.com/event/birding-peace-winter-2018-12-09/2019-03-10/
LOCATION:NY
CATEGORIES:Special Event
ATTACH;FMTTYPE=:
END:VEVENT
BEGIN:VEVENT
DTSTART;TZID=America/New_York:20190312T183000
DTEND;TZID=America/New_York:20190312T200000
DTSTAMP:20260420T000903
CREATED:20190117T195754Z
LAST-MODIFIED:20190117T195754Z
UID:10032928-1552415400-1552420800@www.green-wood.com
SUMMARY:Death Café
DESCRIPTION:The Death Café is inspired by the centuries-old European salon (or café)\, an informal gathering to discuss philosophical\, political or scientific ideas. In 2011\, British entrepreneur Jon Underwood brought this concept to discussions of the most universal topic of all: death. Underwood’s intention was to provide an opportunity to “increase awareness of death with a view to helping people make the most of their lives.” Today\, there are over 4\,400 Death Cafes in 26 countries around the world. \nGreen-Wood is proud to host monthly gatherings of the Death Café here in our beautiful\, modern chapel. Amy Cunningham\, death educator and creator of the Brooklyn-based blog TheInspiredFuneral.com\, invites participants to share their thoughts and feelings on death. It’s an opportunity for safe and open exchanges\, without an agenda. Tea and light snacks are provided. \n“A place for people to discuss our inevitable fate.” – Gothamist \n“It’s a reversal for American culture\, which for a long time has shied away from these conversations.” – Village Voice \n“[E]ncouraging people to talk about death more freely and naturally.” – Haaretz \nFree to attend\, RSVP recommended. Please register using the Eventbrite box below. \nThis program takes place in our Modern Chapel just to the right after passing through the Gothic Arches at the main entrance. All events will take place rain or shine. Click here for our inclement weather policy. \n \nMobile users: Please tap here for free registration.\n 
URL:https://www.green-wood.com/event/death-cafe-19/2019-03-12/
LOCATION:Green-Wood Cemetery\, 500 25th Street\, Brooklyn\, NY\, 11232\, United States
CATEGORIES:Special Event
ATTACH;FMTTYPE=:
END:VEVENT
BEGIN:VEVENT
DTSTART;TZID=America/New_York:20190314T183000
DTEND;TZID=America/New_York:20190314T200000
DTSTAMP:20260420T000903
CREATED:20190108T234204Z
LAST-MODIFIED:20190108T234204Z
UID:10032927-1552588200-1552593600@www.green-wood.com
SUMMARY:Winter Street Tree Care Workshop
DESCRIPTION: \nJoin Ashleigh Pettus\, Operations Manager for Trees New York\, and learn how to care for your street trees and help them thrive. Topics discussed will include watering\, mulching\, and tree bed gardening. We will also discuss why street trees are important to the urban environment. Click here to register directly for this day’s program. \n \nThe meeting location is Green-Wood’s Modern Chapel\, right off of the main entrance. \n \n*** \nGive Trees a Chance: Environmental Justice in South Brooklyn  \nGreen-Wood’s own neighborhood\, Sunset Park\, is one of the fastest growing and most diverse neighborhoods in all of New York City. Yet\, it also faces serious environmental challenges. Car and truck exhaust from the Gowanus Expressway and industrial emissions from its small manufacturers create higher than average levels of harmful air pollution. Street trees to the rescue! They’re nature’s miracle workers: they intercept and absorb storm water runoff\, provide oxygen\, fight climate change\, and lower air temperatures. \nThe 6\,500 street trees of Sunset Park have a job to do. And they need all the help they can get! Together with TreesNY\, Green-Wood’s horticulture staff is training a team of tree advocates! If you care about the environment\, join us. Visit TreesNY’s website\, www.treesny.org\, for more information and to RSVP for these free programs. \nFunding for this project is provided by the NYS Environmental Protection Fund as administered by the Environmental Justice Community Impact Grant Program of the NYS Department of Environmental Conservation.
URL:https://www.green-wood.com/event/winter-street-tree-care-workshop/
LOCATION:NY
CATEGORIES:Special Event
ATTACH;FMTTYPE=:
END:VEVENT
BEGIN:VEVENT
DTSTART;TZID=America/New_York:20190317T183000
DTEND;TZID=America/New_York:20190317T200000
DTSTAMP:20260420T000903
CREATED:20170803T202556Z
LAST-MODIFIED:20170803T202556Z
UID:10032467-1552847400-1552852800@www.green-wood.com
SUMMARY:Death Café
DESCRIPTION:The Death Café is inspired by the centuries-old European salon (or café)\, an informal gathering to discuss philosophical\, political or scientific ideas. In 2011\, British entrepreneur Jon Underwood brought this concept to discussions of the most universal topic of all: death. Underwood’s intention was to provide an opportunity to “increase awareness of death with a view to helping people make the most of their lives.” Today\, there are over 4\,400 Death Cafes in 26 countries around the world. \nGreen-Wood is proud to host monthly gatherings of the Death Café here in our beautiful\, modern chapel. Amy Cunningham\, death educator and creator of the Brooklyn-based blog TheInspiredFuneral.com\, invites participants to share their thoughts and feelings on death. It’s an opportunity for safe and open exchanges\, without an agenda. Tea and light snacks are provided. \n“A place for people to discuss our inevitable fate.” – Gothamist \n“It’s a reversal for American culture\, which for a long time has shied away from these conversations.” – Village Voice \n“[E]ncouraging people to talk about death more freely and naturally.” – Haaretz \nFree to attend\, RSVP recommended. Please register using the Eventbrite box below. \nThis program takes place in our Modern Chapel just to the right after passing through the Gothic Arches at the main entrance. All events will take place rain or shine. Click here for our inclement weather policy. \n \nMobile users: Please tap here for free registration.\n 
URL:https://www.green-wood.com/event/death-cafe-fall/2019-03-17/
LOCATION:Green-Wood Cemetery\, 500 25th Street\, Brooklyn\, NY\, 11232\, United States
CATEGORIES:Special Event
ATTACH;FMTTYPE=:
END:VEVENT
BEGIN:VEVENT
DTSTART;TZID=America/New_York:20190323T110000
DTEND;TZID=America/New_York:20190323T130000
DTSTAMP:20260420T000903
CREATED:20190301T074707Z
LAST-MODIFIED:20190301T074707Z
UID:10033010-1553338800-1553346000@www.green-wood.com
SUMMARY:Make Your Own (Mini) Monument - SOLD OUT
DESCRIPTION: \nGreen-Wood is a veritable outdoor museum of stone sculptures—home to over 250\,000 in all\, each memorializing a life story. At this hands-on workshop\, Neela Wickremesinghe\, Green-Wood’s Manager of Restoration and Preservation\, will offer insights into the art of stone conservation and demonstrate how her team creates replacement parts when monuments need repair. Using the same techniques\, each participant will cast his/her own personal plaster ornament to take home. \n \nMeets at the Sunset Park Entrance at 34th Street and 4th Avenue. \n \n$20 for members of Green-Wood and BHS / $25 for non-members \n \nClick here for our inclement weather policy. \n \nThis program is made possible by the New York State Council on the Arts with the support of Governor Andrew M. Cuomo and the New York State Legislature. \n \nMobile users: Please tap here to buy tickets.\n \n\nNot a Member?\nClick here for all of our membership levels and information. \nAlready a Member?\nClick the “Enter promotional code here (members\, use your ID#)” link in the bottom right corner of the ticket box and enter your ID number to apply your ticket discount. Please note that the Senior\, Individual and Student membership levels are limited to only one Member Ticket per event (for additional tickets\, please purchase at the regular price). \nQuestions?\nDon’t know your Member ID number? Not sure which ticket or membership type to order? Call 718-210-3080 or email contactus@green-wood.com with any questions.
URL:https://www.green-wood.com/event/make-your-own-mini-monument-3/
LOCATION:NY
CATEGORIES:Special Event
ATTACH;FMTTYPE=:
END:VEVENT
BEGIN:VEVENT
DTSTART;TZID=America/New_York:20190324T064500
DTEND;TZID=America/New_York:20190324T081500
DTSTAMP:20260420T000903
CREATED:20181120T001730Z
LAST-MODIFIED:20181120T001730Z
UID:10032881-1553409900-1553415300@www.green-wood.com
SUMMARY:Birding in Peace
DESCRIPTION: \nJust because it’s winter\, doesn’t mean that there aren’t interesting birds to discover in Green-Wood. For some bird species that migrate south after the breeding season\, Brooklyn is their Miami during the cold months. Spend the early morning exploring the cemetery\, looking for overwintering waterfowl\, nuthatches\, woodpeckers\, sparrows\, finches and any half-hardy birds that decided to stick around. By February we’ll see some of the early north-bound birds beginning to trickle back into the area. \n \n$10 for members of Green-Wood and BHS / $15 for non-members \n \nGreen-Wood’s official birding checklist is available to pick up from the security guard at the main entrance on 25th Street or to print here. Comfortable footwear is recommended. \n \nFor this program you will check in at the Gothic Arches\, right at the main entrance. Click here for our inclement weather policy. \n \nMobile users: Please tap here to buy tickets.\n \n\nNot a Member?\nClick here for all of our membership levels and information. \nAlready a Member?\nClick the “Enter promotional code here (members\, use your ID#)” link in the bottom right corner of the ticket box and enter your ID number to apply your ticket discount. Please note that the Senior\, Individual and Student membership levels are limited to only one Member Ticket per event (for additional tickets\, please purchase at the regular price). \nQuestions?\nDon’t know your Member ID number? Not sure which ticket or membership type to order? Call 718-210-3080 or email contactus@green-wood.com with any questions.
URL:https://www.green-wood.com/event/birding-peace-winter-2018-12-09/2019-03-24/
LOCATION:NY
CATEGORIES:Special Event
ATTACH;FMTTYPE=:
END:VEVENT
BEGIN:VEVENT
DTSTART;TZID=America/New_York:20190328T183000
DTEND;TZID=America/New_York:20190328T200000
DTSTAMP:20260420T000903
CREATED:20190206T181544Z
LAST-MODIFIED:20190206T181544Z
UID:10032956-1553797800-1553803200@www.green-wood.com
SUMMARY:Furnishing a Tomb in Ancient Egypt
DESCRIPTION:Lid from a Sarcophagus\, ca. 1292-1075 B.C.E. Terracotta\, pigment\, 24 x 17 x 8 1/2 in.\, 40 lb. (61 x 43.2 x 21.6 cm\, 18.14kg). Brooklyn Museum\, Charles Edwin Wilbour Fund\, 37.1518E. Creative Commons-BY (Photo: Brooklyn Museum\, 37.1518E_PS1.jpg)\nAncient Egyptian kings like Tutankhamun could have anything he wanted for his tomb. But the king’s subjects\, ordinary middle-class Egyptians\, were forced to make choices about the objects they included in their tombs. They wanted to guarantee their entrance to the next world\, but they simply could not afford everything that royalty had. This lecture explores how Egyptians furnished their tombs on a budget. Their strategies included choosing cheaper materials\, combining two or more necessary objects into one item\, or even buying a coffin second hand. Examples of all these strategies will be illustrated and explained. \n \nThis evening is presented in partnership with Morbid Anatomy. \n \nEdward Bleiberg is Senior Curator of Egyptian Art at the Brooklyn Museum. He joined the Museum in 1998 from the University of Memphis\, Institute of Egyptian Art and Archaeology\, where he had been Director and Associate Professor. A Pittsburgh native\, he graduated from Haverford College in Pennsylvania. Dr. Bleiberg received an M.A. and Ph.D. from the University of Toronto. He is the author of several books and articles on the ancient Egyptian economy\, Egyptian coffins\, and the Jewish minority in ancient Egypt and ancient Rome. Exhibitions that Dr. Bleiberg has organized for Brooklyn include Jewish Life in Ancient Egypt\, Tree of Paradise: Jewish Mosaics from the Roman Empire\, To Live Forever: Egyptian Treasures from the Brooklyn Museum\, Soulful Creatures: Animal Mummies from ancient Egypt and Striking Power: Iconoclasm in Ancient Egypt. \n \n$5 for members of Green-Wood and BHS / $10 for non-members \n \nThis program takes place in our Modern Chapel just to the right after passing through the Gothic Arches at the main entrance. All events will take place rain or shine. Click here for our inclement weather policy. \n \nMobile users: Please tap here to buy tickets.\n \n\nNot a Member?\nClick here for all of our membership levels and information. \nAlready a Member?\nClick the “Enter promotional code here (members\, use your ID#)” link in the bottom right corner of the ticket box and enter your ID number to apply your ticket discount. Please note that the Senior\, Individual and Student membership levels are limited to only one Member Ticket per event (for additional tickets\, please purchase at the regular price). \nQuestions?\nDon’t know your Member ID number? Not sure which ticket or membership type to order? Call 718-210-3080 or email contactus@green-wood.com with any questions.
URL:https://www.green-wood.com/event/furnishing-a-tomb-in-ancient-egypt/
LOCATION:NY
CATEGORIES:Special Event
ATTACH;FMTTYPE=:
END:VEVENT
BEGIN:VEVENT
DTSTART;TZID=America/New_York:20190330T153000
DTEND;TZID=America/New_York:20190330T170000
DTSTAMP:20260420T000903
CREATED:20190301T083005Z
LAST-MODIFIED:20190301T083005Z
UID:10033013-1553959800-1553965200@www.green-wood.com
SUMMARY:The Art of the Condolence Letter
DESCRIPTION:We all struggle to find the right words. We want to convey sympathy\, admiration\, and support. And we want to express ourselves as well as possible. Why not take inspiration from another time? Condolence letters of the nineteenth century\, when death was ever present\, were mainstays of life—missives of comfort written straight from the heart. Death educator Amy Cunningham will lead a practical guide to crafting messages that heal and knowing what’s best left unsaid. Along the way\, she’ll share condolences written by luminaries including Thomas Jefferson\, Emily Dickinson\, Queen Victoria\, Marcel Proust\, and Ernest Hemingway.  \n \nFree to attend\, RSVP recommended. Please register using the Eventbrite box below. \n \nClick here for our inclement weather policy. \n \nMobile users: Please tap here for free registration.\n 
URL:https://www.green-wood.com/event/the-art-of-the-condolence-letter/
LOCATION:Green-Wood Cemetery\, 500 25th Street\, Brooklyn\, NY\, 11232\, United States
CATEGORIES:Special Event
ATTACH;FMTTYPE=:
END:VEVENT
END:VCALENDAR