BEGIN:VCALENDAR
VERSION:2.0
PRODID:-//Green-Wood - ECPv6.15.20//NONSGML v1.0//EN
CALSCALE:GREGORIAN
METHOD:PUBLISH
X-WR-CALNAME:Green-Wood
X-ORIGINAL-URL:https://www.green-wood.com
X-WR-CALDESC:Events for Green-Wood
REFRESH-INTERVAL;VALUE=DURATION:PT1H
X-Robots-Tag:noindex
X-PUBLISHED-TTL:PT1H
BEGIN:VTIMEZONE
TZID:America/New_York
BEGIN:DAYLIGHT
TZOFFSETFROM:-0500
TZOFFSETTO:-0400
TZNAME:EDT
DTSTART:20180311T070000
END:DAYLIGHT
BEGIN:STANDARD
TZOFFSETFROM:-0400
TZOFFSETTO:-0500
TZNAME:EST
DTSTART:20181104T060000
END:STANDARD
BEGIN:DAYLIGHT
TZOFFSETFROM:-0500
TZOFFSETTO:-0400
TZNAME:EDT
DTSTART:20190310T070000
END:DAYLIGHT
BEGIN:STANDARD
TZOFFSETFROM:-0400
TZOFFSETTO:-0500
TZNAME:EST
DTSTART:20191103T060000
END:STANDARD
BEGIN:DAYLIGHT
TZOFFSETFROM:-0500
TZOFFSETTO:-0400
TZNAME:EDT
DTSTART:20200308T070000
END:DAYLIGHT
BEGIN:STANDARD
TZOFFSETFROM:-0400
TZOFFSETTO:-0500
TZNAME:EST
DTSTART:20201101T060000
END:STANDARD
END:VTIMEZONE
BEGIN:VEVENT
DTSTART;TZID=America/New_York:20190113T110000
DTEND;TZID=America/New_York:20190113T130000
DTSTAMP:20260421T205011
CREATED:20190105T031317Z
LAST-MODIFIED:20190105T031317Z
UID:10032925-1547377200-1547384400@www.green-wood.com
SUMMARY:Street Tree Care
DESCRIPTION: \n \nJoin your fellow environmentalists as we remove litter and weeds from the tree beds\, cultivate the soil\, and provide water and mulch for street trees in Sunset Park. Click here to register directly for this day’s program. \n \nPlease meet for this event in Brooklyn at 23rd Street and 5th Avenue. \n \n*** \nGive Trees a Chance: Environmental Justice in South Brooklyn  \nGreen-Wood’s own neighborhood\, Sunset Park\, is one of the fastest growing and most diverse neighborhoods in all of New York City. Yet\, it also faces serious environmental challenges. Car and truck exhaust from the Gowanus Expressway and industrial emissions from its small manufacturers create higher than average levels of harmful air pollution. Street trees to the rescue! They’re nature’s miracle workers: they intercept and absorb storm water runoff\, provide oxygen\, fight climate change\, and lower air temperatures. \nThe 6\,500 street trees of Sunset Park have a job to do. And they need all the help they can get! Together with TreesNY\, Green-Wood’s horticulture staff is training a team of tree advocates! If you care about the environment\, join us. Visit TreesNY’s website\, www.treesny.org\, for more information and to RSVP for these free programs. \nFunding for this project is provided by the NYS Environmental Protection Fund as administered by the Environmental Justice Community Impact Grant Program of the NYS Department of Environmental Conservation.
URL:https://www.green-wood.com/event/street-tree-care-2019/
LOCATION:NY
CATEGORIES:Special Event
ATTACH;FMTTYPE=:
END:VEVENT
BEGIN:VEVENT
DTSTART;TZID=America/New_York:20190117T183000
DTEND;TZID=America/New_York:20190117T200000
DTSTAMP:20260421T205011
CREATED:20170803T202556Z
LAST-MODIFIED:20170803T202556Z
UID:10032465-1547749800-1547755200@www.green-wood.com
SUMMARY:Death Café
DESCRIPTION:The Death Café is inspired by the centuries-old European salon (or café)\, an informal gathering to discuss philosophical\, political or scientific ideas. In 2011\, British entrepreneur Jon Underwood brought this concept to discussions of the most universal topic of all: death. Underwood’s intention was to provide an opportunity to “increase awareness of death with a view to helping people make the most of their lives.” Today\, there are over 4\,400 Death Cafes in 26 countries around the world. \nGreen-Wood is proud to host monthly gatherings of the Death Café here in our beautiful\, modern chapel. Amy Cunningham\, death educator and creator of the Brooklyn-based blog TheInspiredFuneral.com\, invites participants to share their thoughts and feelings on death. It’s an opportunity for safe and open exchanges\, without an agenda. Tea and light snacks are provided. \n“A place for people to discuss our inevitable fate.” – Gothamist \n“It’s a reversal for American culture\, which for a long time has shied away from these conversations.” – Village Voice \n“[E]ncouraging people to talk about death more freely and naturally.” – Haaretz \nFree to attend\, RSVP recommended. Please register using the Eventbrite box below. \nThis program takes place in our Modern Chapel just to the right after passing through the Gothic Arches at the main entrance. All events will take place rain or shine. Click here for our inclement weather policy. \n \nMobile users: Please tap here for free registration.\n 
URL:https://www.green-wood.com/event/death-cafe-fall/2019-01-17/
LOCATION:Green-Wood Cemetery\, 500 25th Street\, Brooklyn\, NY\, 11232\, United States
CATEGORIES:Special Event
ATTACH;FMTTYPE=:
END:VEVENT
BEGIN:VEVENT
DTSTART;TZID=America/New_York:20190127T071500
DTEND;TZID=America/New_York:20190127T084500
DTSTAMP:20260421T205011
CREATED:20181120T001730Z
LAST-MODIFIED:20181120T001730Z
UID:10032877-1548573300-1548578700@www.green-wood.com
SUMMARY:Birding in Peace
DESCRIPTION: \nJust because it’s winter\, doesn’t mean that there aren’t interesting birds to discover in Green-Wood. For some bird species that migrate south after the breeding season\, Brooklyn is their Miami during the cold months. Spend the early morning exploring the cemetery\, looking for overwintering waterfowl\, nuthatches\, woodpeckers\, sparrows\, finches and any half-hardy birds that decided to stick around. By February we’ll see some of the early north-bound birds beginning to trickle back into the area. \n \n$10 for members of Green-Wood and BHS / $15 for non-members \n \nGreen-Wood’s official birding checklist is available to pick up from the security guard at the main entrance on 25th Street or to print here. Comfortable footwear is recommended. \n \nFor this program you will check in at the Gothic Arches\, right at the main entrance. Click here for our inclement weather policy. \n \nMobile users: Please tap here to buy tickets.\n \n\nNot a Member?\nClick here for all of our membership levels and information. \nAlready a Member?\nClick the “Enter promotional code here (members\, use your ID#)” link in the bottom right corner of the ticket box and enter your ID number to apply your ticket discount. Please note that the Senior\, Individual and Student membership levels are limited to only one Member Ticket per event (for additional tickets\, please purchase at the regular price). \nQuestions?\nDon’t know your Member ID number? Not sure which ticket or membership type to order? Call 718-210-3080 or email contactus@green-wood.com with any questions.
URL:https://www.green-wood.com/event/birding-peace-winter-2018-12-09/2019-01-27/
LOCATION:NY
CATEGORIES:Special Event
ATTACH;FMTTYPE=:
END:VEVENT
END:VCALENDAR