BEGIN:VCALENDAR
VERSION:2.0
PRODID:-//Green-Wood - ECPv6.15.20//NONSGML v1.0//EN
CALSCALE:GREGORIAN
METHOD:PUBLISH
X-WR-CALNAME:Green-Wood
X-ORIGINAL-URL:https://www.green-wood.com
X-WR-CALDESC:Events for Green-Wood
REFRESH-INTERVAL;VALUE=DURATION:PT1H
X-Robots-Tag:noindex
X-PUBLISHED-TTL:PT1H
BEGIN:VTIMEZONE
TZID:America/New_York
BEGIN:DAYLIGHT
TZOFFSETFROM:-0500
TZOFFSETTO:-0400
TZNAME:EDT
DTSTART:20170312T070000
END:DAYLIGHT
BEGIN:STANDARD
TZOFFSETFROM:-0400
TZOFFSETTO:-0500
TZNAME:EST
DTSTART:20171105T060000
END:STANDARD
BEGIN:DAYLIGHT
TZOFFSETFROM:-0500
TZOFFSETTO:-0400
TZNAME:EDT
DTSTART:20180311T070000
END:DAYLIGHT
BEGIN:STANDARD
TZOFFSETFROM:-0400
TZOFFSETTO:-0500
TZNAME:EST
DTSTART:20181104T060000
END:STANDARD
BEGIN:DAYLIGHT
TZOFFSETFROM:-0500
TZOFFSETTO:-0400
TZNAME:EDT
DTSTART:20190310T070000
END:DAYLIGHT
BEGIN:STANDARD
TZOFFSETFROM:-0400
TZOFFSETTO:-0500
TZNAME:EST
DTSTART:20191103T060000
END:STANDARD
END:VTIMEZONE
BEGIN:VEVENT
DTSTART;TZID=America/New_York:20181202T071500
DTEND;TZID=America/New_York:20181202T084500
DTSTAMP:20260422T033507
CREATED:20181120T001730Z
LAST-MODIFIED:20181120T001730Z
UID:10032875-1543734900-1543740300@www.green-wood.com
SUMMARY:Birding in Peace (Cancelled)
DESCRIPTION: \n\nThis date is cancelled due to weather forecast. \n \nJust because it’s winter\, doesn’t mean that there aren’t interesting birds to discover in Green-Wood. For some bird species that migrate south after the breeding season\, Brooklyn is their Miami during the cold months. Spend the early morning exploring the cemetery\, looking for overwintering waterfowl\, nuthatches\, woodpeckers\, sparrows\, finches and any half-hardy birds that decided to stick around. By February we’ll see some of the early north-bound birds beginning to trickle back into the area. \n \n$10 for members of Green-Wood and BHS / $15 for non-members \n \nGreen-Wood’s official birding checklist is available to pick up from the security guard at the main entrance on 25th Street or to print here. Comfortable footwear is recommended. \n \nFor this program you will check in at the Gothic Arches\, right at the main entrance. Click here for our inclement weather policy. \n \nMobile users: Please tap here to buy tickets.\n \n\nNot a Member?\nClick here for all of our membership levels and information. \nAlready a Member?\nClick the “Enter promotional code here (members\, use your ID#)” link in the bottom right corner of the ticket box and enter your ID number to apply your ticket discount. Please note that the Senior\, Individual and Student membership levels are limited to only one Member Ticket per event (for additional tickets\, please purchase at the regular price). \nQuestions?\nDon’t know your Member ID number? Not sure which ticket or membership type to order? Call 718-210-3080 or email contactus@green-wood.com with any questions.
URL:https://www.green-wood.com/event/birding-peace-winter/
LOCATION:NY
CATEGORIES:Special Event
ATTACH;FMTTYPE=:
END:VEVENT
BEGIN:VEVENT
DTSTART;TZID=America/New_York:20181209T071500
DTEND;TZID=America/New_York:20181209T084500
DTSTAMP:20260422T033507
CREATED:20181120T001730Z
LAST-MODIFIED:20181120T001730Z
UID:10032876-1544339700-1544345100@www.green-wood.com
SUMMARY:Birding in Peace
DESCRIPTION: \nJust because it’s winter\, doesn’t mean that there aren’t interesting birds to discover in Green-Wood. For some bird species that migrate south after the breeding season\, Brooklyn is their Miami during the cold months. Spend the early morning exploring the cemetery\, looking for overwintering waterfowl\, nuthatches\, woodpeckers\, sparrows\, finches and any half-hardy birds that decided to stick around. By February we’ll see some of the early north-bound birds beginning to trickle back into the area. \n \n$10 for members of Green-Wood and BHS / $15 for non-members \n \nGreen-Wood’s official birding checklist is available to pick up from the security guard at the main entrance on 25th Street or to print here. Comfortable footwear is recommended. \n \nFor this program you will check in at the Gothic Arches\, right at the main entrance. Click here for our inclement weather policy. \n \nMobile users: Please tap here to buy tickets.\n \n\nNot a Member?\nClick here for all of our membership levels and information. \nAlready a Member?\nClick the “Enter promotional code here (members\, use your ID#)” link in the bottom right corner of the ticket box and enter your ID number to apply your ticket discount. Please note that the Senior\, Individual and Student membership levels are limited to only one Member Ticket per event (for additional tickets\, please purchase at the regular price). \nQuestions?\nDon’t know your Member ID number? Not sure which ticket or membership type to order? Call 718-210-3080 or email contactus@green-wood.com with any questions.
URL:https://www.green-wood.com/event/birding-peace-winter-2018-12-09/2018-12-09/
LOCATION:NY
CATEGORIES:Special Event
ATTACH;FMTTYPE=:
END:VEVENT
BEGIN:VEVENT
DTSTART;TZID=America/New_York:20181209T153000
DTEND;TZID=America/New_York:20181209T170000
DTSTAMP:20260422T033507
CREATED:20181113T212121Z
LAST-MODIFIED:20181113T212121Z
UID:10032873-1544369400-1544374800@www.green-wood.com
SUMMARY:How to Talk to Kids About Death
DESCRIPTION: \nHow do we explain death and dying to our children? How much should they know and when? How can a pet’s death or a grandparent’s declining health be explained in a way that’s understandable? How can we engage their curiosity\, talents\, and emotions in funeral practices and traditions? Join funeral director and death educator Amy Cunningham and child and adolescent psychotherapist and registered play therapist Liana Smith-Murphy for an enlightening conversation on the best practices for discussing death with children. \n \nThis program is intended for parents with children of any age. \n \nFree to attend\, RSVP recommended. Please register using the Eventbrite box below. \n \nClick here for our inclement weather policy. \n \nThis program is presented in partnership with Park Slope Parents. \n \nMobile users: Please tap here for free registration.
URL:https://www.green-wood.com/event/how-to-talk-to-kids-about-death-dec/
LOCATION:Green-Wood Cemetery\, 500 25th Street\, Brooklyn\, NY\, 11232\, United States
CATEGORIES:Special Event
ATTACH;FMTTYPE=:
END:VEVENT
BEGIN:VEVENT
DTSTART;TZID=America/New_York:20181211T190000
DTEND;TZID=America/New_York:20181211T200000
DTSTAMP:20260422T033507
CREATED:20181121T203816Z
LAST-MODIFIED:20181121T203816Z
UID:10032882-1544554800-1544558400@www.green-wood.com
SUMMARY:At the Holidays: Grieving and Memorializing Loved Ones
DESCRIPTION: \nThe holidays are a particularly difficult time for the family and friends of departed loved ones. How can they grieve and memorialize when the season is filled with so much cheer? Yes\, grief can intensify at the end of the year\, but all is not lost. Join death educator Amy Cunningham to learn about a myriad of unique keepsakes and tributes that can be created in a loved one’s honor\, whether they come in the form of textiles\, artwork\, charitable donations\, or rituals at the dinner table. Amy will also explore how digital platforms can provide an ideal space for sharing stories and memories that are easily accessible on the web. Discover what might feel right for you and your family. \n \nFree to attend\, RSVP recommended. Please register using the Eventbrite box below. \n \nThis program takes place in our Modern Chapel just to the right after passing through the Gothic Arches at the main entrance.  \n \nAll events will take place rain or shine. Click here for our inclement weather policy. \n \n \nMobile users: Please tap here for free registration.\n 
URL:https://www.green-wood.com/event/at-the-holidays-grieving-and-memorializing-loved-ones/
LOCATION:Green-Wood Cemetery\, 500 25th Street\, Brooklyn\, NY\, 11232\, United States
CATEGORIES:Special Event
ATTACH;FMTTYPE=:
END:VEVENT
BEGIN:VEVENT
DTSTART;TZID=America/New_York:20181215T110000
DTEND;TZID=America/New_York:20181215T130000
DTSTAMP:20260422T033507
CREATED:20180802T193207Z
LAST-MODIFIED:20180802T193207Z
UID:10032855-1544871600-1544878800@www.green-wood.com
SUMMARY: Mayhem\, Murder\, and Disaster
DESCRIPTION:Serene\, beautiful Green-Wood is the final resting place for victims who met of violent ends. Join veteran tour guide Ruth Edebohls to hear some of their fascinating\, and mostly tragic\, tales\, including the sinking of the SS Morro Castle and possible murder of her captain; the Malbone Street Wreck\, the deadliest accident in New York City subway history; Evelina Bliss\, whose poisoning by arsenic-laden clam chowder sent shock waves through the Gilded Age; the mass grave to the victims of the Brooklyn Theatre fire\, and many more.  \n \n$20 for members of Green-Wood and BHS / $25 for non-members \n \nGreen-Wood trolley tours are fully accessible and ADA compliant. In order to accommodate a wheelchair or other mobility device on the trolley\, advance arrangements must be made. Please call (718) 210-3080\, ext. 1. Please note that portions of the tour take place outside the trolley and may require exiting the vehicle on multiple occasions. Please contact the Historic Fund for more information. \n \nCheck-in will take place by the Gothic Arch at our Main Entrance at 5th Avenue and 25th Street. Trolley tours are run rain or shine\, with the exception of dangerous conditions as determined by Green-Wood. Click here for our inclement weather policy. \n \n \nMobile users: Please tap here to buy tickets.\n \n\nNot a Member?\nClick here for all of our membership levels and information. \nAlready a Member?\nClick the “Enter promotional code here (members\, use your ID#)” link in the bottom right corner of the ticket box and enter your ID number to apply your ticket discount. Please note that the Senior\, Individual and Student membership levels are limited to only one Member Ticket per event (for additional tickets\, please purchase at the regular price). \nQuestions?\nDon’t know your Member ID number? Not sure which ticket or membership type to order? Call 718-210-3080 or email contactus@green-wood.com with any questions.
URL:https://www.green-wood.com/event/mayhem-murder-disaster/
LOCATION:NY
CATEGORIES:Special Event,Trolley Tour
ATTACH;FMTTYPE=:
END:VEVENT
BEGIN:VEVENT
DTSTART;TZID=America/New_York:20181215T140000
DTEND;TZID=America/New_York:20181215T170000
DTSTAMP:20260422T033507
CREATED:20180723T161715Z
LAST-MODIFIED:20180723T161715Z
UID:10032806-1544882400-1544893200@www.green-wood.com
SUMMARY:Dead Distillers Trolley Tour
DESCRIPTION: \nGreen-Wood is teaming up with our friends at Kings County Distillery to delve into the storied past of distilling in Brooklyn. The afternoon kicks off with a trolley tour of the cemetery’s “permanent residents” with whiskey connections\, including the one and only casualty of the Brooklyn Whiskey Wars of the late 1860s and early 1870s. Afterward\, the trolley will head to Kings County Distillery in the Brooklyn Navy Yard where visitors will see first-hand how whiskey is made and enjoy a tasting of four delectable varieties. \n \nThis tour is based upon the newly published book “Dead Distillers: A History of the Upstarts and Outlaws who Made American Spirits” by Colin Spoelman\, co-founder and Master Distiller at Kings County Distillery. Copies of the book will be available for purchase at the distillery. \n \nYou must be 21 or older to participate in this tour; I.D. required. \n \n$35 for members of Green-Wood and BHS / $40 for non-members \n \nGreen-Wood trolley tours are fully accessible and ADA compliant. In order to accommodate a wheelchair or other mobility device on the trolley\, advance arrangements must be made. Please call (718) 210-3080\, ext. 1. Please note that portions of the tour take place outside the trolley and may require exiting the vehicle on multiple occasions. Please contact the Historic Fund for more information. \n \nFor this program you will check in at the Gothic Arches\, right at the main entrance. Trolley tours are run rain or shine\, with the exception of dangerous conditions as determined by Green-Wood. Click here for our inclement weather policy. \n \nMobile users: Please tap here to buy tickets.\n \n\nNot a Member?\nClick here for all of our membership levels and information. \nAlready a Member?\nClick the “Enter promotional code here (members\, use your ID#)” link in the bottom right corner of the ticket box and enter your ID number to apply your ticket discount. Please note that the Senior\, Individual and Student membership levels are limited to only one Member Ticket per event (for additional tickets\, please purchase at the regular price). \nQuestions?\nDon’t know your Member ID number? Not sure which ticket or membership type to order? Call 718-210-3080 or email contactus@green-wood.com with any questions.
URL:https://www.green-wood.com/event/dead-distillers-trolley-tours-fall18/2018-12-15/
LOCATION:NY
CATEGORIES:Special Event,Trolley Tour
ATTACH;FMTTYPE=:
END:VEVENT
BEGIN:VEVENT
DTSTART;TZID=America/New_York:20181217T183000
DTEND;TZID=America/New_York:20181217T200000
DTSTAMP:20260422T033507
CREATED:20170803T202556Z
LAST-MODIFIED:20170803T202556Z
UID:10032464-1545071400-1545076800@www.green-wood.com
SUMMARY:Death Café
DESCRIPTION:The Death Café is inspired by the centuries-old European salon (or café)\, an informal gathering to discuss philosophical\, political or scientific ideas. In 2011\, British entrepreneur Jon Underwood brought this concept to discussions of the most universal topic of all: death. Underwood’s intention was to provide an opportunity to “increase awareness of death with a view to helping people make the most of their lives.” Today\, there are over 4\,400 Death Cafes in 26 countries around the world. \nGreen-Wood is proud to host monthly gatherings of the Death Café here in our beautiful\, modern chapel. Amy Cunningham\, death educator and creator of the Brooklyn-based blog TheInspiredFuneral.com\, invites participants to share their thoughts and feelings on death. It’s an opportunity for safe and open exchanges\, without an agenda. Tea and light snacks are provided. \n“A place for people to discuss our inevitable fate.” – Gothamist \n“It’s a reversal for American culture\, which for a long time has shied away from these conversations.” – Village Voice \n“[E]ncouraging people to talk about death more freely and naturally.” – Haaretz \nFree to attend\, RSVP recommended. Please register using the Eventbrite box below. \nThis program takes place in our Modern Chapel just to the right after passing through the Gothic Arches at the main entrance. All events will take place rain or shine. Click here for our inclement weather policy. \n \nMobile users: Please tap here for free registration.\n 
URL:https://www.green-wood.com/event/death-cafe-fall/2018-12-17/
LOCATION:Green-Wood Cemetery\, 500 25th Street\, Brooklyn\, NY\, 11232\, United States
CATEGORIES:Special Event
ATTACH;FMTTYPE=:
END:VEVENT
END:VCALENDAR